| » Участники » Nazar » Поломки и прочие неприятности » Прохудилась трубка подключения смесителя |
Уважаемые друзья и участники проекта iXBT.photo! К сожалению, 1 марта 2026 года проект iXBT.photo прекратит свою работу и будет закрыт. Мы высоко ценим ваше участие и тот вклад, который вы внесли в развитие нашего сообщества. Пожалуйста, не забудьте сохранить ваши фотографии до этой даты.
С уважением, команда iXBT.com
| Прохудилась трубка подключения смесителя |
Прохудилась трубка подключения смесителя
Понадобилось временно отключить конец этой трубки со стороны смесителя. Для чего я ее немного разогнул. При этом со стороны вентиля она практически не сгибалась. Однако, видимо, был брак и он открылся при этом. Потому что после повторного подключения трубки начала капать вода. Только медленно. И я думал поначалу что течет с другого места.
Так продолжалось несколько дней. Далее капель усилилась. И, чуть позже, начала быть тонкая струя. Из отверстия в этой самой трубке! В итоге пришлось ее полностью снимать и ремонтировать. На фото отверстие возможно больше потому что я проверял его проходимость иглой. Чем было изначально.
При ремонте трубка была запаяна чистым оловом. С дополнительным прогревом газовой горелкой. В процессе повторного подключения пришлось один из ее концов сильно разогреть. Чтобы медь предварительно размякла. Потому что я слегка деформировал конус и плотного прилегания ответного конуса из латуни не происходило. Из-за чего подтекала вода. После отпускания трубки получилось ее плотно притянуть.
- Раздел: Хобби
- Дата съёмки: неизвестно
- Дата загрузки фото: 19.05.2025 22:20
- Оригинальная фотография: 2962 x 1741 (983 Кб)
- Технические характеристики:
- Фотоаппарат: HONOR ELI-NX9
- Выдержка: 0,0
- Гиперфокальное расстояние: inf m
- Диафрагма: 2,2
- Светочувствительность: 80
- Фокусное расстояние: 1,0 mm (35 mm equivalent: 27,0 mm)
- Полный EXIF
- Composite
- Aperture: 2,2
- CircleOfConfusion: 0,001 mm
- FocalLength35efl: 1,0 mm (35 mm equivalent: 27,0 mm)
- FOV: 67,0 deg
- HyperfocalDistance: inf m
- Megapixels: 5,2
- ScaleFactor35efl: 27,0
- ShutterSpeed: 0,0
- ExifIFD
- ApertureValue: 2,0
- BrightnessValue: 3,32
- ColorSpace: sRGB
- CreateDate: 2025:05:18 08:31:49
- DateTimeOriginal: 2025:05:18 08:31:49
- ExposureCompensation: 0
- ExposureMode: Auto
- ExposureProgram: Program AE
- ExposureTime: 0,0
- Flash: Off, Did not fire
- FNumber: 2,2
- FocalLength: 1,0 mm
- FocalLengthIn35mmFormat: 27 mm
- ISO: 80
- LightSource: Other
- MaxApertureValue: 2,0
- MeteringMode: Center-weighted average
- SceneCaptureType: Standard
- SceneType: Directly photographed
- SensingMethod: Not defined
- ShutterSpeedValue: 1/64
- WhiteBalance: Auto
- ICC-header
- ICC-meas
- ICC-view
- IFD0
- Make: HONOR
- Model: ELI-NX9
- ModifyDate: 2025:05:19 22:07:57
- Orientation: Horizontal (normal)
- IFD1
- IPTC
- DateCreated: 2025:05:18
- System
- XMP-crs
- AlreadyApplied: True
- AutoLateralCA: 0
- AutoWhiteVersion: 134348800
- Blacks2012: 0
- BlueHue: 0
- BlueSaturation: 0
- CameraProfile: Embedded
- Clarity2012: 0
- ColorNoiseReduction: 0
- Contrast2012: 0
- ConvertToGrayscale: False
- CropAngle: -3.2
- CropBottom: 0.725988
- CropConstrainToWarp: 0
- CropLeft: 0.03138
- CropRight: 0.79511
- CropTop: 0.201706
- DefringeGreenAmount: 0
- DefringeGreenHueHi: 60
- DefringeGreenHueLo: 40
- DefringePurpleAmount: 0
- DefringePurpleHueHi: 70
- DefringePurpleHueLo: 30
- Dehaze: 0
- Exposure2012: +0.50
- GrainAmount: 0
- GreenHue: 0
- GreenSaturation: 0
- HasCrop: True
- HasSettings: True
- Highlights2012: 0
- HueAdjustmentAqua: 0
- HueAdjustmentBlue: 0
- HueAdjustmentGreen: 0
- HueAdjustmentMagenta: 0
- HueAdjustmentOrange: 0
- HueAdjustmentPurple: 0
- HueAdjustmentRed: 0
- HueAdjustmentYellow: 0
- IncrementalTemperature: 0
- IncrementalTint: 0
- LensManualDistortionAmount: 0
- LensProfileEnable: 0
- LensProfileSetup: LensDefaults
- LuminanceAdjustmentAqua: 0
- LuminanceAdjustmentBlue: 0
- LuminanceAdjustmentGreen: 0
- LuminanceAdjustmentMagenta: 0
- LuminanceAdjustmentOrange: 0
- LuminanceAdjustmentPurple: 0
- LuminanceAdjustmentRed: 0
- LuminanceAdjustmentYellow: 0
- LuminanceSmoothing: 0
- ParametricDarks: 0
- ParametricHighlights: 0
- ParametricHighlightSplit: 75
- ParametricLights: 0
- ParametricMidtoneSplit: 50
- ParametricShadows: 0
- ParametricShadowSplit: 25
- PerspectiveAspect: 0
- PerspectiveHorizontal: 0
- PerspectiveRotate: 0.0
- PerspectiveScale: 100
- PerspectiveUpright: 0
- PerspectiveVertical: 0
- PerspectiveX: 0.00
- PerspectiveY: 0.00
- PostCropVignetteAmount: 0
- ProcessVersion: 6.7
- RedHue: 0
- RedSaturation: 0
- Saturation: 0
- SaturationAdjustmentAqua: 0
- SaturationAdjustmentBlue: 0
- SaturationAdjustmentGreen: 0
- SaturationAdjustmentMagenta: 0
- SaturationAdjustmentOrange: 0
- SaturationAdjustmentPurple: 0
- SaturationAdjustmentRed: 0
- SaturationAdjustmentYellow: 0
- Shadows2012: 0
- ShadowTint: 0
- SharpenDetail: 25
- SharpenEdgeMasking: 0
- SharpenRadius: +1.0
- Sharpness: 0
- SplitToningBalance: 0
- SplitToningHighlightHue: 0
- SplitToningHighlightSaturation: 0
- SplitToningShadowHue: 0
- SplitToningShadowSaturation: 0
- ToneCurve: 0, 0, 255, 255
- ToneCurveBlue: 0, 0, 255, 255
- ToneCurveGreen: 0, 0, 255, 255
- ToneCurveName: Linear
- ToneCurveName2012: Linear
- ToneCurvePV2012: 0, 0, 255, 255
- ToneCurvePV2012Blue: 0, 0, 255, 255
- ToneCurvePV2012Green: 0, 0, 255, 255
- ToneCurvePV2012Red: 0, 0, 255, 255
- ToneCurveRed: 0, 0, 255, 255
- ToneMapStrength: 0
- Version: 9.7
- Vibrance: 0
- VignetteAmount: 0
- WhiteBalance: As Shot
- Whites2012: 0
- XMP-dc
- XMP-xmp
- CreateDate: 2025:05:18 08:31:49.261000
- ModifyDate: 2025:05:19 22:07:57+03:00
- XMP-xmpMM
- Просмотров: 366
- Рейтинг: голосов еще нет
- Отзывов: 2
Получить код для блога
| Вставка фотографии в текущем разрешении |
Вставка миниатюры |
HTML (для вставки в блог):
BBCode (для вставки в форум):
Ссылка на фото:
Ссылка на миниатюру:
- Послать ссылку другу
| Комментарии к фотографии |