| » Участники » SVAM » РАЗНОЕ » DJI_20250607144304_0080_D копияW.jpg |
Уважаемые друзья и участники проекта iXBT.photo! К сожалению, 1 марта 2026 года проект iXBT.photo прекратит свою работу и будет закрыт. Мы высоко ценим ваше участие и тот вклад, который вы внесли в развитие нашего сообщества. Пожалуйста, не забудьте сохранить ваши фотографии до этой даты.
С уважением, команда iXBT.com
| DJI_20250607144304_0080_D копияW.jpg |
DJI_20250607144304_0080_D копияW.jpg
- Раздел: Отдых, развлечения
- Дата съёмки: неизвестно
- Дата загрузки фото: 07.06.2025 23:27
- Оригинальная фотография: 2000 x 1333 (480 Кб)
- Технические характеристики:
- Фотоаппарат: Hasselblad L3D-100c
- Выдержка: 0,0
- Гиперфокальное расстояние: inf m
- Диафрагма: 2,8
- Светочувствительность: 100
- Фокусное расстояние: 14,0 mm (35 mm equivalent: 28,0 mm)
- Экспокоррекция: -1
- Полный EXIF
- Adobe
- ColorTransform: YCbCr
- Composite
- Aperture: 2,8
- CircleOfConfusion: 0,015 mm
- FocalLength35efl: 14,0 mm (35 mm equivalent: 28,0 mm)
- FOV: 65,0 deg
- GPSAltitude: 145 m Above Sea Level
- GPSLatitude: 55 deg 37' 4,00" N
- GPSLongitude: 38 deg 9' 54,00" E
- GPSPosition: 55 deg 37' 4,00" N, 38 deg 9' 54,00" E
- HyperfocalDistance: inf m
- Megapixels: 2,7
- ScaleFactor35efl: 2,0
- ShutterSpeed: 0,0
- ExifIFD
- ApertureValue: 2,0
- ColorSpace: Uncalibrated
- Contrast: Normal
- CreateDate: 2025:06:07 14:43:04
- CustomRendered: Normal
- DateTimeOriginal: 2025:06:07 14:43:04
- DigitalZoomRatio: 1
- ExifImageHeight: 1333
- ExifImageWidth: 2000
- ExposureCompensation: -1
- ExposureMode: Manual
- ExposureProgram: Manual
- ExposureTime: 0,0
- Flash: No flash function
- FNumber: 2,8
- FocalLength: 14,0 mm
- FocalLengthIn35mmFormat: 28 mm
- GainControl: None
- ISO: 100
- LensInfo: 28mm f/2-11
- LensModel: 28.0 mm f/2.0
- LightSource: Unknown
- MaxApertureValue: 2,0
- MeteringMode: Spot
- RecommendedExposureIndex: 100
- Saturation: Normal
- SceneCaptureType: Standard
- SceneType: Directly photographed
- SensitivityType: Recommended Exposure Index
- SerialNumber: 75MQN3F7AF0B9U
- Sharpness: Normal
- ShutterSpeedValue: 1/64
- SubjectDistance: 0 m
- WhiteBalance: Manual
- GPS
- GPSAltitude: 145,199 m
- GPSAltitudeRef: Above Sea Level
- GPSLatitude: 55 deg 37' 4,00"
- GPSLatitudeRef: North
- GPSLongitude: 38 deg 9' 54,00"
- GPSLongitudeRef: East
- GPSMapDatum: WGS-84
- GPSStatus: Measurement Active
- GPSVersionID: 2.3.0.0
- ICC-header
- IFD0
- ImageDescription: default
- Make: Hasselblad
- Model: L3D-100c
- ModifyDate: 2025:06:07 23:12:30
- Orientation: Horizontal (normal)
- IFD1
- IPTC
- Caption-Abstract: default
- DateCreated: 2025:06:07
- System
- XMP-aux
- ApproximateFocusDistance: 0
- DistortionCorrectionAlreadyApplied: True
- LateralChromaticAberrationCorrectionAlreadyApplied: True
- Lens: 28.0 mm f/2.0
- XMP-crs
- AlreadyApplied: True
- AutoLateralCA: 0
- Blacks2012: +74
- BlueHue: 0
- BlueSaturation: 0
- CameraProfile: Embedded
- Clarity2012: 0
- ColorGradeBlending: 50
- ColorGradeGlobalHue: 0
- ColorGradeGlobalLum: 0
- ColorGradeGlobalSat: 0
- ColorGradeHighlightLum: 0
- ColorGradeMidtoneHue: 0
- ColorGradeMidtoneLum: 0
- ColorGradeMidtoneSat: 0
- ColorGradeShadowLum: 0
- ColorNoiseReduction: 25
- ColorNoiseReductionDetail: 50
- ColorNoiseReductionSmoothness: 50
- ColorTemperature: 4850
- CompatibleVersion: 285212672
- Contrast2012: 0
- ConvertToGrayscale: False
- DefringeGreenAmount: 0
- DefringeGreenHueHi: 60
- DefringeGreenHueLo: 40
- DefringePurpleAmount: 0
- DefringePurpleHueHi: 70
- DefringePurpleHueLo: 30
- Dehaze: 0
- Exposure2012: 0.00
- FilterListFiltersCompressedSettings: 33C1048570CF98F52073C7BA05DD0582
- FilterListFiltersDstBoundsBottom: 8192
- FilterListFiltersDstBoundsLeft: 0
- FilterListFiltersDstBoundsRight: 12288
- FilterListFiltersDstBoundsTop: 0
- FilterListFiltersDstDefaultCropAreaBottom: 8192
- FilterListFiltersDstDefaultCropAreaLeft: 0
- FilterListFiltersDstDefaultCropAreaRight: 12288
- FilterListFiltersDstDefaultCropAreaTop: 0
- FilterListFiltersFilterID: 1
- FilterListFiltersImagesBlendType: 0
- FilterListFiltersImagesBlendWhiteBalanceMode: 0
- FilterListFiltersImagesColorVariationsBlackLevelsBlack: 5278,65535
- FilterListFiltersImagesColorVariationsImageGroupPixelType: 3
- FilterListFiltersImagesColorVariationsImageGroupPlanes: 3
- FilterListFiltersImagesColorVariationsImageGroupSizeX: 12288
- FilterListFiltersImagesColorVariationsImageGroupSizeY: 8192
- FilterListFiltersImagesColorVariationsImageGroupStage3X: 12288
- FilterListFiltersImagesColorVariationsImageGroupStage3Y: 8192
- FilterListFiltersImagesColorVariationsLinearizationMapPolynomial: 0, 0, 0265890127047896, 0, 0, 398835186846554, 0, 000457270070910454, 0, 0624714205041528, 0, 0, 937071309424937, 0, 0, 0521879540756345, 0, 0, 782819312997162
- FilterListFiltersImagesMatrixTypeA: 0
- FilterListFiltersImagesMatrixTypeB: 0
- FilterListFiltersImagesMatrixTypeC: 0
- FilterListFiltersImagesOpacity: 1,1
- FilterListFiltersImagesReferenceDefaultCropAreaBottom: 8192
- FilterListFiltersImagesReferenceDefaultCropAreaLeft: 0
- FilterListFiltersImagesReferenceDefaultCropAreaRight: 12288
- FilterListFiltersImagesReferenceDefaultCropAreaTop: 0
- FilterListFiltersImagesReferenceImageAreaBottom: 8192
- FilterListFiltersImagesReferenceImageAreaLeft: 0
- FilterListFiltersImagesReferenceImageAreaRight: 12288
- FilterListFiltersImagesReferenceImageAreaTop: 0
- FilterListFiltersMinDisplayVersion: 285212672
- FilterListFiltersMinEditVersion: 285212672
- FilterListFiltersName: Enhance
- FilterListFiltersOrderIndexD: 1
- FilterListFiltersOrderIndexN: 100000
- FilterListFiltersSrcBoundsBottom: 8192
- FilterListFiltersSrcBoundsLeft: 0
- FilterListFiltersSrcBoundsRight: 12288
- FilterListFiltersSrcBoundsTop: 0
- FilterListFiltersSrcDefaultCropAreaBottom: 8192
- FilterListFiltersSrcDefaultCropAreaLeft: 0
- FilterListFiltersSrcDefaultCropAreaRight: 12288
- FilterListFiltersSrcDefaultCropAreaTop: 0
- FilterListFiltersTitle: $$$/CRaw/Filter/Title/RawDetails=Raw Details
- GrainAmount: 0
- GreenHue: 0
- GreenSaturation: 0
- HasCrop: False
- HasSettings: True
- HDREditMode: 0
- Highlights2012: 0
- HueAdjustmentAqua: 0
- HueAdjustmentBlue: 0
- HueAdjustmentGreen: 0
- HueAdjustmentMagenta: 0
- HueAdjustmentOrange: 0
- HueAdjustmentPurple: 0
- HueAdjustmentRed: 0
- HueAdjustmentYellow: 0
- LensManualDistortionAmount: 0
- LensProfileEnable: 0
- LuminanceAdjustmentAqua: 0
- LuminanceAdjustmentBlue: 0
- LuminanceAdjustmentGreen: 0
- LuminanceAdjustmentMagenta: 0
- LuminanceAdjustmentOrange: 0
- LuminanceAdjustmentPurple: 0
- LuminanceAdjustmentRed: 0
- LuminanceAdjustmentYellow: 0
- LuminanceSmoothing: 0
- OverrideLookVignette: False
- ParametricDarks: 0
- ParametricHighlights: 0
- ParametricHighlightSplit: 75
- ParametricLights: 0
- ParametricMidtoneSplit: 50
- ParametricShadows: 0
- ParametricShadowSplit: 25
- PerspectiveAspect: 0
- PerspectiveHorizontal: 0
- PerspectiveRotate: 0.0
- PerspectiveScale: 100
- PerspectiveUpright: 0
- PerspectiveVertical: 0
- PerspectiveX: 0.00
- PerspectiveY: 0.00
- PointColors: -1.000000, -1.000000, -1.000000, -1.000000, -1.000000, -1.000000, -1.000000, -1.000000, -1.000000, -1.000000, -1.000000, -1.000000, -1.000000, -1.000000, -1.000000, -1.000000, -1.000000, -1.000000, -1.000000
- PostCropVignetteAmount: 0
- ProcessVersion: 15.4
- RedHue: 0
- RedSaturation: 0
- Saturation: 0
- SaturationAdjustmentAqua: 0
- SaturationAdjustmentBlue: 0
- SaturationAdjustmentGreen: 0
- SaturationAdjustmentMagenta: 0
- SaturationAdjustmentOrange: 0
- SaturationAdjustmentPurple: 0
- SaturationAdjustmentRed: 0
- SaturationAdjustmentYellow: 0
- Shadows2012: 0
- ShadowTint: 0
- SharpenDetail: 25
- SharpenEdgeMasking: 0
- SharpenRadius: +1.0
- Sharpness: 40
- SplitToningBalance: 0
- SplitToningHighlightHue: 0
- SplitToningHighlightSaturation: 0
- SplitToningShadowHue: 0
- SplitToningShadowSaturation: 0
- Texture: 0
- Tint: -4
- ToneCurveName2012: Linear
- ToneCurvePV2012: 0, 0, 255, 255
- ToneCurvePV2012Blue: 0, 0, 255, 255
- ToneCurvePV2012Green: 0, 0, 255, 255
- ToneCurvePV2012Red: 0, 0, 255, 255
- Version: 17.2
- Vibrance: 0
- VignetteAmount: 0
- WhiteBalance: As Shot
- Whites2012: 0
- XMP-dc
- Description: default
- Format: image/jpeg
- XMP-drone-dji
- AbsoluteAltitude: +145.199
- AltitudeType: GpsFusionAlt
- CameraSerialNumber: 75MQN3F7AF0B9U
- CamReverse: 0
- FlightPitchDegree: -15.40
- FlightRollDegree: -1.10
- FlightXSpeed: 0.0
- FlightYawDegree: +77.50
- FlightYSpeed: 0.0
- FlightZSpeed: 0.0
- GimbalPitchDegree: +19.30
- GimbalReverse: 0
- GimbalRollDegree: +0.00
- GimbalYawDegree: +161.10
- GpsLatitude: +55.618005208
- GpsLongitude: +38.165066629
- GpsStatus: Normal
- LensInfinitePosition: 197
- LensPosition: 348
- LensTemperature: 34.800000
- ProductName: Mavic4 Cine
- RelativeAltitude: +0.000
- SelectAngle:
- SelfData:
- SensorFPS: 15
- SensorTemperature: 38.0
- ShutterType: Electronic
- SurveyingMode: 0
- Version: 1.6
- WhiteBalanceCCT: 5400
- XMP-xmp
- CreatorTool: 10.00.05.76
- ModifyDate: 2025:06:07 23:12:30+03:00
- XMP-xmpMM
- Просмотров: 57
- Рейтинг: голосов еще нет
- Отзывов: 0
Получить код для блога
| Вставка фотографии в текущем разрешении |
Вставка миниатюры |
HTML (для вставки в блог):
BBCode (для вставки в форум):
Ссылка на фото:
Ссылка на миниатюру:
- Послать ссылку другу
| Комментарии к фотографии |