| » Участники » SVAM » РАЗНОЕ » DJI_20250607150236_0125_D копияW.jpg |
Уважаемые друзья и участники проекта iXBT.photo! К сожалению, 1 марта 2026 года проект iXBT.photo прекратит свою работу и будет закрыт. Мы высоко ценим ваше участие и тот вклад, который вы внесли в развитие нашего сообщества. Пожалуйста, не забудьте сохранить ваши фотографии до этой даты.
С уважением, команда iXBT.com
| DJI_20250607150236_0125_D копияW.jpg |
DJI_20250607150236_0125_D копияW.jpg
- Раздел: Отдых, развлечения
- Дата съёмки: неизвестно
- Дата загрузки фото: 07.06.2025 23:29
- Оригинальная фотография: 2000 x 1500 (671 Кб)
- Технические характеристики:
- Фотоаппарат: DJI FC9284
- Выдержка: 0,0
- Гиперфокальное расстояние: inf m
- Диафрагма: 2,8
- Светочувствительность: 200
- Фокусное расстояние: 19,0 mm (35 mm equivalent: 57,0 mm)
- Полный EXIF
- Adobe
- ColorTransform: YCbCr
- Composite
- Aperture: 2,8
- CircleOfConfusion: 0,008 mm
- FocalLength35efl: 19,0 mm (35 mm equivalent: 57,0 mm)
- FOV: 35,0 deg
- GPSAltitude: 144 m Above Sea Level
- GPSLatitude: 270 deg 8' 57,00" N
- GPSLongitude: 2525 deg 11' 47,00" E
- GPSPosition: 270 deg 8' 57,00" N, 2525 deg 11' 47,00" E
- HyperfocalDistance: inf m
- Megapixels: 3,0
- ScaleFactor35efl: 3,7
- ShutterSpeed: 0,0
- ExifIFD
- ApertureValue: 2,0
- ColorSpace: Uncalibrated
- Contrast: Normal
- CreateDate: 2025:06:07 15:02:36
- CustomRendered: Normal
- DateTimeOriginal: 2025:06:07 15:02:36
- DigitalZoomRatio: 1
- ExifImageHeight: 1500
- ExifImageWidth: 2000
- ExposureCompensation: 0
- ExposureMode: Manual
- ExposureProgram: Manual
- ExposureTime: 0,0
- Flash: No flash function
- FNumber: 2,8
- FocalLength: 19,0 mm
- FocalLengthIn35mmFormat: 70 mm
- GainControl: None
- ISO: 200
- LensInfo: 70mm f/2.8
- LensModel: 70.0 mm f/2.8
- LightSource: Unknown
- MaxApertureValue: 2,0
- MeteringMode: Average
- RecommendedExposureIndex: 200
- Saturation: Normal
- SceneCaptureType: Standard
- SceneType: Directly photographed
- SensitivityType: Recommended Exposure Index
- SerialNumber: 87VQN1H2A109HG
- Sharpness: Normal
- ShutterSpeedValue: 1/256
- SubjectDistance: 0 m
- WhiteBalance: Manual
- GPS
- GPSAltitude: 144,322 m
- GPSAltitudeRef: Above Sea Level
- GPSLatitude: 270 deg 8' 57,00"
- GPSLatitudeRef: North
- GPSLongitude: 2525 deg 11' 47,00"
- GPSLongitudeRef: East
- GPSMapDatum: WGS-84
- GPSStatus: Measurement Active
- GPSVersionID: 2.3.0.0
- ICC-header
- IFD0
- ImageDescription: default
- Make: DJI
- Model: FC9284
- ModifyDate: 2025:06:07 23:22:51
- Orientation: Horizontal (normal)
- IFD1
- IPTC
- Caption-Abstract: default
- DateCreated: 2025:06:07
- System
- XMP-aux
- ApproximateFocusDistance: 0
- Lens: 70.0 mm f/2.8
- XMP-crs
- AlreadyApplied: True
- AutoLateralCA: 0
- Blacks2012: +29
- BlueHue: 0
- BlueSaturation: 0
- CameraProfile: Embedded
- Clarity2012: 0
- ColorGradeBlending: 50
- ColorGradeGlobalHue: 0
- ColorGradeGlobalLum: 0
- ColorGradeGlobalSat: 0
- ColorGradeHighlightLum: 0
- ColorGradeMidtoneHue: 0
- ColorGradeMidtoneLum: 0
- ColorGradeMidtoneSat: 0
- ColorGradeShadowLum: 0
- ColorNoiseReduction: 0
- ColorTemperature: 5100
- CompatibleVersion: 285212672
- Contrast2012: -71
- ConvertToGrayscale: False
- DefringeGreenAmount: 0
- DefringeGreenHueHi: 60
- DefringeGreenHueLo: 40
- DefringePurpleAmount: 0
- DefringePurpleHueHi: 70
- DefringePurpleHueLo: 30
- Dehaze: 0
- Exposure2012: +0.65
- FilterListFiltersCompressedSettings: 0DA5471E2D7C6364EFB8266EED12326C
- FilterListFiltersDstBoundsBottom: 6048
- FilterListFiltersDstBoundsLeft: 0
- FilterListFiltersDstBoundsRight: 8064
- FilterListFiltersDstBoundsTop: 0
- FilterListFiltersDstDefaultCropAreaBottom: 6044
- FilterListFiltersDstDefaultCropAreaLeft: 4
- FilterListFiltersDstDefaultCropAreaRight: 8060
- FilterListFiltersDstDefaultCropAreaTop: 4
- FilterListFiltersFilterID: 1
- FilterListFiltersImagesBlendParams: 0,700000000186265, 0,75, 1, 1
- FilterListFiltersImagesBlendType: 1
- FilterListFiltersImagesBlendWhiteBalanceMode: 2
- FilterListFiltersImagesColorVariationsBlackLevelsBlack: 0,1
- FilterListFiltersImagesColorVariationsImageGroupPixelType: 3
- FilterListFiltersImagesColorVariationsImageGroupPlanes: 3
- FilterListFiltersImagesColorVariationsImageGroupSizeX: 8064
- FilterListFiltersImagesColorVariationsImageGroupSizeY: 6048
- FilterListFiltersImagesColorVariationsImageGroupStage3X: 8056
- FilterListFiltersImagesColorVariationsImageGroupStage3Y: 6040
- FilterListFiltersImagesColorVariationsLinearizationMapPolynomial: 0, 000325547531247139, 0, 0174055909737945, 0, 0, 26108386926353, 0, 000716203823685646, 0, 0359048182144761, 0, 0, 538572271354496, 0, 000227883458137512, 0, 0226601287722588, 0, 0, 339901928789914
- FilterListFiltersImagesMatrixParamsA: 0,25, 0,25
- FilterListFiltersImagesMatrixParamsB: 0,25, 0,25
- FilterListFiltersImagesMatrixTypeA: 1
- FilterListFiltersImagesMatrixTypeB: 1
- FilterListFiltersImagesMatrixTypeC: 4
- FilterListFiltersImagesOpacity: 1,1
- FilterListFiltersImagesReferenceDefaultCropAreaBottom: 6044
- FilterListFiltersImagesReferenceDefaultCropAreaLeft: 4
- FilterListFiltersImagesReferenceDefaultCropAreaRight: 8060
- FilterListFiltersImagesReferenceDefaultCropAreaTop: 4
- FilterListFiltersImagesReferenceImageAreaBottom: 6048
- FilterListFiltersImagesReferenceImageAreaLeft: 0
- FilterListFiltersImagesReferenceImageAreaRight: 8064
- FilterListFiltersImagesReferenceImageAreaTop: 0
- FilterListFiltersMinDisplayVersion: 285212672
- FilterListFiltersMinEditVersion: 285212672
- FilterListFiltersName: Enhance
- FilterListFiltersOrderIndexD: 1
- FilterListFiltersOrderIndexN: 100000
- FilterListFiltersSrcBoundsBottom: 6048
- FilterListFiltersSrcBoundsLeft: 0
- FilterListFiltersSrcBoundsRight: 8064
- FilterListFiltersSrcBoundsTop: 0
- FilterListFiltersSrcDefaultCropAreaBottom: 6044
- FilterListFiltersSrcDefaultCropAreaLeft: 4
- FilterListFiltersSrcDefaultCropAreaRight: 8060
- FilterListFiltersSrcDefaultCropAreaTop: 4
- FilterListFiltersTitle: $$$/CRaw/Filter/Title/Denoise=Denoise
- GrainAmount: 0
- GreenHue: 0
- GreenSaturation: 0
- HasCrop: False
- HasSettings: True
- HDREditMode: 0
- Highlights2012: 0
- HueAdjustmentAqua: 0
- HueAdjustmentBlue: 0
- HueAdjustmentGreen: 0
- HueAdjustmentMagenta: 0
- HueAdjustmentOrange: 0
- HueAdjustmentPurple: 0
- HueAdjustmentRed: 0
- HueAdjustmentYellow: 0
- LensManualDistortionAmount: 0
- LensProfileEnable: 0
- LuminanceAdjustmentAqua: 0
- LuminanceAdjustmentBlue: 0
- LuminanceAdjustmentGreen: 0
- LuminanceAdjustmentMagenta: 0
- LuminanceAdjustmentOrange: 0
- LuminanceAdjustmentPurple: 0
- LuminanceAdjustmentRed: 0
- LuminanceAdjustmentYellow: 0
- LuminanceNoiseReductionContrast: 0
- LuminanceNoiseReductionDetail: 50
- LuminanceSmoothing: 27
- OverrideLookVignette: False
- ParametricDarks: -31
- ParametricHighlights: 0
- ParametricHighlightSplit: 75
- ParametricLights: 0
- ParametricMidtoneSplit: 50
- ParametricShadows: 0
- ParametricShadowSplit: 25
- PerspectiveAspect: 0
- PerspectiveHorizontal: 0
- PerspectiveRotate: 0.0
- PerspectiveScale: 100
- PerspectiveUpright: 0
- PerspectiveVertical: 0
- PerspectiveX: 0.00
- PerspectiveY: 0.00
- PointColors: -1.000000, -1.000000, -1.000000, -1.000000, -1.000000, -1.000000, -1.000000, -1.000000, -1.000000, -1.000000, -1.000000, -1.000000, -1.000000, -1.000000, -1.000000, -1.000000, -1.000000, -1.000000, -1.000000
- PostCropVignetteAmount: 0
- ProcessVersion: 15.4
- RedHue: 0
- RedSaturation: 0
- Saturation: 0
- SaturationAdjustmentAqua: 0
- SaturationAdjustmentBlue: 0
- SaturationAdjustmentGreen: 0
- SaturationAdjustmentMagenta: 0
- SaturationAdjustmentOrange: 0
- SaturationAdjustmentPurple: 0
- SaturationAdjustmentRed: 0
- SaturationAdjustmentYellow: 0
- Shadows2012: 0
- ShadowTint: 0
- SharpenDetail: 25
- SharpenEdgeMasking: 0
- SharpenRadius: +1.0
- Sharpness: 40
- SplitToningBalance: 0
- SplitToningHighlightHue: 0
- SplitToningHighlightSaturation: 0
- SplitToningShadowHue: 0
- SplitToningShadowSaturation: 0
- Texture: 0
- Tint: -4
- ToneCurveName2012: Linear
- ToneCurvePV2012: 0, 0, 255, 255
- ToneCurvePV2012Blue: 0, 0, 255, 255
- ToneCurvePV2012Green: 0, 0, 255, 255
- ToneCurvePV2012Red: 0, 0, 255, 255
- Version: 17.2
- Vibrance: 0
- VignetteAmount: 0
- WhiteBalance: As Shot
- Whites2012: 0
- XMP-dc
- Description: default
- Format: image/jpeg
- XMP-drone-dji
- AbsoluteAltitude: +144.322
- AltitudeType: GpsFusionAlt
- CameraSerialNumber: 87VQN1H2A109HG
- CamReverse: 0
- FlightPitchDegree: -7.60
- FlightRollDegree: -4.60
- FlightXSpeed: 0.0
- FlightYawDegree: +85.50
- FlightYSpeed: 0.0
- FlightZSpeed: 0.0
- GimbalPitchDegree: +3.00
- GimbalReverse: 0
- GimbalRollDegree: +0.00
- GimbalYawDegree: +164.90
- GpsLatitude: +55.617953885
- GpsLongitude: +38.164922294
- GpsStatus: Normal
- LensInfinitePosition: 406
- LensPosition: 454
- LensTemperature: 33.500000
- ProductName: Mavic4 Cine
- RelativeAltitude: +0.000
- SelectAngle:
- SelfData:
- SensorFPS: 15
- SensorTemperature: 36.0
- ShutterType: Electronic
- SurveyingMode: 0
- Version: 1.6
- WhiteBalanceCCT: 5400
- XMP-xmp
- CreatorTool: 10.00.05.76
- ModifyDate: 2025:06:07 23:22:51+03:00
- XMP-xmpMM
- Просмотров: 100
- Рейтинг: голосов еще нет
- Отзывов: 0
Получить код для блога
| Вставка фотографии в текущем разрешении |
Вставка миниатюры |
HTML (для вставки в блог):
BBCode (для вставки в форум):
Ссылка на фото:
Ссылка на миниатюру:
- Послать ссылку другу
| Комментарии к фотографии |