| » Участники » SVAM » РАЗНОЕ » B0006877 копия 2.jpg |
Уважаемые друзья и участники проекта iXBT.photo! К сожалению, 1 марта 2026 года проект iXBT.photo прекратит свою работу и будет закрыт. Мы высоко ценим ваше участие и тот вклад, который вы внесли в развитие нашего сообщества. Пожалуйста, не забудьте сохранить ваши фотографии до этой даты.
С уважением, команда iXBT.com
| B0006877 копия 2.jpg |
B0006877 копия 2.jpg
- Раздел: Отдых, развлечения
- Дата съёмки: неизвестно
- Дата загрузки фото: 09.08.2025 20:15
- Оригинальная фотография: 4000 x 3000 (982 Кб)
- Технические характеристики:
- Фотоаппарат: Hasselblad CFV 100C/Electronic Shutter
- Выдержка: 0,0
- Светочувствительность: 3200
- Полный EXIF
- Adobe
- ColorTransform: YCbCr
- Composite
- CircleOfConfusion: 0,013 mm
- Megapixels: 12,0
- ScaleFactor35efl: 2,3
- ShutterSpeed: 0,0
- ExifIFD
- ColorSpace: Uncalibrated
- DateTimeOriginal: 2025:08:09 14:54:53
- ExifImageHeight: 3000
- ExifImageWidth: 4000
- ExposureCompensation: 0
- ExposureProgram: Aperture-priority AE
- ExposureTime: 0,0
- Flash: No Flash
- ISO: 3200
- LensMake: Unknown
- LensModel: Unknown
- MaxApertureValue: 1,0
- MeteringMode: Center-weighted average
- SerialNumber: JT63000945
- ShutterSpeedValue: 1/128
- ICC-header
- IFD0
- BitsPerSample: 8 8 8
- ImageHeight: 8742
- ImageWidth: 11656
- Make: Hasselblad
- Model: CFV 100C/Electronic Shutter
- ModifyDate: 2025:08:09 20:03:41
- Orientation: Horizontal (normal)
- PhotometricInterpretation: RGB
- SamplesPerPixel: 3
- IFD1
- IPTC
- DateCreated: 2025:08:09
- System
- XMP-aux
- Lens: Unknown
- XMP-crs
- AllowFilters: 1
- AlreadyApplied: True
- AutoLateralCA: 0
- Blacks2012: 0
- BlueHue: 0
- BlueSaturation: 0
- CameraProfile: Camera Standard
- Clarity2012: 0
- ColorGradeBlending: 50
- ColorGradeGlobalHue: 0
- ColorGradeGlobalLum: 0
- ColorGradeGlobalSat: 0
- ColorGradeHighlightLum: 0
- ColorGradeMidtoneHue: 0
- ColorGradeMidtoneLum: 0
- ColorGradeMidtoneSat: 0
- ColorGradeShadowLum: 0
- ColorNoiseReduction: 0
- ColorTemperature: 4850
- CompatibleVersion: 285212672
- Contrast2012: 0
- ConvertToGrayscale: False
- DefringeGreenAmount: 0
- DefringeGreenHueHi: 60
- DefringeGreenHueLo: 40
- DefringePurpleAmount: 0
- DefringePurpleHueHi: 70
- DefringePurpleHueLo: 30
- Dehaze: 0
- Exposure2012: 0.00
- FilterListFiltersCompressedSettings: 0DA5471E2D7C6364EFB8266EED12326C
- FilterListFiltersDstBoundsBottom: 8750
- FilterListFiltersDstBoundsLeft: 0
- FilterListFiltersDstBoundsRight: 11664
- FilterListFiltersDstBoundsTop: 0
- FilterListFiltersDstDefaultCropAreaBottom: 8746
- FilterListFiltersDstDefaultCropAreaLeft: 4
- FilterListFiltersDstDefaultCropAreaRight: 11660
- FilterListFiltersDstDefaultCropAreaTop: 4
- FilterListFiltersFilterID: 1
- FilterListFiltersImagesBlendParams: 0,700000000186265, 0,75, 1, 1
- FilterListFiltersImagesBlendType: 1
- FilterListFiltersImagesBlendWhiteBalanceMode: 2
- FilterListFiltersImagesColorVariationsBlackLevelsBlack: 0,1
- FilterListFiltersImagesColorVariationsImageGroupPixelType: 3
- FilterListFiltersImagesColorVariationsImageGroupPlanes: 3
- FilterListFiltersImagesColorVariationsImageGroupSizeX: 11664
- FilterListFiltersImagesColorVariationsImageGroupSizeY: 8750
- FilterListFiltersImagesColorVariationsImageGroupStage3X: 11656
- FilterListFiltersImagesColorVariationsImageGroupStage3Y: 8742
- FilterListFiltersImagesColorVariationsLinearizationMapPolynomial: 0, 000848730094730854, 0, 0100256251171231, 0, 0, 150384376756847, 0, 00300319865345955, 0, 0378674427047372, 0, 0, 568011645227671, 0, 00155056454241276, 0, 0311530893668532, 0, 0, 467296345159411
- FilterListFiltersImagesMatrixParamsA: 0,25, 0,25
- FilterListFiltersImagesMatrixParamsB: 0,25, 0,25
- FilterListFiltersImagesMatrixTypeA: 1
- FilterListFiltersImagesMatrixTypeB: 1
- FilterListFiltersImagesMatrixTypeC: 4
- FilterListFiltersImagesOpacity: 1,1
- FilterListFiltersImagesReferenceDefaultCropAreaBottom: 8746
- FilterListFiltersImagesReferenceDefaultCropAreaLeft: 4
- FilterListFiltersImagesReferenceDefaultCropAreaRight: 11660
- FilterListFiltersImagesReferenceDefaultCropAreaTop: 4
- FilterListFiltersImagesReferenceImageAreaBottom: 8750
- FilterListFiltersImagesReferenceImageAreaLeft: 0
- FilterListFiltersImagesReferenceImageAreaRight: 11664
- FilterListFiltersImagesReferenceImageAreaTop: 0
- FilterListFiltersMinDisplayVersion: 285212672
- FilterListFiltersMinEditVersion: 285212672
- FilterListFiltersName: Enhance
- FilterListFiltersOrderIndexD: 1
- FilterListFiltersOrderIndexN: 100000
- FilterListFiltersShouldDeleteImagesDueToUpstream: true
- FilterListFiltersSrcBoundsBottom: 8750
- FilterListFiltersSrcBoundsLeft: 0
- FilterListFiltersSrcBoundsRight: 11664
- FilterListFiltersSrcBoundsTop: 0
- FilterListFiltersSrcDefaultCropAreaBottom: 8746
- FilterListFiltersSrcDefaultCropAreaLeft: 4
- FilterListFiltersSrcDefaultCropAreaRight: 11660
- FilterListFiltersSrcDefaultCropAreaTop: 4
- FilterListFiltersTitle: $$$/CRaw/Filter/Title/Denoise=Denoise
- GrainAmount: 0
- GreenHue: 0
- GreenSaturation: 0
- HasCrop: False
- HasSettings: True
- HDREditMode: 0
- Highlights2012: 0
- HueAdjustmentAqua: 0
- HueAdjustmentBlue: 0
- HueAdjustmentGreen: 0
- HueAdjustmentMagenta: 0
- HueAdjustmentOrange: 0
- HueAdjustmentPurple: 0
- HueAdjustmentRed: 0
- HueAdjustmentYellow: 0
- LensManualDistortionAmount: 0
- LensProfileEnable: 0
- LuminanceAdjustmentAqua: 0
- LuminanceAdjustmentBlue: 0
- LuminanceAdjustmentGreen: 0
- LuminanceAdjustmentMagenta: 0
- LuminanceAdjustmentOrange: 0
- LuminanceAdjustmentPurple: 0
- LuminanceAdjustmentRed: 0
- LuminanceAdjustmentYellow: 0
- LuminanceSmoothing: 0
- OverrideLookVignette: False
- ParametricDarks: -14
- ParametricHighlights: 0
- ParametricHighlightSplit: 75
- ParametricLights: +8
- ParametricMidtoneSplit: 50
- ParametricShadows: 0
- ParametricShadowSplit: 25
- PerspectiveAspect: 0
- PerspectiveHorizontal: 0
- PerspectiveRotate: 0.0
- PerspectiveScale: 100
- PerspectiveUpright: 0
- PerspectiveVertical: 0
- PerspectiveX: 0.00
- PerspectiveY: 0.00
- PointColors: -1.000000, -1.000000, -1.000000, -1.000000, -1.000000, -1.000000, -1.000000, -1.000000, -1.000000, -1.000000, -1.000000, -1.000000, -1.000000, -1.000000, -1.000000, -1.000000, -1.000000, -1.000000, -1.000000
- PostCropVignetteAmount: 0
- ProcessVersion: 15.4
- RedHue: 0
- RedSaturation: 0
- Saturation: 0
- SaturationAdjustmentAqua: 0
- SaturationAdjustmentBlue: 0
- SaturationAdjustmentGreen: 0
- SaturationAdjustmentMagenta: 0
- SaturationAdjustmentOrange: 0
- SaturationAdjustmentPurple: 0
- SaturationAdjustmentRed: 0
- SaturationAdjustmentYellow: 0
- Shadows2012: 0
- ShadowTint: 0
- SharpenDetail: 25
- SharpenEdgeMasking: 0
- SharpenRadius: +1.0
- Sharpness: 95
- SplitToningBalance: 0
- SplitToningHighlightHue: 0
- SplitToningHighlightSaturation: 0
- SplitToningShadowHue: 0
- SplitToningShadowSaturation: 0
- Texture: 0
- Tint: +2
- ToneCurveName2012: Linear
- ToneCurvePV2012: 0, 0, 255, 255
- ToneCurvePV2012Blue: 0, 0, 255, 255
- ToneCurvePV2012Green: 0, 0, 255, 255
- ToneCurvePV2012Red: 0, 0, 255, 255
- Version: 17.3.1
- Vibrance: 0
- VignetteAmount: 0
- WhiteBalance: As Shot
- Whites2012: 0
- XMP-dc
- XMP-exifEX
- XMP-xmp
- CreateDate: 2025:08:09 14:54:53
- CreatorTool: 4.0.0
- ModifyDate: 2025:08:09 20:03:41+03:00
- Rating: 0
- XMP-xmpMM
- Просмотров: 40
- Рейтинг: голосов еще нет
- Отзывов: 0
Получить код для блога
| Вставка фотографии в текущем разрешении |
Вставка миниатюры |
HTML (для вставки в блог):
BBCode (для вставки в форум):
Ссылка на фото:
Ссылка на миниатюру:
- Послать ссылку другу
| Комментарии к фотографии |