| » Участники » SVAM » РАЗНОЕ » IMG_5887 копия.jpg |
Уважаемые друзья и участники проекта iXBT.photo! К сожалению, 1 марта 2026 года проект iXBT.photo прекратит свою работу и будет закрыт. Мы высоко ценим ваше участие и тот вклад, который вы внесли в развитие нашего сообщества. Пожалуйста, не забудьте сохранить ваши фотографии до этой даты.
С уважением, команда iXBT.com
| IMG_5887 копия.jpg |
IMG_5887 копия.jpg
- Раздел: Отдых, развлечения
- Дата съёмки: неизвестно
- Дата загрузки фото: 21.08.2025 23:12
- Оригинальная фотография: 3024 x 4032 (1,0 Мб)
- Технические характеристики:
- Фотоаппарат: Apple iPhone 16 Pro Max
- Выдержка: 0,0
- Гиперфокальное расстояние: inf m
- Диафрагма: 1,8
- Светочувствительность: 64
- Фокусное расстояние: 6,0 mm (35 mm equivalent: 48,0 mm)
- Экспокоррекция: -1
- Полный EXIF
- Adobe
- ColorTransform: YCbCr
- Composite
- Aperture: 1,8
- CircleOfConfusion: 0,004 mm
- FocalLength35efl: 6,0 mm (35 mm equivalent: 48,0 mm)
- FOV: 41,0 deg
- GPSAltitude: 2 m Below Sea Level
- GPSDateTime: 2025:08:20 09:19:50Z
- GPSLatitude: 36 deg 50' 23,00" N
- GPSLongitude: 31 deg 6' 31,00" E
- GPSPosition: 36 deg 50' 23,00" N, 31 deg 6' 31,00" E
- HyperfocalDistance: inf m
- Megapixels: 12,2
- ScaleFactor35efl: 8,0
- ShutterSpeed: 0,0
- ExifIFD
- ApertureValue: 1,4
- BrightnessValue: 8,557117017
- ColorSpace: Uncalibrated
- CreateDate: 2025:08:20 12:19:51
- DateTimeOriginal: 2025:08:20 12:19:51
- ExifImageHeight: 4032
- ExifImageWidth: 3024
- ExposureCompensation: -1
- ExposureMode: Auto
- ExposureProgram: Program AE
- ExposureTime: 0,0
- Flash: Off, Did not fire
- FNumber: 1,8
- FocalLength: 6,0 mm
- FocalLengthIn35mmFormat: 48 mm
- ISO: 64
- LensInfo: 2.220000029-15.65999985mm f/1.779999971-2.8
- LensMake: Apple
- LensModel: iPhone 16 Pro Max back triple camera 6.765mm f/1.78
- MeteringMode: Spot
- SceneType: Directly photographed
- SensingMethod: One-chip color area
- ShutterSpeedValue: 1/4096
- SubjectArea: 2145 1584 371 374
- WhiteBalance: Auto
- GPS
- GPSAltitude: 2,190552728 m
- GPSAltitudeRef: Below Sea Level
- GPSDateStamp: 2025:08:20
- GPSDestBearing: 305,6120911
- GPSDestBearingRef: True North
- GPSHPositioningError: 11,80954098 m
- GPSImgDirection: 305,6120911
- GPSImgDirectionRef: True North
- GPSLatitude: 36 deg 50' 23,00"
- GPSLatitudeRef: North
- GPSLongitude: 31 deg 6' 31,00"
- GPSLongitudeRef: East
- GPSSpeed: 0,005553725542
- GPSSpeedRef: km/h
- GPSTimeStamp: 09:19:50
- ICC-header
- IFD0
- Make: Apple
- Model: iPhone 16 Pro Max
- ModifyDate: 2025:08:20 23:42:03
- Orientation: Horizontal (normal)
- IFD1
- IPTC
- DateCreated: 2025:08:20
- System
- XMP-aux
- Lens: iPhone 16 Pro Max back triple camera 6.765mm f/1.78
- LensInfo: 2.22000002861193-15.659999847383mm f/1.77999997138807-2.8
- XMP-crs
- AlreadyApplied: True
- AutoLateralCA: 0
- Blacks2012: 0
- BlueHue: 0
- BlueSaturation: 0
- CameraProfile: Apple Embedded Color Profile
- Clarity2012: 0
- ColorGradeBlending: 50
- ColorGradeGlobalHue: 0
- ColorGradeGlobalLum: 0
- ColorGradeGlobalSat: 0
- ColorGradeHighlightLum: 0
- ColorGradeMidtoneHue: 0
- ColorGradeMidtoneLum: 0
- ColorGradeMidtoneSat: 0
- ColorGradeShadowLum: 0
- ColorNoiseReduction: 25
- ColorNoiseReductionDetail: 50
- ColorNoiseReductionSmoothness: 50
- ColorTemperature: 4800
- Contrast2012: 0
- ConvertToGrayscale: False
- DefringeGreenAmount: 0
- DefringeGreenHueHi: 60
- DefringeGreenHueLo: 40
- DefringePurpleAmount: 0
- DefringePurpleHueHi: 70
- DefringePurpleHueLo: 30
- Dehaze: 0
- Exposure2012: 0.00
- GrainAmount: 0
- GreenHue: 0
- GreenSaturation: 0
- HasCrop: False
- HasSettings: True
- Highlights2012: 0
- HueAdjustmentAqua: 0
- HueAdjustmentBlue: 0
- HueAdjustmentGreen: 0
- HueAdjustmentMagenta: 0
- HueAdjustmentOrange: 0
- HueAdjustmentPurple: 0
- HueAdjustmentRed: 0
- HueAdjustmentYellow: 0
- LensManualDistortionAmount: 0
- LensProfileEnable: 0
- LuminanceAdjustmentAqua: 0
- LuminanceAdjustmentBlue: 0
- LuminanceAdjustmentGreen: 0
- LuminanceAdjustmentMagenta: 0
- LuminanceAdjustmentOrange: 0
- LuminanceAdjustmentPurple: 0
- LuminanceAdjustmentRed: 0
- LuminanceAdjustmentYellow: 0
- LuminanceSmoothing: 0
- OverrideLookVignette: False
- ParametricDarks: +56
- ParametricHighlights: 0
- ParametricHighlightSplit: 75
- ParametricLights: +58
- ParametricMidtoneSplit: 50
- ParametricShadows: +40
- ParametricShadowSplit: 25
- PerspectiveAspect: 0
- PerspectiveHorizontal: 0
- PerspectiveRotate: 0.0
- PerspectiveScale: 100
- PerspectiveUpright: 0
- PerspectiveVertical: 0
- PerspectiveX: 0.00
- PerspectiveY: 0.00
- PostCropVignetteAmount: 0
- ProcessVersion: 11.0
- RedHue: 0
- RedSaturation: 0
- Saturation: 0
- SaturationAdjustmentAqua: 0
- SaturationAdjustmentBlue: 0
- SaturationAdjustmentGreen: 0
- SaturationAdjustmentMagenta: 0
- SaturationAdjustmentOrange: 0
- SaturationAdjustmentPurple: 0
- SaturationAdjustmentRed: 0
- SaturationAdjustmentYellow: 0
- Shadows2012: 0
- ShadowTint: 0
- SharpenDetail: 25
- SharpenEdgeMasking: 0
- SharpenRadius: +1.0
- Sharpness: 40
- SplitToningBalance: 0
- SplitToningHighlightHue: 0
- SplitToningHighlightSaturation: 0
- SplitToningShadowHue: 0
- SplitToningShadowSaturation: 0
- Texture: 0
- Tint: +9
- ToneCurveName2012: Linear
- ToneCurvePV2012: 0, 0, 255, 255
- ToneCurvePV2012Blue: 0, 0, 255, 255
- ToneCurvePV2012Green: 0, 0, 255, 255
- ToneCurvePV2012Red: 0, 0, 255, 255
- Version: 14.5
- Vibrance: 0
- VignetteAmount: 0
- WhiteBalance: As Shot
- Whites2012: 0
- XMP-dc
- XMP-exifEX
- XMP-xmp
- CreatorTool: 18.6
- ModifyDate: 2025:08:20 23:42:03+03:00
- XMP-xmpMM
- Просмотров: 27
- Рейтинг: голосов еще нет
- Отзывов: 0
Получить код для блога
| Вставка фотографии в текущем разрешении |
Вставка миниатюры |
HTML (для вставки в блог):
BBCode (для вставки в форум):
Ссылка на фото:
Ссылка на миниатюру:
- Послать ссылку другу
| Комментарии к фотографии |