Уважаемые друзья и участники проекта iXBT.photo! К сожалению, 1 марта 2026 года проект iXBT.photo прекратит свою работу и будет закрыт. Мы высоко ценим ваше участие и тот вклад, который вы внесли в развитие нашего сообщества. Пожалуйста, не забудьте сохранить ваши фотографии до этой даты.
С уважением, команда iXBT.com
| DSCF0874.jpg |
DSCF0874.jpg
- Раздел: Макро
- Дата съёмки: 21.04.2008 21:41
- Дата загрузки фото: 21.04.2008 22:51
- Оригинальная фотография: 1024 x 683 (200 Кб)
- Технические характеристики:
- Фотоаппарат: FujiFilm FinePix S9500
- Выдержка: 1/80
- Гиперфокальное расстояние: 4,30 m
- Диафрагма: 5,6
- Светочувствительность: 200
- Фокусное расстояние: 10,0mm (35mm эквивалент: 72,3mm)
- Полный EXIF
- Adobe
- ColorTransform: YCbCr
- Composite
- Aperture: 5,6
- CircleOfConfusion: 0,004 mm
- FocalLength35efl: 10,0mm (35mm equivalent: 72,3mm)
- HyperfocalDistance: 4,30 m
- LightValue: 10,3
- ScaleFactor35efl: 7,2
- ShutterSpeed: 1/80
- ExifIFD
- ApertureValue: 5,6
- BrightnessValue: 5,33
- ColorSpace: Uncalibrated
- Contrast: Low
- CreateDate: 2008:04:12 13:37:19
- CustomRendered: Normal
- DateTimeOriginal: 2008:04:12 13:37:19
- ExifImageLength: 683
- ExifImageWidth: 1024
- ExposureCompensation: 0
- ExposureMode: Auto
- ExposureProgram: Aperture-priority AE
- ExposureTime: 1/80
- FNumber: 5,6
- Flash: Off
- FocalLength: 10,0mm
- ISO: 200
- LightSource: Unknown (0)
- MaxApertureValue: 2,8
- MeteringMode: Spot
- Saturation: Normal
- SceneCaptureType: Standard
- SceneType: Directly photographed
- SensingMethod: One-chip color area
- Sharpness: Soft
- ShutterSpeedValue: 1/80
- SubjectDistanceRange: Macro
- WhiteBalance: Auto
- ICC-header
- IFD0
- BitsPerSample: 8 8 8
- ImageHeight: 1959
- ImageWidth: 2939
- Make: FUJIFILM
- Model: FinePix S9500
- ModifyDate: 2008:04:21 21:41:16
- Orientation: Horizontal (normal)
- PhotometricInterpretation: RGB
- PlanarConfiguration: Chunky
- SamplesPerPixel: 3
- IFD1
- IPTC
- XMP-crs
- AlreadyApplied: True
- BlueHue: 0
- BlueSaturation: 0
- Brightness: +50
- CameraProfile: ACR 3.3
- ChromaticAberrationB: 0
- ChromaticAberrationR: 0
- Clarity: 19
- ColorNoiseReduction: 33
- Contrast: +43
- ConvertToGrayscale: False
- Defringe: 2
- Exposure: 0.00
- FillLight: 16
- GreenHue: 0
- GreenSaturation: 0
- HasCrop: False
- HasSettings: True
- HighlightRecovery: 18
- HueAdjustmentAqua: 0
- HueAdjustmentBlue: 0
- HueAdjustmentGreen: 0
- HueAdjustmentMagenta: 0
- HueAdjustmentOrange: 0
- HueAdjustmentPurple: 0
- HueAdjustmentRed: 0
- HueAdjustmentYellow: 0
- LuminanceAdjustmentAqua: 0
- LuminanceAdjustmentBlue: 0
- LuminanceAdjustmentGreen: 0
- LuminanceAdjustmentMagenta: 0
- LuminanceAdjustmentOrange: 0
- LuminanceAdjustmentPurple: 0
- LuminanceAdjustmentRed: 0
- LuminanceAdjustmentYellow: 0
- LuminanceSmoothing: 33
- ParametricDarks: -11
- ParametricHighlightSplit: 75
- ParametricHighlights: +18
- ParametricLights: +13
- ParametricMidtoneSplit: 50
- ParametricShadowSplit: 25
- ParametricShadows: -50
- RawFileName: DSCF0874.RAF
- RedHue: 0
- RedSaturation: 0
- Saturation: 0
- SaturationAdjustmentAqua: 0
- SaturationAdjustmentBlue: 0
- SaturationAdjustmentGreen: 0
- SaturationAdjustmentMagenta: 0
- SaturationAdjustmentOrange: 0
- SaturationAdjustmentPurple: 0
- SaturationAdjustmentRed: 0
- SaturationAdjustmentYellow: 0
- ShadowTint: 0
- Shadows: 5
- SharpenDetail: 20
- SharpenEdgeMasking: 0
- SharpenRadius: +0.9
- Sharpness: 15
- SplitToningBalance: 0
- SplitToningHighlightHue: 0
- SplitToningHighlightSaturation: 0
- SplitToningShadowHue: 0
- SplitToningShadowSaturation: 0
- Temperature: 4350
- Tint: +25
- ToneCurve: 0, 0, 32, 22, 64, 56, 128, 128, 192, 196, 255, 238
- ToneCurveName: Custom
- Version: 4.1
- Vibrance: 0
- VignetteAmount: -37
- VignetteMidpoint: 4
- WhiteBalance: As Shot
- XMP-dc
- XMP-exif
- ColorSpace: Unknown (-1)
- DateTimeDigitized: 2008:04:12 13:37:19+03:00
- DateTimeOriginal: 2008:04:12 13:37:19+03:00
- FlashFired: False
- FlashFunction: False
- FlashMode: Off
- FlashRedEyeMode: False
- FlashReturn: No return detection
- XMP-tiff
- BitsPerSample: 8, 8, 8
- XMP-xmp
- CreateDate: 2008:04:21 21:41:16+03:00
- ModifyDate: 2008:04:21 21:41:16+03:00
- Rating: 0
- XMP-xmpMM
- Просмотров: 253
- Рейтинг: голосов еще нет
- Отзывов: 0
Получить код для блога
| Вставка фотографии в текущем разрешении |
Вставка миниатюры |
HTML (для вставки в блог):
BBCode (для вставки в форум):
Ссылка на фото:
Ссылка на миниатюру:
- Послать ссылку другу
| Комментарии к фотографии |