| » Участники » kraevoi_pavel » макро » одним глазком copy.jpg |
Уважаемые друзья и участники проекта iXBT.photo! К сожалению, 1 марта 2026 года проект iXBT.photo прекратит свою работу и будет закрыт. Мы высоко ценим ваше участие и тот вклад, который вы внесли в развитие нашего сообщества. Пожалуйста, не забудьте сохранить ваши фотографии до этой даты.
С уважением, команда iXBT.com
| одним глазком copy.jpg |
одним глазком copy.jpg
- Раздел: Макро
- Дата съёмки: 23.04.2008 17:48
- Дата загрузки фото: 23.04.2008 18:53
- Оригинальная фотография: 1296 x 1944 (195 Кб)
- Технические характеристики:
- Фотоаппарат: FujiFilm FinePix S9500
- Выдержка: 1/80
- Гиперфокальное расстояние: 0,87 m
- Диафрагма: 5,6
- Светочувствительность: 100
- Фокусное расстояние: 6,2mm (35mm эквивалент: 23,6mm)
- Полный EXIF
- Adobe
- ColorTransform: YCbCr
- Composite
- Aperture: 5,6
- CircleOfConfusion: 0,008 mm
- FocalLength35efl: 6,2mm (35mm equivalent: 23,6mm)
- HyperfocalDistance: 0,87 m
- LightValue: 11,3
- ScaleFactor35efl: 3,8
- ShutterSpeed: 1/80
- ExifIFD
- ApertureValue: 5,6
- BrightnessValue: 6,28
- ColorSpace: sRGB
- Contrast: High
- CreateDate: 2008:04:23 11:01:42
- CustomRendered: Normal
- DateTimeOriginal: 2008:04:23 11:01:42
- ExifImageLength: 1944
- ExifImageWidth: 1296
- ExposureCompensation: 0
- ExposureMode: Auto
- ExposureProgram: Aperture-priority AE
- ExposureTime: 1/80
- FNumber: 5,6
- Flash: Off
- FocalLength: 6,2mm
- ISO: 100
- LightSource: Unknown (0)
- MaxApertureValue: 2,8
- MeteringMode: Multi-segment
- Saturation: High
- SceneCaptureType: Standard
- SceneType: Directly photographed
- SensingMethod: One-chip color area
- Sharpness: Hard
- ShutterSpeedValue: 1/80
- SubjectDistanceRange: Macro
- WhiteBalance: Auto
- ICC-header
- ICC-meas
- ICC-view
- IFD0
- Make: FUJIFILM
- Model: FinePix S9500
- ModifyDate: 2008:04:23 17:48:23
- Orientation: Horizontal (normal)
- TimeZoneOffset: 3 3
- IFD1
- IPTC
- XMP-crs
- AlreadyApplied: True
- BlueHue: 0
- BlueSaturation: 0
- Brightness: +50
- CameraProfile: ACR 3.3
- ChromaticAberrationB: +99
- ChromaticAberrationR: -65
- Clarity: 18
- ColorNoiseReduction: 25
- Contrast: +29
- ConvertToGrayscale: False
- Defringe: 0
- Exposure: 0.00
- FillLight: 14
- GreenHue: 0
- GreenSaturation: 0
- HasCrop: False
- HasSettings: True
- HighlightRecovery: 23
- HueAdjustmentAqua: 0
- HueAdjustmentBlue: 0
- HueAdjustmentGreen: 0
- HueAdjustmentMagenta: 0
- HueAdjustmentOrange: 0
- HueAdjustmentPurple: 0
- HueAdjustmentRed: +23
- HueAdjustmentYellow: 0
- LuminanceAdjustmentAqua: 0
- LuminanceAdjustmentBlue: 0
- LuminanceAdjustmentGreen: 0
- LuminanceAdjustmentMagenta: 0
- LuminanceAdjustmentOrange: 0
- LuminanceAdjustmentPurple: 0
- LuminanceAdjustmentRed: +22
- LuminanceAdjustmentYellow: 0
- LuminanceSmoothing: 14
- ParametricDarks: -14
- ParametricHighlightSplit: 75
- ParametricHighlights: +41
- ParametricLights: +28
- ParametricMidtoneSplit: 50
- ParametricShadowSplit: 25
- ParametricShadows: -43
- RawFileName: DSCF0997.RAF
- RedHue: 0
- RedSaturation: 0
- Saturation: +13
- SaturationAdjustmentAqua: 0
- SaturationAdjustmentBlue: 0
- SaturationAdjustmentGreen: 0
- SaturationAdjustmentMagenta: 0
- SaturationAdjustmentOrange: 0
- SaturationAdjustmentPurple: 0
- SaturationAdjustmentRed: +16
- SaturationAdjustmentYellow: 0
- ShadowTint: 0
- Shadows: 5
- SharpenDetail: 40
- SharpenEdgeMasking: 23
- SharpenRadius: +1.5
- Sharpness: 25
- SplitToningBalance: 0
- SplitToningHighlightHue: 27
- SplitToningHighlightSaturation: 10
- SplitToningShadowHue: 0
- SplitToningShadowSaturation: 0
- Temperature: 4550
- Tint: +8
- ToneCurve: 0, 0, 254, 248
- ToneCurveName: Custom
- Version: 4.1
- Vibrance: +18
- VignetteAmount: -90
- VignetteMidpoint: 1
- WhiteBalance: As Shot
- XMP-dc
- XMP-exif
- DateTimeDigitized: 2008:04:23 11:01:42+03:00
- DateTimeOriginal: 2008:04:23 11:01:42+03:00
- FlashFired: False
- FlashFunction: False
- FlashMode: Off
- FlashRedEyeMode: False
- FlashReturn: No return detection
- XMP-tiff
- BitsPerSample: 8, 8, 8
- ImageHeight: 1944
- ImageWidth: 1296
- PhotometricInterpretation: RGB
- PlanarConfiguration: Chunky
- SamplesPerPixel: 3
- XMP-xmp
- CreateDate: 2008:04:23 17:48:23+03:00
- ModifyDate: 2008:04:23 17:48:23+03:00
- Rating: 0
- XMP-xmpMM
- Просмотров: 269
- Рейтинг: голосов еще нет
- Отзывов: 0
Получить код для блога
| Вставка фотографии в текущем разрешении |
Вставка миниатюры |
HTML (для вставки в блог):
BBCode (для вставки в форум):
Ссылка на фото:
Ссылка на миниатюру:
- Послать ссылку другу
| Комментарии к фотографии |