- Раздел: Другое, разное
- Дата съёмки: 14.06.2008 11:37
- Дата загрузки фото: 08.07.2008 22:36
- Оригинальная фотография: 2592 x 3888 (874 Кб)
- Технические характеристики:
- Фотоаппарат: Canon EOS 400D DIGITAL
- Выдержка: 1/4000
- Гиперфокальное расстояние: 74,94 m
- Диафрагма: 1,8
- Светочувствительность: 200
- Фокусное расстояние: 50,0mm (35mm эквивалент: 81,1mm)
- Экспокоррекция: +1/2
- Полный EXIF
- Adobe
- ColorTransform: YCbCr
- Composite
- Aperture: 1,8
- CircleOfConfusion: 0,019 mm
- FocalLength35efl: 50,0mm (35mm equivalent: 81,1mm)
- HyperfocalDistance: 74,94 m
- LightValue: 12,7
- ScaleFactor35efl: 1,6
- ShutterSpeed: 1/4000
- ExifIFD
- ApertureValue: 1,8
- CreateDate: 2008:06:14 11:37:07
- CustomRendered: Normal
- DateTimeOriginal: 2008:06:14 11:37:07
- ExposureCompensation: +1/2
- ExposureMode: Auto
- ExposureProgram: Aperture-priority AE
- ExposureTime: 1/4000
- FNumber: 1,8
- Flash: Off
- FocalLength: 50,0mm
- ISO: 200
- MaxApertureValue: 1,4
- MeteringMode: Average
- SceneCaptureType: Standard
- ShutterSpeedValue: 1/4000
- WhiteBalance: Auto
- ICC-header
- ICC-meas
- ICC-view
- IFD0
- Artist: Alex Konstantin
- Make: Canon
- Model: Canon EOS 400D DIGITAL
- ModifyDate: 2008:07:03 23:11:02
- IPTC
- By-line: Alex Konstantin
- XMP-aux
- Firmware: 1.1.1
- FlashCompensation: -0,5
- ImageNumber: 96
- Lens: EF50mm f/1.4 USM
- LensInfo: 50/1 50/1 0/0 0/0
- OwnerName: Alex Konstantin
- SerialNumber: 1180612121
- XMP-crs
- AlreadyApplied: True
- BlueHue: 0
- BlueSaturation: 0
- Brightness: +33
- CameraProfile: ACR 2.4
- ChromaticAberrationB: 0
- ChromaticAberrationR: 0
- Clarity: 0
- ColorNoiseReduction: 0
- Contrast: +53
- ConvertToGrayscale: False
- Defringe: 0
- Exposure: 0.00
- FillLight: 0
- GreenHue: 0
- GreenSaturation: 0
- HasCrop: False
- HasSettings: True
- HighlightRecovery: 26
- HueAdjustmentAqua: 0
- HueAdjustmentBlue: 0
- HueAdjustmentGreen: 0
- HueAdjustmentMagenta: 0
- HueAdjustmentOrange: 0
- HueAdjustmentPurple: 0
- HueAdjustmentRed: 0
- HueAdjustmentYellow: 0
- LuminanceAdjustmentAqua: 0
- LuminanceAdjustmentBlue: 0
- LuminanceAdjustmentGreen: 0
- LuminanceAdjustmentMagenta: 0
- LuminanceAdjustmentOrange: 0
- LuminanceAdjustmentPurple: 0
- LuminanceAdjustmentRed: 0
- LuminanceAdjustmentYellow: 0
- LuminanceSmoothing: 0
- ParametricDarks: 0
- ParametricHighlightSplit: 75
- ParametricHighlights: -30
- ParametricLights: 0
- ParametricMidtoneSplit: 50
- ParametricShadowSplit: 25
- ParametricShadows: 0
- RedHue: 0
- RedSaturation: 0
- Saturation: 0
- SaturationAdjustmentAqua: 0
- SaturationAdjustmentBlue: 0
- SaturationAdjustmentGreen: 0
- SaturationAdjustmentMagenta: 0
- SaturationAdjustmentOrange: 0
- SaturationAdjustmentPurple: 0
- SaturationAdjustmentRed: 0
- SaturationAdjustmentYellow: 0
- ShadowTint: 0
- Shadows: 10
- SharpenDetail: 25
- SharpenEdgeMasking: 0
- SharpenRadius: +1.0
- Sharpness: 0
- SplitToningBalance: +85
- SplitToningHighlightHue: 0
- SplitToningHighlightSaturation: 0
- SplitToningShadowHue: 0
- SplitToningShadowSaturation: 0
- Temperature: 4700
- Tint: +30
- ToneCurve: 0, 0, 32, 22, 64, 56, 128, 128, 192, 196, 255, 255
- ToneCurveName: Medium Contrast
- Version: 1.0
- Vibrance: +15
- VignetteAmount: -20
- VignetteMidpoint: 40
- WhiteBalance: Custom
- XMP-dc
- XMP-exif
- DateTimeDigitized: 2008:06:14 11:37:07+04:00
- DateTimeOriginal: 2008:06:14 11:37:07+04:00
- FlashFired: False
- FlashFunction: False
- FlashMode: Off
- FlashRedEyeMode: False
- FlashReturn: No return detection
- XMP-tiff
- ImageHeight: 3888
- ImageWidth: 2592
- XMP-xmp
- ModifyDate: 2008:07:03 23:11:02+04:00
- Просмотров: 381
- Рейтинг: голосов еще нет
- Отзывов: 2