| » Участники » azov » Природа всякая » Вечерком, на зорьке |
Уважаемые друзья и участники проекта iXBT.photo! К сожалению, 1 марта 2026 года проект iXBT.photo прекратит свою работу и будет закрыт. Мы высоко ценим ваше участие и тот вклад, который вы внесли в развитие нашего сообщества. Пожалуйста, не забудьте сохранить ваши фотографии до этой даты.
С уважением, команда iXBT.com
| Вечерком, на зорьке |
Вечерком, на зорьке
- Раздел: Активный отдых, туризм
- Дата съёмки: 11.07.2008 20:38
- Дата загрузки фото: 13.07.2008 14:40
- Оригинальная фотография: 1024 x 683 (231 Кб)
- Технические характеристики:
- Фотоаппарат: Nikon D1X
- Выдержка: 1/350
- Диафрагма: 2,8
- Светочувствительность: 125
- Фокусное расстояние: 35,0mm
- Полный EXIF
- Adobe
- ColorTransform: YCbCr
- Composite
- Aperture: 2,8
- FocalLength35efl: 35,0mm
- LightValue: 11,1
- ShutterSpeed: 1/350
- ExifIFD
- ApertureValue: 2,8
- CFAPattern: [Blue,Green][Green,Red]
- ColorSpace: sRGB
- CreateDate: 2008:07:02 20:24:51
- DateTimeOriginal: 2008:07:02 20:24:51
- ExifImageLength: 683
- ExifImageWidth: 1024
- ExposureCompensation: 0
- ExposureProgram: Aperture-priority AE
- ExposureTime: 1/350
- FNumber: 2,8
- FocalLength: 35,0mm
- ISO: 125
- MaxApertureValue: 2,0
- MeteringMode: Spot
- SceneType: Directly photographed
- SensingMethod: One-chip color area
- ShutterSpeedValue: 1/350
- ICC-header
- ICC-meas
- ICC-view
- IFD0
- Copyright: Copyright,
- Make: NIKON CORPORATION
- Model: NIKON D1X
- ModifyDate: 2008:07:11 20:38:36
- Orientation: Horizontal (normal)
- IFD1
- IPTC
- CopyrightNotice: Copyright,
- XMP-aux
- Lens: 35.0 mm f/2.0
- LensInfo: 350/10 350/10 20/10 20/10
- XMP-crs
- AlreadyApplied: True
- BlueHue: 0
- BlueSaturation: +43
- Brightness: +50
- CameraProfile: ACR 4.4
- ChromaticAberrationB: 0
- ChromaticAberrationR: 0
- Clarity: 33
- ColorNoiseReduction: 25
- Contrast: +65
- ConvertToGrayscale: False
- Defringe: 0
- Exposure: 0.00
- FillLight: 34
- GreenHue: 0
- GreenSaturation: 0
- HasCrop: False
- HasSettings: True
- HighlightRecovery: 0
- HueAdjustmentAqua: 0
- HueAdjustmentBlue: 0
- HueAdjustmentGreen: 0
- HueAdjustmentMagenta: 0
- HueAdjustmentOrange: 0
- HueAdjustmentPurple: 0
- HueAdjustmentRed: 0
- HueAdjustmentYellow: 0
- LuminanceAdjustmentAqua: 0
- LuminanceAdjustmentBlue: 0
- LuminanceAdjustmentGreen: 0
- LuminanceAdjustmentMagenta: 0
- LuminanceAdjustmentOrange: 0
- LuminanceAdjustmentPurple: 0
- LuminanceAdjustmentRed: 0
- LuminanceAdjustmentYellow: 0
- LuminanceSmoothing: 0
- ParametricDarks: -10
- ParametricHighlightSplit: 75
- ParametricHighlights: +92
- ParametricLights: -44
- ParametricMidtoneSplit: 50
- ParametricShadowSplit: 25
- ParametricShadows: +5
- RawFileName: DSC_0724.NEF
- RedHue: 0
- RedSaturation: 0
- Saturation: +21
- SaturationAdjustmentAqua: 0
- SaturationAdjustmentBlue: 0
- SaturationAdjustmentGreen: 0
- SaturationAdjustmentMagenta: 0
- SaturationAdjustmentOrange: 0
- SaturationAdjustmentPurple: 0
- SaturationAdjustmentRed: 0
- SaturationAdjustmentYellow: 0
- ShadowTint: 0
- Shadows: 12
- SharpenDetail: 25
- SharpenEdgeMasking: 0
- SharpenRadius: +1.0
- Sharpness: 25
- SplitToningBalance: 0
- SplitToningHighlightHue: 0
- SplitToningHighlightSaturation: 0
- SplitToningShadowHue: 0
- SplitToningShadowSaturation: 0
- Temperature: 7500
- Tint: +2
- ToneCurve: 0, 0, 32, 22, 64, 56, 128, 128, 192, 196, 255, 255
- ToneCurveName: Medium Contrast
- Version: 4.4.1
- Vibrance: 0
- VignetteAmount: 0
- WhiteBalance: Custom
- XMP-dc
- Format: image/jpeg
- Rights: Copyright,
- XMP-exif
- DateTimeDigitized: 2008:07:02 20:24:51.47+04:00
- DateTimeOriginal: 2008:07:02 20:24:51.47+04:00
- XMP-tiff
- XMP-xmp
- CreateDate: 2008:07:11 20:38:36+04:00
- ModifyDate: 2008:07:11 20:38:36+04:00
- Rating: 0
- XMP-xmpMM
- Просмотров: 425
- Рейтинг: голосов еще нет
- Отзывов: 0
Получить код для блога
| Вставка фотографии в текущем разрешении |
Вставка миниатюры |
HTML (для вставки в блог):
BBCode (для вставки в форум):
Ссылка на фото:
Ссылка на миниатюру:
- Послать ссылку другу
| Комментарии к фотографии |