- Раздел: Портрет
- Дата съёмки: 11.07.2008 23:46
- Дата загрузки фото: 14.07.2008 19:18
- Оригинальная фотография: 3888 x 2592 (778 Кб)
- Технические характеристики:
- Фотоаппарат: Canon EOS 400D DIGITAL
- Выдержка: 1/500
- Гиперфокальное расстояние: 67,33 m
- Диафрагма: 2,0
- Светочувствительность: 100
- Фокусное расстояние: 50,0mm (35mm эквивалент: 80,9mm)
- Экспокоррекция: -1/2
- Полный EXIF
- Adobe
- ColorTransform: YCbCr
- Composite
- Aperture: 2,0
- CircleOfConfusion: 0,019 mm
- FocalLength35efl: 50,0mm (35mm equivalent: 80,9mm)
- HyperfocalDistance: 67,33 m
- LightValue: 11,0
- ScaleFactor35efl: 1,6
- ShutterSpeed: 1/500
- ExifIFD
- ApertureValue: 2,0
- ColorSpace: sRGB
- CreateDate: 2008:07:10 18:38:21
- CustomRendered: Normal
- DateTimeOriginal: 2008:07:10 18:38:21
- ExifImageLength: 2592
- ExifImageWidth: 3888
- ExposureCompensation: -1/2
- ExposureMode: Auto
- ExposureProgram: Aperture-priority AE
- ExposureTime: 1/500
- FNumber: 2,0
- Flash: Off
- FocalLength: 50,0mm
- ISO: 100
- MaxApertureValue: 1,4
- MeteringMode: Multi-segment
- SceneCaptureType: Standard
- ShutterSpeedValue: 1/500
- WhiteBalance: Auto
- ICC-header
- ICC-meas
- ICC-view
- IFD0
- Artist: Alex Konstantin
- Make: Canon
- Model: Canon EOS 400D DIGITAL
- ModifyDate: 2008:07:11 23:46:26
- Orientation: Horizontal (normal)
- IFD1
- IPTC
- By-line: Alex Konstantin
- XMP-aux
- Firmware: 1.1.1
- FlashCompensation: 0
- ImageNumber: 112
- Lens: EF50mm f/1.4 USM
- LensInfo: 50/1 50/1 0/0 0/0
- OwnerName: Alex Konstantin
- SerialNumber: 1180612121
- XMP-crs
- AlreadyApplied: True
- BlueHue: 0
- BlueSaturation: 0
- Brightness: +67
- CameraProfile: ACR 3.6
- ChromaticAberrationB: 0
- ChromaticAberrationR: 0
- Clarity: 0
- Contrast: +31
- ConvertToGrayscale: True
- Defringe: 0
- Exposure: +0.10
- FillLight: 0
- GrayMixerAqua: -40
- GrayMixerBlue: -21
- GrayMixerGreen: +28
- GrayMixerMagenta: +6
- GrayMixerOrange: +15
- GrayMixerPurple: +20
- GrayMixerRed: -9
- GrayMixerYellow: +51
- GreenHue: 0
- GreenSaturation: 0
- HasCrop: False
- HasSettings: True
- HighlightRecovery: 0
- LuminanceSmoothing: 100
- ParametricDarks: +14
- ParametricHighlightSplit: 75
- ParametricHighlights: 0
- ParametricLights: 0
- ParametricMidtoneSplit: 50
- ParametricShadowSplit: 25
- ParametricShadows: +21
- RedHue: 0
- RedSaturation: 0
- ShadowTint: 0
- Shadows: 2
- SharpenDetail: 25
- SharpenEdgeMasking: 0
- SharpenRadius: +1.0
- Sharpness: 25
- SplitToningBalance: 0
- SplitToningHighlightHue: 0
- SplitToningHighlightSaturation: 0
- SplitToningShadowHue: 0
- SplitToningShadowSaturation: 0
- Temperature: 5200
- Tint: +1
- ToneCurve: 0, 0, 32, 22, 64, 56, 128, 128, 192, 196, 255, 255
- ToneCurveName: Medium Contrast
- Version: 1.0
- VignetteAmount: -100
- VignetteMidpoint: 50
- WhiteBalance: As Shot
- XMP-dc
- Creator: Alex Konstantin
- Format: image/jpeg
- XMP-exif
- DateTimeDigitized: 2008:07:10 18:38:21+04:00
- DateTimeOriginal: 2008:07:10 18:38:21+04:00
- FlashFired: False
- FlashFunction: False
- FlashMode: Off
- FlashRedEyeMode: False
- FlashReturn: No return detection
- XMP-tiff
- ImageHeight: 2592
- ImageWidth: 3888
- XMP-xmp
- CreateDate: 2008:07:11 23:46:26+04:00
- ModifyDate: 2008:07:11 23:46:26+04:00
- XMP-xmpMM