- Раздел: Отдых, развлечения
- Дата съёмки: 26.07.2008 13:12
- Дата загрузки фото: 26.07.2008 15:21
- Оригинальная фотография: 1500 x 1000 (902 Кб)
- Технические характеристики:
- Фотоаппарат: Canon EOS 450D
- Выдержка: 1/40
- Гиперфокальное расстояние: 12,40 m
- Диафрагма: 9,0
- Светочувствительность: 400
- Фокусное расстояние: 27,0mm (35mm эквивалент: 124,2mm)
- Экспокоррекция: -2/3
- Полный EXIF
- Adobe
- ColorTransform: YCbCr
- Composite
- Aperture: 9,0
- CircleOfConfusion: 0,007 mm
- FocalLength35efl: 27,0mm (35mm equivalent: 124,2mm)
- HyperfocalDistance: 12,40 m
- LightValue: 9,7
- ScaleFactor35efl: 4,6
- ShutterSpeed: 1/40
- ExifIFD
- ApertureValue: 9,0
- ColorSpace: Uncalibrated
- CreateDate: 2008:07:22 22:17:46
- CustomRendered: Normal
- DateTimeOriginal: 2008:07:22 22:17:46
- ExifImageLength: 1000
- ExifImageWidth: 1500
- ExposureCompensation: -2/3
- ExposureMode: Auto
- ExposureProgram: Aperture-priority AE
- ExposureTime: 1/40
- FNumber: 9,0
- Flash: On
- FocalLength: 27,0mm
- ISO: 400
- MaxApertureValue: 4,0
- MeteringMode: Multi-segment
- SceneCaptureType: Standard
- ShutterSpeedValue: 1/40
- WhiteBalance: Auto
- ICC-header
- IFD0
- Make: Canon
- Model: Canon EOS 450D
- ModifyDate: 2008:07:26 13:12:32
- Orientation: Horizontal (normal)
- IFD1
- IPTC
- XMP-aux
- Firmware: 1.0.4
- FlashCompensation: 0
- ImageNumber: 0
- Lens: EF17-40mm f/4L USM
- LensInfo: 17/1 40/1 0/0 0/0
- SerialNumber: 430132069
- XMP-crs
- AlreadyApplied: True
- BlueHue: 0
- BlueSaturation: 0
- Brightness: +52
- CameraProfile: ACR 4.4
- ChromaticAberrationB: 0
- ChromaticAberrationR: 0
- Clarity: 44
- ColorNoiseReduction: 25
- Contrast: +37
- ConvertToGrayscale: False
- Defringe: 0
- Exposure: +0.05
- FillLight: 0
- GreenHue: 0
- GreenSaturation: 0
- HasCrop: False
- HasSettings: True
- HighlightRecovery: 0
- HueAdjustmentAqua: 0
- HueAdjustmentBlue: 0
- HueAdjustmentGreen: 0
- HueAdjustmentMagenta: 0
- HueAdjustmentOrange: 0
- HueAdjustmentPurple: 0
- HueAdjustmentRed: 0
- HueAdjustmentYellow: 0
- LuminanceAdjustmentAqua: 0
- LuminanceAdjustmentBlue: 0
- LuminanceAdjustmentGreen: 0
- LuminanceAdjustmentMagenta: 0
- LuminanceAdjustmentOrange: 0
- LuminanceAdjustmentPurple: 0
- LuminanceAdjustmentRed: 0
- LuminanceAdjustmentYellow: 0
- LuminanceSmoothing: 0
- ParametricDarks: 0
- ParametricHighlightSplit: 75
- ParametricHighlights: 0
- ParametricLights: 0
- ParametricMidtoneSplit: 50
- ParametricShadowSplit: 25
- ParametricShadows: 0
- RawFileName: IMG_6889.CR2
- RedHue: 0
- RedSaturation: 0
- Saturation: 0
- SaturationAdjustmentAqua: 0
- SaturationAdjustmentBlue: 0
- SaturationAdjustmentGreen: 0
- SaturationAdjustmentMagenta: 0
- SaturationAdjustmentOrange: 0
- SaturationAdjustmentPurple: 0
- SaturationAdjustmentRed: 0
- SaturationAdjustmentYellow: 0
- ShadowTint: 0
- Shadows: 2
- SharpenDetail: 25
- SharpenEdgeMasking: 0
- SharpenRadius: +1.0
- Sharpness: 25
- SplitToningBalance: 0
- SplitToningHighlightHue: 0
- SplitToningHighlightSaturation: 0
- SplitToningShadowHue: 0
- SplitToningShadowSaturation: 0
- Temperature: 5650
- Tint: +18
- ToneCurve: 0, 0, 32, 22, 64, 56, 128, 128, 192, 196, 255, 255
- ToneCurveName: Medium Contrast
- Version: 4.4.1
- Vibrance: +75
- VignetteAmount: 0
- WhiteBalance: As Shot
- XMP-dc
- XMP-exif
- ColorSpace: Unknown (-1)
- DateTimeDigitized: 2008:07:22 22:17:46.67+03:00
- DateTimeOriginal: 2008:07:22 22:17:46.67+03:00
- FlashFired: True
- FlashFunction: False
- FlashMode: On
- FlashRedEyeMode: False
- FlashReturn: No return detection
- XMP-tiff
- ImageHeight: 2848
- ImageWidth: 4272
- XMP-xmp
- CreateDate: 2008:07:26 13:12:32+04:00
- ModifyDate: 2008:07:26 13:12:32+04:00
- Rating: 0
- XMP-xmpMM
- Просмотров: 414
- Рейтинг: голосов еще нет
- Отзывов: 0