- Раздел: Путешествия
- Дата съёмки: 22.07.2008 10:55
- Дата загрузки фото: 04.08.2008 21:41
- Оригинальная фотография: 2304 x 3456 (1,7 Мб)
- Технические характеристики:
- Фотоаппарат: Canon EOS 350D DIGITAL
- Выдержка: 1/5
- Гиперфокальное расстояние: 5,58 m
- Диафрагма: 2,8
- Светочувствительность: 200
- Фокусное расстояние: 17,0mm (35mm эквивалент: 27,6mm)
- Экспокоррекция: -1/3
- Полный EXIF
- Adobe
- ColorTransform: YCbCr
- Composite
- Aperture: 2,8
- CircleOfConfusion: 0,019 mm
- FocalLength35efl: 17,0mm (35mm equivalent: 27,6mm)
- HyperfocalDistance: 5,58 m
- LightValue: 4,3
- ScaleFactor35efl: 1,6
- ShutterSpeed: 1/5
- ExifIFD
- ApertureValue: 2,8
- CreateDate: 2008:07:22 10:55:31
- CustomRendered: Normal
- DateTimeOriginal: 2008:07:22 10:55:31
- ExposureCompensation: -1/3
- ExposureMode: Auto
- ExposureProgram: Program AE
- ExposureTime: 1/5
- FNumber: 2,8
- Flash: Off
- FocalLength: 17,0mm
- ISO: 200
- MaxApertureValue: 2,8
- MeteringMode: Average
- SceneCaptureType: Standard
- ShutterSpeedValue: 1/5
- WhiteBalance: Manual
- ICC-header
- ICC-meas
- ICC-view
- IFD0
- Artist: Nick and Alex Tsigouro
- Make: Canon
- Model: Canon EOS 350D DIGITAL
- ModifyDate: 2008:07:30 01:13:25
- IPTC
- By-line: Nick and Alex Tsigouro
- XMP-aux
- Firmware: 1.0.3
- FlashCompensation: -0,666666666666667
- ImageNumber: 166
- Lens: 17.0-55.0 mm
- LensInfo: 17/1 55/1 0/0 0/0
- OwnerName: Nick and Alex Tsigouro
- SerialNumber: 1230746773
- XMP-crs
- AlreadyApplied: True
- BlueHue: 0
- BlueSaturation: 0
- Brightness: +42
- CameraProfile: ACR 4.4
- ChromaticAberrationB: 0
- ChromaticAberrationR: 0
- Clarity: 0
- ColorNoiseReduction: 25
- Contrast: 0
- ConvertToGrayscale: False
- Defringe: 0
- Exposure: 0.00
- FillLight: 0
- GreenHue: 0
- GreenSaturation: 0
- HasCrop: False
- HasSettings: True
- HighlightRecovery: 23
- HueAdjustmentAqua: 0
- HueAdjustmentBlue: 0
- HueAdjustmentGreen: 0
- HueAdjustmentMagenta: 0
- HueAdjustmentOrange: 0
- HueAdjustmentPurple: 0
- HueAdjustmentRed: 0
- HueAdjustmentYellow: 0
- LuminanceAdjustmentAqua: 0
- LuminanceAdjustmentBlue: 0
- LuminanceAdjustmentGreen: 0
- LuminanceAdjustmentMagenta: 0
- LuminanceAdjustmentOrange: 0
- LuminanceAdjustmentPurple: 0
- LuminanceAdjustmentRed: 0
- LuminanceAdjustmentYellow: 0
- LuminanceSmoothing: 0
- ParametricDarks: 0
- ParametricHighlightSplit: 75
- ParametricHighlights: 0
- ParametricLights: 0
- ParametricMidtoneSplit: 50
- ParametricShadowSplit: 25
- ParametricShadows: 0
- RawFileName: _MG_5030.CR2
- RedHue: 0
- RedSaturation: 0
- Saturation: 0
- SaturationAdjustmentAqua: 0
- SaturationAdjustmentBlue: 0
- SaturationAdjustmentGreen: 0
- SaturationAdjustmentMagenta: 0
- SaturationAdjustmentOrange: 0
- SaturationAdjustmentPurple: 0
- SaturationAdjustmentRed: 0
- SaturationAdjustmentYellow: 0
- ShadowTint: 0
- Shadows: 0
- SharpenDetail: 25
- SharpenEdgeMasking: 0
- SharpenRadius: +1.0
- Sharpness: 25
- SplitToningBalance: 0
- SplitToningHighlightHue: 0
- SplitToningHighlightSaturation: 0
- SplitToningShadowHue: 0
- SplitToningShadowSaturation: 0
- Temperature: 6750
- Tint: +4
- ToneCurve: 0, 0, 32, 22, 64, 56, 128, 128, 192, 196, 255, 255
- ToneCurveName: Medium Contrast
- Version: 4.4.1
- Vibrance: 0
- VignetteAmount: 0
- WhiteBalance: As Shot
- XMP-dc
- Creator: Nick and Alex Tsigouro
- XMP-exif
- DateTimeDigitized: 2008:07:22 10:55:31+04:00
- DateTimeOriginal: 2008:07:22 10:55:31+04:00
- FlashFired: False
- FlashFunction: False
- FlashMode: Off
- FlashRedEyeMode: False
- FlashReturn: No return detection
- XMP-tiff
- ImageHeight: 3456
- ImageWidth: 2304
- XMP-xmp
- ModifyDate: 2008:07:30 01:13:25+04:00
- Rating: 0
- Просмотров: 622
- Рейтинг: голосов еще нет
- Отзывов: 0