Уважаемые друзья и участники проекта iXBT.photo! К сожалению, 1 марта 2026 года проект iXBT.photo прекратит свою работу и будет закрыт. Мы высоко ценим ваше участие и тот вклад, который вы внесли в развитие нашего сообщества. Пожалуйста, не забудьте сохранить ваши фотографии до этой даты.
С уважением, команда iXBT.com
| Питер. Дождь |
Питер. Дождь
- Раздел: Другое, разное
- Дата съёмки: 12.08.2008 12:13
- Дата загрузки фото: 14.08.2008 21:09
- Оригинальная фотография: 2932 x 2848 (2,5 Мб)
- Технические характеристики:
- Фотоаппарат: Nikon D300
- Выдержка: 1/160
- Гиперфокальное расстояние: 30,58 m
- Диафрагма: 8,0
- Светочувствительность: 800
- Фокусное расстояние: 70,0mm (35mm эквивалент: 105,0mm)
- Полный EXIF
- Adobe
- ColorTransform: YCbCr
- Composite
- Aperture: 8,0
- CircleOfConfusion: 0,020 mm
- FocalLength35efl: 70,0mm (35mm equivalent: 105,0mm)
- HyperfocalDistance: 30,58 m
- LightValue: 10,3
- ScaleFactor35efl: 1,5
- ShutterSpeed: 1/160
- ExifIFD
- ApertureValue: 8,0
- CFAPattern: [Red,Green][Green,Blue]
- ColorSpace: sRGB
- Contrast: Normal
- CreateDate: 2008:08:10 12:23:28
- CustomRendered: Normal
- DateTimeOriginal: 2008:08:10 12:23:28
- DigitalZoomRatio: 1
- ExifImageLength: 2848
- ExifImageWidth: 2932
- ExposureCompensation: 0
- ExposureMode: Auto
- ExposureProgram: Aperture-priority AE
- ExposureTime: 1/160
- FNumber: 8,0
- Flash: No Flash
- FocalLength: 70,0mm
- FocalLengthIn35mmFormat: 105mm
- GainControl: Low gain up
- ISO: 800
- LightSource: Unknown (0)
- MaxApertureValue: 2,8
- MeteringMode: Multi-segment
- Saturation: Normal
- SceneCaptureType: Standard
- SceneType: Directly photographed
- SensingMethod: One-chip color area
- Sharpness: Normal
- ShutterSpeedValue: 1/160
- WhiteBalance: Auto
- ICC-header
- ICC-meas
- ICC-view
- IFD0
- BitsPerSample: 16 16 16
- ImageHeight: 2848
- ImageWidth: 4288
- Make: NIKON CORPORATION
- Model: NIKON D300
- ModifyDate: 2008:08:12 12:13:44
- Orientation: Horizontal (normal)
- PhotometricInterpretation: RGB
- PlanarConfiguration: Chunky
- SamplesPerPixel: 3
- IFD1
- IPTC
- XMP-aux
- ImageNumber: 1605
- Lens: 24.0-70.0 mm f/2.8
- LensInfo: 240/10 700/10 28/10 28/10
- SerialNumber: 6031292
- XMP-crs
- AlreadyApplied: True
- BlueHue: +3
- BlueSaturation: -20
- Brightness: +46
- CameraProfile: Camera Portrait beta 1
- ChromaticAberrationB: 0
- ChromaticAberrationR: 0
- Clarity: +20
- ColorNoiseReduction: 58
- Contrast: +43
- ConvertToGrayscale: False
- Defringe: 0
- Exposure: -0.06
- FillLight: 67
- GreenHue: 0
- GreenSaturation: -5
- HasCrop: False
- HasSettings: True
- HighlightRecovery: 3
- HueAdjustmentAqua: 0
- HueAdjustmentBlue: +5
- HueAdjustmentGreen: -54
- HueAdjustmentMagenta: -3
- HueAdjustmentOrange: +26
- HueAdjustmentPurple: -16
- HueAdjustmentRed: +4
- HueAdjustmentYellow: -4
- LuminanceAdjustmentAqua: -5
- LuminanceAdjustmentBlue: -5
- LuminanceAdjustmentGreen: +3
- LuminanceAdjustmentMagenta: +4
- LuminanceAdjustmentOrange: -15
- LuminanceAdjustmentPurple: +15
- LuminanceAdjustmentRed: -20
- LuminanceAdjustmentYellow: -11
- LuminanceSmoothing: 84
- ParametricDarks: -45
- ParametricHighlightSplit: 81
- ParametricHighlights: -30
- ParametricLights: +14
- ParametricMidtoneSplit: 34
- ParametricShadowSplit: 24
- ParametricShadows: -10
- PostCropVignetteAmount: 0
- RedHue: +3
- RedSaturation: +2
- Saturation: 0
- SaturationAdjustmentAqua: +6
- SaturationAdjustmentBlue: +25
- SaturationAdjustmentGreen: -14
- SaturationAdjustmentMagenta: +10
- SaturationAdjustmentOrange: +30
- SaturationAdjustmentPurple: +8
- SaturationAdjustmentRed: +20
- SaturationAdjustmentYellow: +37
- ShadowTint: 0
- Shadows: 4
- SharpenDetail: 0
- SharpenEdgeMasking: 0
- SharpenRadius: +0.9
- Sharpness: 59
- SplitToningBalance: 0
- SplitToningHighlightHue: 0
- SplitToningHighlightSaturation: 0
- SplitToningShadowHue: 0
- SplitToningShadowSaturation: 0
- Temperature: 4400
- Tint: +10
- ToneCurve: 0, 0, 255, 255
- ToneCurveName: Linear
- Version: 4.5
- Vibrance: 0
- VignetteAmount: 0
- WhiteBalance: Custom
- XMP-dc
- XMP-exif
- DateTimeDigitized: 2008:08:10 12:23:28.08+04:00
- DateTimeOriginal: 2008:08:10 12:23:28.08+04:00
- FlashFired: False
- FlashFunction: False
- FlashMode: Unknown
- FlashRedEyeMode: False
- FlashReturn: No return detection
- FocalLengthIn35mmFormat: 105
- SubjectDistanceRange: Unknown
- XMP-tiff
- BitsPerSample: 16, 16, 16
- XMP-xmp
- CreateDate: 2008:08:12 12:13:44+04:00
- ModifyDate: 2008:08:12 12:13:44+04:00
- XMP-xmpMM
- Просмотров: 317
- Рейтинг: голосов еще нет
- Отзывов: 0
Получить код для блога
| Вставка фотографии в текущем разрешении |
Вставка миниатюры |
HTML (для вставки в блог):
BBCode (для вставки в форум):
Ссылка на фото:
Ссылка на миниатюру:
- Послать ссылку другу
| Комментарии к фотографии |