| » Участники » Ibragim_S » Зазеркалье » Питер. Отражение прошлого |
Уважаемые друзья и участники проекта iXBT.photo! К сожалению, 1 марта 2026 года проект iXBT.photo прекратит свою работу и будет закрыт. Мы высоко ценим ваше участие и тот вклад, который вы внесли в развитие нашего сообщества. Пожалуйста, не забудьте сохранить ваши фотографии до этой даты.
С уважением, команда iXBT.com
| Питер. Отражение прошлого |
Питер. Отражение прошлого
- Раздел: Другое, разное
- Дата съёмки: 11.08.2008 15:57
- Дата загрузки фото: 14.08.2008 21:12
- Оригинальная фотография: 3076 x 2848 (1,7 Мб)
- Технические характеристики:
- Фотоаппарат: Nikon D300
- Выдержка: 1/200
- Гиперфокальное расстояние: 30,58 m
- Диафрагма: 8,0
- Светочувствительность: 200
- Фокусное расстояние: 70,0mm (35mm эквивалент: 105,0mm)
- Полный EXIF
- Adobe
- ColorTransform: YCbCr
- Composite
- Aperture: 8,0
- CircleOfConfusion: 0,020 mm
- FocalLength35efl: 70,0mm (35mm equivalent: 105,0mm)
- HyperfocalDistance: 30,58 m
- LightValue: 12,6
- ScaleFactor35efl: 1,5
- ShutterSpeed: 1/200
- ExifIFD
- ApertureValue: 8,0
- CFAPattern: [Red,Green][Green,Blue]
- ColorSpace: sRGB
- Contrast: Normal
- CreateDate: 2008:08:10 13:03:48
- CustomRendered: Normal
- DateTimeOriginal: 2008:08:10 13:03:48
- DigitalZoomRatio: 1
- ExifImageLength: 2848
- ExifImageWidth: 3076
- ExposureCompensation: 0
- ExposureMode: Auto
- ExposureProgram: Aperture-priority AE
- ExposureTime: 1/200
- FNumber: 8,0
- Flash: No Flash
- FocalLength: 70,0mm
- FocalLengthIn35mmFormat: 105mm
- GainControl: None
- ISO: 200
- LightSource: Unknown (0)
- MaxApertureValue: 2,8
- MeteringMode: Multi-segment
- Saturation: Normal
- SceneCaptureType: Standard
- SceneType: Directly photographed
- SensingMethod: One-chip color area
- Sharpness: Normal
- ShutterSpeedValue: 1/200
- WhiteBalance: Auto
- ICC-header
- ICC-meas
- ICC-view
- IFD0
- BitsPerSample: 16 16 16
- ImageHeight: 2848
- ImageWidth: 4288
- Make: NIKON CORPORATION
- Model: NIKON D300
- ModifyDate: 2008:08:11 15:57:44
- Orientation: Horizontal (normal)
- PhotometricInterpretation: RGB
- PlanarConfiguration: Chunky
- SamplesPerPixel: 3
- IFD1
- IPTC
- XMP-aux
- ImageNumber: 1617
- Lens: 24.0-70.0 mm f/2.8
- LensInfo: 240/10 700/10 28/10 28/10
- SerialNumber: 6031292
- XMP-crs
- AlreadyApplied: True
- BlueHue: +3
- BlueSaturation: -20
- Brightness: +45
- CameraProfile: Camera Portrait beta 1
- ChromaticAberrationB: 0
- ChromaticAberrationR: 0
- Clarity: +20
- ColorNoiseReduction: 42
- Contrast: +15
- ConvertToGrayscale: False
- Defringe: 0
- Exposure: +0.99
- FillLight: 23
- GreenHue: 0
- GreenSaturation: -5
- HasCrop: False
- HasSettings: True
- HighlightRecovery: 12
- HueAdjustmentAqua: 0
- HueAdjustmentBlue: 0
- HueAdjustmentGreen: -1
- HueAdjustmentMagenta: -3
- HueAdjustmentOrange: -14
- HueAdjustmentPurple: -16
- HueAdjustmentRed: +4
- HueAdjustmentYellow: -3
- LuminanceAdjustmentAqua: -5
- LuminanceAdjustmentBlue: -26
- LuminanceAdjustmentGreen: +3
- LuminanceAdjustmentMagenta: +4
- LuminanceAdjustmentOrange: +50
- LuminanceAdjustmentPurple: +15
- LuminanceAdjustmentRed: -1
- LuminanceAdjustmentYellow: +76
- LuminanceSmoothing: 39
- ParametricDarks: -45
- ParametricHighlightSplit: 81
- ParametricHighlights: -30
- ParametricLights: +14
- ParametricMidtoneSplit: 34
- ParametricShadowSplit: 24
- ParametricShadows: -10
- PostCropVignetteAmount: 0
- RedHue: +3
- RedSaturation: +2
- Saturation: 0
- SaturationAdjustmentAqua: +6
- SaturationAdjustmentBlue: +61
- SaturationAdjustmentGreen: -14
- SaturationAdjustmentMagenta: +10
- SaturationAdjustmentOrange: +41
- SaturationAdjustmentPurple: +8
- SaturationAdjustmentRed: +20
- SaturationAdjustmentYellow: +41
- ShadowTint: 0
- Shadows: 3
- SharpenDetail: 0
- SharpenEdgeMasking: 0
- SharpenRadius: +0.8
- Sharpness: 50
- SplitToningBalance: 0
- SplitToningHighlightHue: 0
- SplitToningHighlightSaturation: 0
- SplitToningShadowHue: 0
- SplitToningShadowSaturation: 0
- Temperature: 6400
- Tint: +12
- ToneCurve: 0, 0, 255, 255
- ToneCurveName: Linear
- Version: 4.5
- Vibrance: 0
- VignetteAmount: 0
- WhiteBalance: As Shot
- XMP-dc
- XMP-exif
- DateTimeDigitized: 2008:08:10 13:03:48.85+04:00
- DateTimeOriginal: 2008:08:10 13:03:48.85+04:00
- FlashFired: False
- FlashFunction: False
- FlashMode: Unknown
- FlashRedEyeMode: False
- FlashReturn: No return detection
- FocalLengthIn35mmFormat: 105
- SubjectDistanceRange: Unknown
- XMP-tiff
- BitsPerSample: 16, 16, 16
- XMP-xmp
- CreateDate: 2008:08:11 15:57:44+04:00
- ModifyDate: 2008:08:11 15:57:44+04:00
- XMP-xmpMM
Получить код для блога
| Вставка фотографии в текущем разрешении |
Вставка миниатюры |
HTML (для вставки в блог):
BBCode (для вставки в форум):
Ссылка на фото:
Ссылка на миниатюру:
- Послать ссылку другу
| Комментарии к фотографии |