Уважаемые друзья и участники проекта iXBT.photo! К сожалению, 1 марта 2026 года проект iXBT.photo прекратит свою работу и будет закрыт. Мы высоко ценим ваше участие и тот вклад, который вы внесли в развитие нашего сообщества. Пожалуйста, не забудьте сохранить ваши фотографии до этой даты.
С уважением, команда iXBT.com
| P8053852-1.jpg |
P8053852-1.jpg
- Раздел: Цветы
- Дата съёмки: 05.08.2008 21:07
- Дата загрузки фото: 22.08.2008 21:07
- Оригинальная фотография: 2990 x 2414 (3,7 Мб)
- Технические характеристики:
- Фотоаппарат: Olympus E-3
- Выдержка: 1/250
- Диафрагма: 3,2
- Светочувствительность: 400
- Фокусное расстояние: 105,0mm
- Полный EXIF
- Adobe
- ColorTransform: YCbCr
- Composite
- Aperture: 3,2
- FocalLength35efl: 105,0mm
- LightValue: 9,3
- ShutterSpeed: 1/250
- ExifIFD
- ApertureValue: 3,2
- CFAPattern: [Red,Green][Green,Blue]
- Contrast: Normal
- CreateDate: 2008:08:05 21:07:05
- CustomRendered: Normal
- DateTimeOriginal: 2008:08:05 21:07:05
- DigitalZoomRatio: 1
- ExposureCompensation: 0
- ExposureMode: Auto
- ExposureProgram: Program AE
- ExposureTime: 1/250
- FNumber: 3,2
- Flash: On, Did not fire
- FocalLength: 105,0mm
- GainControl: High gain up
- ISO: 400
- LightSource: Unknown (0)
- MaxApertureValue: 2,8
- MeteringMode: Spot
- Saturation: Normal
- SceneCaptureType: Standard
- Sharpness: Normal
- ShutterSpeedValue: 1/250
- WhiteBalance: Auto
- ICC-header
- ICC-meas
- ICC-view
- IFD0
- ImageDescription: OLYMPUS DIGITAL CAMERA
- Make: OLYMPUS IMAGING CORP.
- Model: E-3
- ModifyDate: 2008:08:10 12:51:52
- Software: Version 1.2
- IPTC
- Caption-Abstract: OLYMPUS DIGITAL CAMERA
- XMP-aux
- FlashCompensation: 0
- Lens: 105.0 mm f/2.8
- LensInfo: 105/1 105/1 28/10 28/10
- LensSerialNumber: 000000000
- SerialNumber: D70515771
- XMP-crs
- AlreadyApplied: True
- BlueHue: 0
- BlueSaturation: 0
- Brightness: +75
- CameraProfile: ACR 4.4
- ChromaticAberrationB: 0
- ChromaticAberrationR: 0
- Clarity: 12
- ColorNoiseReduction: 25
- Contrast: +25
- ConvertToGrayscale: False
- CropAngle: 0
- CropBottom: 1
- CropHeight: 2414
- CropLeft: 0.163753
- CropRight: 0.983441
- CropTop: 0.117791
- CropUnit: 0
- CropWidth: 2990
- Defringe: 0
- Exposure: 0.00
- FillLight: 12
- GreenHue: 0
- GreenSaturation: 0
- HasCrop: True
- HasSettings: True
- HighlightRecovery: 12
- HueAdjustmentAqua: 0
- HueAdjustmentBlue: 0
- HueAdjustmentGreen: 0
- HueAdjustmentMagenta: 0
- HueAdjustmentOrange: 0
- HueAdjustmentPurple: 0
- HueAdjustmentRed: 0
- HueAdjustmentYellow: 0
- LuminanceAdjustmentAqua: 0
- LuminanceAdjustmentBlue: 0
- LuminanceAdjustmentGreen: 0
- LuminanceAdjustmentMagenta: 0
- LuminanceAdjustmentOrange: 0
- LuminanceAdjustmentPurple: 0
- LuminanceAdjustmentRed: 0
- LuminanceAdjustmentYellow: 0
- LuminanceSmoothing: 35
- ParametricDarks: +7
- ParametricHighlightSplit: 75
- ParametricHighlights: 0
- ParametricLights: +7
- ParametricMidtoneSplit: 50
- ParametricShadowSplit: 25
- ParametricShadows: -12
- RedHue: 0
- RedSaturation: 0
- Saturation: 0
- SaturationAdjustmentAqua: 0
- SaturationAdjustmentBlue: 0
- SaturationAdjustmentGreen: 0
- SaturationAdjustmentMagenta: 0
- SaturationAdjustmentOrange: 0
- SaturationAdjustmentPurple: 0
- SaturationAdjustmentRed: 0
- SaturationAdjustmentYellow: 0
- ShadowTint: 0
- Shadows: 15
- SharpenDetail: 93
- SharpenEdgeMasking: 0
- SharpenRadius: +1.0
- Sharpness: 27
- SplitToningBalance: 0
- SplitToningHighlightHue: 0
- SplitToningHighlightSaturation: 0
- SplitToningShadowHue: 0
- SplitToningShadowSaturation: 0
- Temperature: 4976
- Tint: +29
- ToneCurve: 0, 0, 32, 22, 64, 56, 128, 128, 192, 196, 255, 255
- ToneCurveName: Medium Contrast
- Version: 4.4.1
- Vibrance: 0
- VignetteAmount: 0
- WhiteBalance: Custom
- XMP-dc
- Description: OLYMPUS DIGITAL CAMERA
- XMP-exif
- DateTimeDigitized: 2008:08:05 21:07:05+04:00
- DateTimeOriginal: 2008:08:05 21:07:05+04:00
- FlashFired: False
- FlashFunction: False
- FlashMode: On
- FlashRedEyeMode: False
- FlashReturn: No return detection
- XMP-tiff
- ImageHeight: 2414
- ImageWidth: 2990
- XMP-xmp
- Label: Red
- ModifyDate: 2008:08:10 12:51:52+04:00
- Просмотров: 434
- Рейтинг: голосов еще нет
- Отзывов: 0
Получить код для блога
| Вставка фотографии в текущем разрешении |
Вставка миниатюры |
HTML (для вставки в блог):
BBCode (для вставки в форум):
Ссылка на фото:
Ссылка на миниатюру:
- Послать ссылку другу
| Комментарии к фотографии |