| » Участники » Banifacyj » мы » 200.08.17_bab.molodost_Banifacyj.livejournal.com_101.jpg |
Уважаемые друзья и участники проекта iXBT.photo! К сожалению, 1 марта 2026 года проект iXBT.photo прекратит свою работу и будет закрыт. Мы высоко ценим ваше участие и тот вклад, который вы внесли в развитие нашего сообщества. Пожалуйста, не забудьте сохранить ваши фотографии до этой даты.
С уважением, команда iXBT.com
| 200.08.17_bab.molodost_Banifacyj.livejournal.com_101.jpg |
200.08.17_bab.molodost_Banifacyj.livejournal.com_101.jpg
- Раздел: Другое, разное
- Дата съёмки: 17.08.2008 12:39
- Дата загрузки фото: 28.08.2008 13:13
- Оригинальная фотография: 400 x 600 ( 67 Кб)
- Технические характеристики:
- Фотоаппарат: Canon EOS 30D
- Выдержка: 1/160
- Гиперфокальное расстояние: 179,92 m
- Диафрагма: 4,5
- Светочувствительность: 125
- Фокусное расстояние: 51,0mm (35mm эквивалент: 477,0mm)
- Полный EXIF
- Composite
- Aperture: 4,5
- CircleOfConfusion: 0,003 mm
- FocalLength35efl: 51,0mm (35mm equivalent: 477,0mm)
- HyperfocalDistance: 179,92 m
- LightValue: 11,3
- ScaleFactor35efl: 9,4
- ShutterSpeed: 1/160
- ExifIFD
- ApertureValue: 4,5
- CreateDate: 2008:08:17 12:39:41
- CustomRendered: Normal
- DateTimeOriginal: 2008:08:17 12:39:41
- ExifImageLength: 600
- ExifImageWidth: 400
- ExposureCompensation: 0
- ExposureMode: Manual
- ExposureProgram: Manual
- ExposureTime: 1/160
- FNumber: 4,5
- Flash: Off
- FocalLength: 51,0mm
- ISO: 125
- MaxApertureValue: 2,8
- MeteringMode: Average
- SceneCaptureType: Standard
- ShutterSpeedValue: 1/160
- WhiteBalance: Auto
- ICC-header
- ICC-meas
- ICC-view
- IFD0
- Artist: Banifacyj Sergei Morozov
- Make: Canon
- Model: Canon EOS 30D
- ModifyDate: 2008:08:28 12:09:36
- Orientation: Horizontal (normal)
- Software: ACD Systems Digital Imaging
- IPTC
- By-line: Banifacyj Sergei Morozov
- XMP-aux
- Firmware: 1.0.5
- FlashCompensation: 0
- ImageNumber: 208
- Lens: 28.0-75.0 mm
- LensInfo: 28/1 75/1 0/0 0/0
- OwnerName: Banifacyj Sergei Morozov
- SerialNumber: 1730915494
- XMP-crs
- AlreadyApplied: True
- BlueHue: 0
- BlueSaturation: 0
- Brightness: +50
- CameraProfile: ACR 3.4
- ChromaticAberrationB: 0
- ChromaticAberrationR: 0
- Clarity: 0
- ColorNoiseReduction: 25
- Contrast: +25
- ConvertToGrayscale: False
- Defringe: 0
- Exposure: +0.37
- FillLight: 0
- GreenHue: 0
- GreenSaturation: 0
- HasCrop: False
- HasSettings: True
- HighlightRecovery: 0
- HueAdjustmentAqua: 0
- HueAdjustmentBlue: 0
- HueAdjustmentGreen: 0
- HueAdjustmentMagenta: 0
- HueAdjustmentOrange: 0
- HueAdjustmentPurple: 0
- HueAdjustmentRed: 0
- HueAdjustmentYellow: 0
- LuminanceAdjustmentAqua: 0
- LuminanceAdjustmentBlue: 0
- LuminanceAdjustmentGreen: 0
- LuminanceAdjustmentMagenta: 0
- LuminanceAdjustmentOrange: 0
- LuminanceAdjustmentPurple: 0
- LuminanceAdjustmentRed: 0
- LuminanceAdjustmentYellow: 0
- LuminanceSmoothing: 0
- ParametricDarks: -5
- ParametricHighlightSplit: 75
- ParametricHighlights: -11
- ParametricLights: -1
- ParametricMidtoneSplit: 50
- ParametricShadowSplit: 25
- ParametricShadows: -1
- RedHue: 0
- RedSaturation: 0
- Saturation: 0
- SaturationAdjustmentAqua: 0
- SaturationAdjustmentBlue: 0
- SaturationAdjustmentGreen: 0
- SaturationAdjustmentMagenta: 0
- SaturationAdjustmentOrange: 0
- SaturationAdjustmentPurple: 0
- SaturationAdjustmentRed: 0
- SaturationAdjustmentYellow: 0
- ShadowTint: 0
- Shadows: 5
- SharpenDetail: 25
- SharpenEdgeMasking: 0
- SharpenRadius: +1.0
- Sharpness: 25
- SplitToningBalance: 0
- SplitToningHighlightHue: 0
- SplitToningHighlightSaturation: 0
- SplitToningShadowHue: 0
- SplitToningShadowSaturation: 0
- Temperature: 4600
- Tint: -7
- ToneCurve: 0, 0, 32, 22, 64, 56, 128, 128, 192, 196, 255, 255
- ToneCurveName: Medium Contrast
- Version: 1.0
- Vibrance: +37
- VignetteAmount: 0
- WhiteBalance: As Shot
- XMP-dc
- Creator: Banifacyj Sergei Morozov
- XMP-exif
- DateTimeDigitized: 2008:08:17 12:39:41.0+2:00
- DateTimeOriginal: 2008:08:17 12:39:41.0+2:00
- FlashFired: False
- FlashFunction: False
- FlashMode: Off
- FlashRedEyeMode: False
- FlashReturn: No return detection
- XMP-tiff
- ImageHeight: 3504
- ImageWidth: 2336
- XMP-xmp
- ModifyDate: 2008:08:25 20:02:09.0+2:00
- Просмотров: 204
- Рейтинг: голосов еще нет
- Отзывов: 0
Получить код для блога
| Вставка фотографии в текущем разрешении |
Вставка миниатюры |
HTML (для вставки в блог):
BBCode (для вставки в форум):
Ссылка на фото:
Ссылка на миниатюру:
- Послать ссылку другу
| Комментарии к фотографии |