| » Участники » Banifacyj » мы » 200.08.17_bab.molodost_Banifacyj.livejournal.com_132.jpg |
Уважаемые друзья и участники проекта iXBT.photo! К сожалению, 1 марта 2026 года проект iXBT.photo прекратит свою работу и будет закрыт. Мы высоко ценим ваше участие и тот вклад, который вы внесли в развитие нашего сообщества. Пожалуйста, не забудьте сохранить ваши фотографии до этой даты.
С уважением, команда iXBT.com
| 200.08.17_bab.molodost_Banifacyj.livejournal.com_132.jpg |
200.08.17_bab.molodost_Banifacyj.livejournal.com_132.jpg
- Раздел: Другое, разное
- Дата съёмки: 17.08.2008 13:36
- Дата загрузки фото: 28.08.2008 13:14
- Оригинальная фотография: 588 x 600 ( 76 Кб)
- Технические характеристики:
- Фотоаппарат: Canon EOS 30D
- Выдержка: 1/200
- Гиперфокальное расстояние: 213,75 m
- Диафрагма: 4,5
- Светочувствительность: 100
- Фокусное расстояние: 60,0mm (35mm эквивалент: 481,7mm)
- Полный EXIF
- Composite
- Aperture: 4,5
- CircleOfConfusion: 0,004 mm
- FocalLength35efl: 60,0mm (35mm equivalent: 481,7mm)
- HyperfocalDistance: 213,75 m
- LightValue: 12,0
- ScaleFactor35efl: 8,0
- ShutterSpeed: 1/200
- ExifIFD
- ApertureValue: 4,5
- CreateDate: 2008:08:17 13:36:59
- CustomRendered: Normal
- DateTimeOriginal: 2008:08:17 13:36:59
- ExifImageLength: 600
- ExifImageWidth: 588
- ExposureCompensation: 0
- ExposureMode: Manual
- ExposureProgram: Manual
- ExposureTime: 1/200
- FNumber: 4,5
- Flash: Off
- FocalLength: 60,0mm
- ISO: 100
- MaxApertureValue: 2,8
- MeteringMode: Average
- SceneCaptureType: Standard
- ShutterSpeedValue: 1/200
- WhiteBalance: Auto
- ICC-header
- ICC-meas
- ICC-view
- IFD0
- Artist: Banifacyj Sergei Morozov
- Make: Canon
- Model: Canon EOS 30D
- ModifyDate: 2008:08:28 12:09:41
- Orientation: Horizontal (normal)
- Software: ACD Systems Digital Imaging
- IPTC
- By-line: Banifacyj Sergei Morozov
- XMP-aux
- Firmware: 1.0.5
- FlashCompensation: 0
- ImageNumber: 96
- Lens: 28.0-75.0 mm
- LensInfo: 28/1 75/1 0/0 0/0
- OwnerName: Banifacyj Sergei Morozov
- SerialNumber: 1730915494
- XMP-crs
- AlreadyApplied: True
- BlueHue: 0
- BlueSaturation: 0
- Brightness: +50
- CameraProfile: ACR 3.4
- ChromaticAberrationB: 0
- ChromaticAberrationR: 0
- Clarity: 0
- ColorNoiseReduction: 25
- Contrast: +25
- ConvertToGrayscale: False
- CropAngle: 0
- CropBottom: 1
- CropHeight: 2235
- CropLeft: 0.165909
- CropRight: 0.790909
- CropTop: 0.043182
- CropUnit: 0
- CropWidth: 2190
- Defringe: 0
- Exposure: +0.80
- FillLight: 14
- GreenHue: 0
- GreenSaturation: 0
- HasCrop: True
- HasSettings: True
- HighlightRecovery: 1
- HueAdjustmentAqua: 0
- HueAdjustmentBlue: 0
- HueAdjustmentGreen: 0
- HueAdjustmentMagenta: 0
- HueAdjustmentOrange: 0
- HueAdjustmentPurple: 0
- HueAdjustmentRed: 0
- HueAdjustmentYellow: 0
- LuminanceAdjustmentAqua: 0
- LuminanceAdjustmentBlue: 0
- LuminanceAdjustmentGreen: 0
- LuminanceAdjustmentMagenta: 0
- LuminanceAdjustmentOrange: 0
- LuminanceAdjustmentPurple: 0
- LuminanceAdjustmentRed: 0
- LuminanceAdjustmentYellow: 0
- LuminanceSmoothing: 0
- ParametricDarks: 0
- ParametricHighlightSplit: 75
- ParametricHighlights: 0
- ParametricLights: 0
- ParametricMidtoneSplit: 50
- ParametricShadowSplit: 25
- ParametricShadows: 0
- RedHue: 0
- RedSaturation: 0
- Saturation: +8
- SaturationAdjustmentAqua: 0
- SaturationAdjustmentBlue: 0
- SaturationAdjustmentGreen: 0
- SaturationAdjustmentMagenta: 0
- SaturationAdjustmentOrange: 0
- SaturationAdjustmentPurple: 0
- SaturationAdjustmentRed: 0
- SaturationAdjustmentYellow: 0
- ShadowTint: 0
- Shadows: 5
- SharpenDetail: 25
- SharpenEdgeMasking: 0
- SharpenRadius: +1.0
- Sharpness: 25
- SplitToningBalance: 0
- SplitToningHighlightHue: 0
- SplitToningHighlightSaturation: 0
- SplitToningShadowHue: 0
- SplitToningShadowSaturation: 0
- Temperature: 5467
- Tint: -4
- ToneCurve: 0, 0, 32, 22, 64, 56, 128, 128, 192, 196, 255, 255
- ToneCurveName: Medium Contrast
- Version: 1.0
- Vibrance: +41
- VignetteAmount: 0
- WhiteBalance: Custom
- XMP-dc
- Creator: Banifacyj Sergei Morozov
- XMP-exif
- DateTimeDigitized: 2008:08:17 13:36:59.0+2:00
- DateTimeOriginal: 2008:08:17 13:36:59.0+2:00
- FlashFired: False
- FlashFunction: False
- FlashMode: Off
- FlashRedEyeMode: False
- FlashReturn: No return detection
- XMP-tiff
- ImageHeight: 2235
- ImageWidth: 2190
- XMP-xmp
- ModifyDate: 2008:08:25 20:05:46.0+2:00
- Просмотров: 251
- Рейтинг: голосов еще нет
- Отзывов: 0
Получить код для блога
| Вставка фотографии в текущем разрешении |
Вставка миниатюры |
HTML (для вставки в блог):
BBCode (для вставки в форум):
Ссылка на фото:
Ссылка на миниатюру:
- Послать ссылку другу
| Комментарии к фотографии |