Уважаемые друзья и участники проекта iXBT.photo! К сожалению, 1 марта 2026 года проект iXBT.photo прекратит свою работу и будет закрыт. Мы высоко ценим ваше участие и тот вклад, который вы внесли в развитие нашего сообщества. Пожалуйста, не забудьте сохранить ваши фотографии до этой даты.
С уважением, команда iXBT.com
| P9075138a.jpg |
P9075138a.jpg
- Раздел: Животные
- Дата съёмки: 09.09.2008 17:26
- Дата загрузки фото: 09.09.2008 20:35
- Оригинальная фотография: 1774 x 2365 (2,2 Мб)
- Технические характеристики:
- Фотоаппарат: Olympus E-3
- Выдержка: 1/160
- Диафрагма: 2,0
- Светочувствительность: 400
- Фокусное расстояние: 50,0mm
- Полный EXIF
- Adobe
- ColorTransform: YCbCr
- Composite
- Aperture: 2,0
- FocalLength35efl: 50,0mm
- LightValue: 7,3
- ShutterSpeed: 1/160
- ExifIFD
- ApertureValue: 2,0
- CFAPattern: [Red,Green][Green,Blue]
- ColorSpace: sRGB
- Contrast: Normal
- CreateDate: 2008:09:07 17:35:08
- CustomRendered: Normal
- DateTimeOriginal: 2008:09:07 17:35:08
- DigitalZoomRatio: 1
- ExifImageLength: 2365
- ExifImageWidth: 1774
- ExposureCompensation: 0
- ExposureMode: Manual
- ExposureProgram: Manual
- ExposureTime: 1/160
- FNumber: 2,0
- Flash: On, Did not fire
- FocalLength: 50,0mm
- GainControl: High gain up
- ISO: 400
- LightSource: Unknown (0)
- MaxApertureValue: 1,4
- MeteringMode: Center-weighted average
- Saturation: Normal
- SceneCaptureType: Standard
- Sharpness: Normal
- ShutterSpeedValue: 1/160
- WhiteBalance: Auto
- ICC-header
- ICC-meas
- ICC-view
- IFD0
- ImageDescription: OLYMPUS DIGITAL CAMERA
- Make: OLYMPUS IMAGING CORP.
- Model: E-3
- ModifyDate: 2008:09:09 17:27:26
- Orientation: Horizontal (normal)
- IFD1
- IPTC
- Caption-Abstract: OLYMPUS DIGITAL CAMERA
- XMP-aux
- FlashCompensation: 0
- Lens: 50.0 mm f/1.4
- LensInfo: 50/1 50/1 14/10 14/10
- LensSerialNumber: ODUVAN3.0
- SerialNumber: D70515771
- XMP-crs
- AlreadyApplied: True
- BlueHue: 0
- BlueSaturation: 0
- Brightness: +82
- CameraProfile: ACR 4.4
- ChromaticAberrationB: 0
- ChromaticAberrationR: 0
- Clarity: 12
- ColorNoiseReduction: 39
- Contrast: +36
- ConvertToGrayscale: False
- CropAngle: 0
- CropBottom: 0.929162
- CropHeight: 2365
- CropLeft: 0.226749
- CropRight: 0.71302
- CropTop: 0.06468
- CropUnit: 0
- CropWidth: 1774
- Defringe: 0
- Exposure: +0.76
- FillLight: 15
- GreenHue: 0
- GreenSaturation: 0
- HasCrop: True
- HasSettings: True
- HighlightRecovery: 12
- HueAdjustmentAqua: 0
- HueAdjustmentBlue: 0
- HueAdjustmentGreen: 0
- HueAdjustmentMagenta: 0
- HueAdjustmentOrange: 0
- HueAdjustmentPurple: 0
- HueAdjustmentRed: 0
- HueAdjustmentYellow: 0
- LuminanceAdjustmentAqua: 0
- LuminanceAdjustmentBlue: 0
- LuminanceAdjustmentGreen: 0
- LuminanceAdjustmentMagenta: 0
- LuminanceAdjustmentOrange: 0
- LuminanceAdjustmentPurple: 0
- LuminanceAdjustmentRed: 0
- LuminanceAdjustmentYellow: 0
- LuminanceSmoothing: 39
- ParametricDarks: 0
- ParametricHighlightSplit: 75
- ParametricHighlights: 0
- ParametricLights: +12
- ParametricMidtoneSplit: 50
- ParametricShadowSplit: 25
- ParametricShadows: -7
- RedHue: 0
- RedSaturation: 0
- Saturation: 0
- SaturationAdjustmentAqua: 0
- SaturationAdjustmentBlue: 0
- SaturationAdjustmentGreen: 0
- SaturationAdjustmentMagenta: 0
- SaturationAdjustmentOrange: 0
- SaturationAdjustmentPurple: 0
- SaturationAdjustmentRed: 0
- SaturationAdjustmentYellow: 0
- ShadowTint: 0
- Shadows: 8
- SharpenDetail: 77
- SharpenEdgeMasking: 0
- SharpenRadius: +1.0
- Sharpness: 12
- SplitToningBalance: 0
- SplitToningHighlightHue: 0
- SplitToningHighlightSaturation: 0
- SplitToningShadowHue: 0
- SplitToningShadowSaturation: 0
- Temperature: 3000
- Tint: +9
- ToneCurve: 0, 0, 32, 22, 64, 56, 128, 128, 192, 196, 255, 255
- ToneCurveName: Medium Contrast
- Version: 4.4.1
- Vibrance: 0
- VignetteAmount: 0
- WhiteBalance: Custom
- XMP-dc
- Description: OLYMPUS DIGITAL CAMERA
- Format: image/jpeg
- XMP-exif
- DateTimeDigitized: 2008:09:07 17:35:08+04:00
- DateTimeOriginal: 2008:09:07 17:35:08+04:00
- FlashFired: False
- FlashFunction: False
- FlashMode: On
- FlashRedEyeMode: False
- FlashReturn: No return detection
- XMP-tiff
- ImageHeight: 2365
- ImageWidth: 1774
- XMP-xmp
- CreateDate: 2008:09:09 17:26:33+04:00
- ModifyDate: 2008:09:09 17:27:26+04:00
- XMP-xmpMM
- Просмотров: 442
- Рейтинг: голосов еще нет
- Отзывов: 0
Получить код для блога
| Вставка фотографии в текущем разрешении |
Вставка миниатюры |
HTML (для вставки в блог):
BBCode (для вставки в форум):
Ссылка на фото:
Ссылка на миниатюру:
- Послать ссылку другу
| Комментарии к фотографии |