- Раздел: Другое, разное
- Дата съёмки: 07.09.2008 18:34
- Дата загрузки фото: 09.09.2008 23:07
- Оригинальная фотография: 1440 x 1920 (1,2 Мб)
- Технические характеристики:
- Фотоаппарат: Canon PowerShot G9
- Выдержка: 1/200
- Гиперфокальное расстояние: 50,76 m
- Диафрагма: 4,0
- Светочувствительность: 160
- Фокусное расстояние: 25,0mm (35mm эквивалент: 243,7mm)
- Полный EXIF
- Adobe
- ColorTransform: YCbCr
- Composite
- Aperture: 4,0
- CircleOfConfusion: 0,003 mm
- FocalLength35efl: 25,0mm (35mm equivalent: 243,7mm)
- HyperfocalDistance: 50,76 m
- LightValue: 11,0
- ScaleFactor35efl: 9,7
- ShutterSpeed: 1/200
- ExifIFD
- ApertureValue: 4,0
- CreateDate: 2008:09:07 18:34:41
- CustomRendered: Normal
- DateTimeOriginal: 2008:09:07 18:34:41
- DigitalZoomRatio: 1
- ExposureCompensation: 0
- ExposureMode: Auto
- ExposureTime: 1/200
- FNumber: 4,0
- Flash: Off
- FocalLength: 25,0mm
- ISO: 160
- MaxApertureValue: 4,0
- MeteringMode: Multi-segment
- SceneCaptureType: Standard
- SensingMethod: One-chip color area
- ShutterSpeedValue: 1/200
- WhiteBalance: Auto
- ICC-header
- IFD0
- Make: Canon
- Model: Canon PowerShot G9
- ModifyDate: 2008:09:08 11:37:48
- XMP-aux
- Firmware: 1.00
- FlashCompensation: 0
- Lens: 7.4-44.4 mm
- LensInfo: 7400/1000 44400/1000 0/0 0/0
- XMP-crs
- AlreadyApplied: True
- BlueHue: 0
- BlueSaturation: 0
- Brightness: 0
- CameraProfile: Embedded
- ChromaticAberrationB: 0
- ChromaticAberrationR: 0
- Clarity: 0
- ColorNoiseReduction: 0
- Contrast: +100
- ConvertToGrayscale: True
- Defringe: 0
- Exposure: +2.10
- FillLight: 74
- GrayMixerAqua: -19
- GrayMixerBlue: +6
- GrayMixerGreen: -23
- GrayMixerMagenta: +5
- GrayMixerOrange: -14
- GrayMixerPurple: +13
- GrayMixerRed: -6
- GrayMixerYellow: -17
- GreenHue: 0
- GreenSaturation: 0
- HasCrop: False
- HasSettings: True
- HighlightRecovery: 0
- IncrementalTemperature: +26
- IncrementalTint: -7
- LuminanceSmoothing: 0
- ParametricDarks: 0
- ParametricHighlightSplit: 75
- ParametricHighlights: 0
- ParametricLights: 0
- ParametricMidtoneSplit: 50
- ParametricShadowSplit: 25
- ParametricShadows: 0
- PostCropVignetteAmount: 0
- RedHue: 0
- RedSaturation: 0
- ShadowTint: 0
- Shadows: 45
- SharpenDetail: 25
- SharpenEdgeMasking: 0
- SharpenRadius: +1.0
- Sharpness: 0
- SplitToningBalance: 0
- SplitToningHighlightHue: 0
- SplitToningHighlightSaturation: 0
- SplitToningShadowHue: 0
- SplitToningShadowSaturation: 0
- ToneCurve: 0, 0, 255, 255
- ToneCurveName: Linear
- Version: 4.5
- VignetteAmount: 0
- WhiteBalance: Custom
- XMP-exif
- DateTimeDigitized: 2008:09:07 18:34:41+04:00
- DateTimeOriginal: 2008:09:07 18:34:41+04:00
- ExifImageLength: 1920
- ExifImageWidth: 1440
- FlashFired: False
- FlashFunction: False
- FlashMode: Off
- FlashRedEyeMode: False
- FlashReturn: No return detection
- XMP-tiff
- ImageHeight: 1920
- ImageWidth: 1440
- XMP-xmp
- CreateDate: 2008:09:07 18:34:41+04:00
- ModifyDate: 2008:09:08 11:37:48+04:00
- Просмотров: 473
- Рейтинг: голосов еще нет
- Отзывов: 0