- Раздел: Другое, разное
- Дата съёмки: 07.09.2008 20:22
- Дата загрузки фото: 09.09.2008 23:08
- Оригинальная фотография: 1920 x 1440 (1,1 Мб)
- Технические характеристики:
- Фотоаппарат: Canon PowerShot G9
- Выдержка: 0,5
- Гиперфокальное расстояние: 53,28 m
- Диафрагма: 4,8
- Светочувствительность: 200
- Фокусное расстояние: 44,4mm (35mm эквивалент: 173,1mm)
- Полный EXIF
- Adobe
- ColorTransform: YCbCr
- Composite
- Aperture: 4,8
- CircleOfConfusion: 0,008 mm
- FocalLength35efl: 44,4mm (35mm equivalent: 173,1mm)
- HyperfocalDistance: 53,28 m
- LightValue: 4,5
- ScaleFactor35efl: 3,9
- ShutterSpeed: 0,5
- ExifIFD
- ApertureValue: 4,8
- CreateDate: 2008:09:07 20:22:52
- CustomRendered: Normal
- DateTimeOriginal: 2008:09:07 20:22:52
- DigitalZoomRatio: 1
- ExposureCompensation: 0
- ExposureMode: Auto
- ExposureTime: 0,5
- FNumber: 4,8
- Flash: Off
- FocalLength: 44,4mm
- ISO: 200
- MaxApertureValue: 4,8
- MeteringMode: Multi-segment
- SceneCaptureType: Standard
- SensingMethod: One-chip color area
- ShutterSpeedValue: 0,5
- WhiteBalance: Auto
- ICC-header
- IFD0
- Make: Canon
- Model: Canon PowerShot G9
- ModifyDate: 2008:09:08 11:57:56
- XMP-aux
- Firmware: 1.00
- FlashCompensation: 0
- Lens: 7.4-44.4 mm
- LensInfo: 7400/1000 44400/1000 0/0 0/0
- XMP-crs
- AlreadyApplied: True
- BlueHue: 0
- BlueSaturation: 0
- Brightness: +86
- CameraProfile: ACR 4.4
- ChromaticAberrationB: 0
- ChromaticAberrationR: 0
- Clarity: +100
- ColorNoiseReduction: 25
- Contrast: +100
- ConvertToGrayscale: True
- Defringe: 0
- Exposure: +1.33
- FillLight: 12
- GrayMixerAqua: -20
- GrayMixerBlue: +8
- GrayMixerGreen: -27
- GrayMixerMagenta: +7
- GrayMixerOrange: -17
- GrayMixerPurple: +17
- GrayMixerRed: -6
- GrayMixerYellow: -22
- GreenHue: 0
- GreenSaturation: 0
- HasCrop: False
- HasSettings: True
- HighlightRecovery: 32
- LuminanceSmoothing: 0
- ParametricDarks: 0
- ParametricHighlightSplit: 75
- ParametricHighlights: 0
- ParametricLights: 0
- ParametricMidtoneSplit: 50
- ParametricShadowSplit: 25
- ParametricShadows: 0
- PostCropVignetteAmount: 0
- RedHue: 0
- RedSaturation: 0
- ShadowTint: 0
- Shadows: 100
- SharpenDetail: 25
- SharpenEdgeMasking: 0
- SharpenRadius: +1.0
- Sharpness: 25
- SplitToningBalance: 0
- SplitToningHighlightHue: 0
- SplitToningHighlightSaturation: 0
- SplitToningShadowHue: 0
- SplitToningShadowSaturation: 0
- Temperature: 2595
- Tint: -7
- ToneCurve: 0, 0, 32, 22, 64, 56, 128, 128, 192, 196, 255, 255
- ToneCurveName: Medium Contrast
- Version: 4.5
- VignetteAmount: 0
- WhiteBalance: Custom
- XMP-exif
- DateTimeDigitized: 2008:09:07 20:22:52+04:00
- DateTimeOriginal: 2008:09:07 20:22:52+04:00
- ExifImageLength: 1440
- ExifImageWidth: 1920
- FlashFired: False
- FlashFunction: False
- FlashMode: Off
- FlashRedEyeMode: False
- FlashReturn: No return detection
- XMP-tiff
- ImageHeight: 1440
- ImageWidth: 1920
- XMP-xmp
- CreateDate: 2008:09:07 20:22:52+04:00
- ModifyDate: 2008:09:08 11:57:56+04:00
- Просмотров: 495
- Рейтинг: голосов еще нет
- Отзывов: 0