- Раздел: Другое, разное
- Дата съёмки: 06.07.2008 13:16
- Дата загрузки фото: 10.09.2008 23:40
- Оригинальная фотография: 3241 x 1007 (2,0 Мб)
- Технические характеристики:
- Фотоаппарат: Canon PowerShot G9
- Выдержка: 1/125
- Диафрагма: 3,2
- Светочувствительность: 200
- Фокусное расстояние: 10,7mm
- Полный EXIF
- Adobe
- ColorTransform: YCbCr
- Composite
- Aperture: 3,2
- FocalLength35efl: 10,7mm
- LightValue: 9,3
- ShutterSpeed: 1/125
- ExifIFD
- ApertureValue: 3,2
- CreateDate: 2008:07:06 13:16:08
- CustomRendered: Normal
- DateTimeOriginal: 2008:07:06 13:16:08
- DigitalZoomRatio: 1
- ExposureCompensation: 0
- ExposureMode: Manual
- ExposureTime: 1/125
- FNumber: 3,2
- Flash: Off
- FocalLength: 10,7mm
- ISO: 200
- MaxApertureValue: 3,2
- MeteringMode: Multi-segment
- SceneCaptureType: Standard
- SensingMethod: One-chip color area
- ShutterSpeedValue: 1/125
- WhiteBalance: Auto
- ICC-header
- IFD0
- Make: Canon
- Model: Canon PowerShot G9
- ModifyDate: 2008:09:10 11:21:38
- XMP-aux
- Firmware: 1.00
- FlashCompensation: 0
- Lens: 7.4-44.4 mm
- LensInfo: 7400/1000 44400/1000 0/0 0/0
- XMP-crs
- AlreadyApplied: True
- BlueHue: 0
- BlueSaturation: 0
- Brightness: +150
- CameraProfile: ACR 4.4
- ChromaticAberrationB: 0
- ChromaticAberrationR: 0
- Clarity: 0
- ColorNoiseReduction: 25
- Contrast: +100
- ConvertToGrayscale: True
- CropAngle: 4.12658
- CropBottom: 0.876858
- CropHeight: 1007
- CropLeft: 0.070455
- CropRight: 0.860586
- CropTop: 0.464345
- CropUnit: 0
- CropWidth: 3241
- Defringe: 0
- Exposure: -1.25
- FillLight: 11
- GrayMixerAqua: -18
- GrayMixerBlue: +9
- GrayMixerGreen: -26
- GrayMixerMagenta: +4
- GrayMixerOrange: -18
- GrayMixerPurple: +15
- GrayMixerRed: -9
- GrayMixerYellow: -22
- GreenHue: 0
- GreenSaturation: 0
- HasCrop: True
- HasSettings: True
- HighlightRecovery: 100
- LuminanceSmoothing: 0
- ParametricDarks: 0
- ParametricHighlightSplit: 75
- ParametricHighlights: +88
- ParametricLights: +31
- ParametricMidtoneSplit: 50
- ParametricShadowSplit: 25
- ParametricShadows: -45
- PostCropVignetteAmount: 0
- RedHue: 0
- RedSaturation: 0
- ShadowTint: 0
- Shadows: 52
- SharpenDetail: 25
- SharpenEdgeMasking: 0
- SharpenRadius: +1.0
- Sharpness: 25
- SplitToningBalance: 0
- SplitToningHighlightHue: 0
- SplitToningHighlightSaturation: 0
- SplitToningShadowHue: 0
- SplitToningShadowSaturation: 0
- Temperature: 50000
- Tint: +95
- ToneCurve: 0, 0, 32, 22, 64, 56, 128, 128, 192, 196, 255, 255
- ToneCurveName: Medium Contrast
- Version: 4.5
- VignetteAmount: 0
- WhiteBalance: Custom
- XMP-exif
- DateTimeDigitized: 2008:07:06 13:16:08+04:00
- DateTimeOriginal: 2008:07:06 13:16:08+04:00
- ExifImageLength: 1007
- ExifImageWidth: 3241
- FlashFired: False
- FlashFunction: False
- FlashMode: Off
- FlashRedEyeMode: False
- FlashReturn: No return detection
- XMP-tiff
- ImageHeight: 1007
- ImageWidth: 3241
- XMP-xmp
- CreateDate: 2008:07:06 13:16:08+04:00
- Label: Red
- ModifyDate: 2008:09:10 11:21:38+04:00
- Rating: 4