- Раздел: Другое, разное
- Дата съёмки: 06.07.2008 13:17
- Дата загрузки фото: 10.09.2008 23:41
- Оригинальная фотография: 2243 x 584 (857 Кб)
- Технические характеристики:
- Фотоаппарат: Canon PowerShot G9
- Выдержка: 1/125
- Диафрагма: 2,8
- Светочувствительность: 200
- Фокусное расстояние: 7,4mm
- Полный EXIF
- Adobe
- ColorTransform: YCbCr
- Composite
- Aperture: 2,8
- FocalLength35efl: 7,4mm
- LightValue: 8,9
- ShutterSpeed: 1/125
- ExifIFD
- ApertureValue: 2,8
- CreateDate: 2008:07:06 13:17:41
- CustomRendered: Normal
- DateTimeOriginal: 2008:07:06 13:17:41
- DigitalZoomRatio: 1
- ExposureCompensation: 0
- ExposureMode: Manual
- ExposureTime: 1/125
- FNumber: 2,8
- Flash: Off
- FocalLength: 7,4mm
- ISO: 200
- MaxApertureValue: 2,8
- MeteringMode: Multi-segment
- SceneCaptureType: Standard
- SensingMethod: One-chip color area
- ShutterSpeedValue: 1/125
- WhiteBalance: Auto
- ICC-header
- IFD0
- Make: Canon
- Model: Canon PowerShot G9
- ModifyDate: 2008:09:10 11:23:02
- XMP-aux
- Firmware: 1.00
- FlashCompensation: 0
- Lens: 7.4-44.4 mm
- LensInfo: 7400/1000 44400/1000 0/0 0/0
- XMP-crs
- AlreadyApplied: True
- BlueHue: 0
- BlueSaturation: 0
- Brightness: +105
- CameraProfile: ACR 4.4
- ChromaticAberrationB: 0
- ChromaticAberrationR: 0
- Clarity: +53
- ColorNoiseReduction: 0
- Contrast: +100
- ConvertToGrayscale: True
- CropAngle: 5.39334
- CropBottom: 0.380172
- CropHeight: 584
- CropLeft: 0.108643
- CropRight: 0.653122
- CropTop: 0.116273
- CropUnit: 0
- CropWidth: 2243
- Defringe: 0
- Exposure: -0.82
- FillLight: 32
- GrayMixerAqua: -18
- GrayMixerBlue: +9
- GrayMixerGreen: -27
- GrayMixerMagenta: +3
- GrayMixerOrange: -19
- GrayMixerPurple: +15
- GrayMixerRed: -10
- GrayMixerYellow: -23
- GreenHue: 0
- GreenSaturation: 0
- HasCrop: True
- HasSettings: True
- HighlightRecovery: 100
- LuminanceSmoothing: 0
- ParametricDarks: -10
- ParametricHighlightSplit: 75
- ParametricHighlights: +20
- ParametricLights: +10
- ParametricMidtoneSplit: 50
- ParametricShadowSplit: 25
- ParametricShadows: -15
- PostCropVignetteAmount: 0
- RedHue: 0
- RedSaturation: 0
- ShadowTint: 0
- Shadows: 97
- SharpenDetail: 100
- SharpenEdgeMasking: 0
- SharpenRadius: +1.0
- Sharpness: 0
- SplitToningBalance: 0
- SplitToningHighlightHue: 0
- SplitToningHighlightSaturation: 0
- SplitToningShadowHue: 0
- SplitToningShadowSaturation: 0
- Temperature: 2000
- Tint: -2
- ToneCurve: 0, 0, 32, 22, 64, 56, 128, 128, 192, 196, 255, 255
- ToneCurveName: Medium Contrast
- Version: 4.5
- VignetteAmount: 0
- WhiteBalance: Custom
- XMP-exif
- DateTimeDigitized: 2008:07:06 13:17:41+04:00
- DateTimeOriginal: 2008:07:06 13:17:41+04:00
- ExifImageLength: 584
- ExifImageWidth: 2243
- FlashFired: False
- FlashFunction: False
- FlashMode: Off
- FlashRedEyeMode: False
- FlashReturn: No return detection
- XMP-tiff
- ImageHeight: 584
- ImageWidth: 2243
- XMP-xmp
- CreateDate: 2008:07:06 13:17:41+04:00
- ModifyDate: 2008:09:10 11:23:02+04:00
- Rating: 3
- Просмотров: 414
- Рейтинг: голосов еще нет
- Отзывов: 0