Уважаемые друзья и участники проекта iXBT.photo! К сожалению, 1 марта 2026 года проект iXBT.photo прекратит свою работу и будет закрыт. Мы высоко ценим ваше участие и тот вклад, который вы внесли в развитие нашего сообщества. Пожалуйста, не забудьте сохранить ваши фотографии до этой даты.
С уважением, команда iXBT.com
| DSC07926-1.jpg |
DSC07926-1.jpg
- Раздел: Путешествия
- Дата съёмки: 14.08.2007 15:18
- Дата загрузки фото: 13.10.2008 18:37
- Оригинальная фотография: 3769 x 2513 (6,5 Мб)
- Технические характеристики:
- Фотоаппарат: Sony DSC-R1
- Выдержка: 1/250
- Диафрагма: 7,1
- Светочувствительность: 160
- Фокусное расстояние: 17,5 mm
- Экспокоррекция: -0,7
- Полный EXIF
- Adobe
- ColorTransform: YCbCr
- Composite
- Aperture: 7,1
- FocalLength35efl: 17,5 mm
- ShutterSpeed: 1/250
- ExifIFD
- ApertureValue: 7,1
- Contrast: Normal
- CreateDate: 2007:08:14 15:18:16
- CustomRendered: Custom
- DateTimeOriginal: 2007:08:14 15:18:16
- ExposureCompensation: -0,7
- ExposureMode: Manual
- ExposureProgram: Program AE
- ExposureTime: 1/250
- FNumber: 7,1
- Flash: Off
- FocalLength: 17,5 mm
- ISO: 160
- LightSource: Unknown
- MaxApertureValue: 2,8
- MeteringMode: Multi-segment
- Saturation: Normal
- SceneCaptureType: Standard
- SceneType: Directly photographed
- Sharpness: Normal
- ShutterSpeedValue: 1/250
- WhiteBalance: Auto
- ICC-header
- ICC-meas
- ICC-view
- IFD0
- Make: SONY
- Model: DSC-R1
- ModifyDate: 2008:10:07 12:39:41
- XMP-aux
- Lens: 14.3-71.5 mm f/2.8-4.8
- LensInfo: 143/10 715/10 28/10 48/10
- XMP-crs
- AlreadyApplied: True
- BlueHue: 0
- BlueSaturation: 0
- Brightness: +50
- CameraProfile: ACR 4.4
- ChromaticAberrationB: 0
- ChromaticAberrationR: 0
- Clarity: 17
- ColorNoiseReduction: 25
- Contrast: +7
- ConvertToGrayscale: False
- CropAngle: -1.213666
- CropBottom: 0.9692
- CropHeight: 2513
- CropLeft: 0.008555
- CropRight: 0.991445
- CropTop: 0.0308
- CropUnit: 0
- CropWidth: 3769
- Defringe: 2
- Exposure: 0.00
- FillLight: 17
- GreenHue: 0
- GreenSaturation: 0
- HasCrop: True
- HasSettings: True
- HighlightRecovery: 38
- HueAdjustmentAqua: 0
- HueAdjustmentBlue: 0
- HueAdjustmentGreen: 0
- HueAdjustmentMagenta: 0
- HueAdjustmentOrange: 0
- HueAdjustmentPurple: 0
- HueAdjustmentRed: 0
- HueAdjustmentYellow: 0
- LuminanceAdjustmentAqua: 0
- LuminanceAdjustmentBlue: 0
- LuminanceAdjustmentGreen: 0
- LuminanceAdjustmentMagenta: 0
- LuminanceAdjustmentOrange: 0
- LuminanceAdjustmentPurple: 0
- LuminanceAdjustmentRed: 0
- LuminanceAdjustmentYellow: 0
- LuminanceSmoothing: 25
- ParametricDarks: +12
- ParametricHighlightSplit: 75
- ParametricHighlights: 0
- ParametricLights: +7
- ParametricMidtoneSplit: 50
- ParametricShadowSplit: 25
- ParametricShadows: 0
- RedHue: 0
- RedSaturation: 0
- Saturation: 0
- SaturationAdjustmentAqua: 0
- SaturationAdjustmentBlue: 0
- SaturationAdjustmentGreen: 0
- SaturationAdjustmentMagenta: 0
- SaturationAdjustmentOrange: 0
- SaturationAdjustmentPurple: 0
- SaturationAdjustmentRed: 0
- SaturationAdjustmentYellow: 0
- ShadowTint: 0
- Shadows: 12
- SharpenDetail: 100
- SharpenEdgeMasking: 0
- SharpenRadius: +1.0
- Sharpness: 25
- SplitToningBalance: 0
- SplitToningHighlightHue: 0
- SplitToningHighlightSaturation: 0
- SplitToningShadowHue: 0
- SplitToningShadowSaturation: 0
- Temperature: 4900
- Tint: -2
- ToneCurve: 0, 0, 32, 22, 64, 56, 128, 128, 192, 196, 255, 255
- ToneCurveName: Medium Contrast
- Version: 4.4.1
- Vibrance: -5
- VignetteAmount: 0
- WhiteBalance: Custom
- XMP-exif
- DateTimeDigitized: 2007:08:14 15:18:16+04:00
- DateTimeOriginal: 2007:08:14 15:18:16+04:00
- FlashFired: False
- FlashFunction: False
- FlashMode: Off
- FlashRedEyeMode: False
- FlashReturn: No return detection
- XMP-tiff
- ImageHeight: 2513
- ImageWidth: 3769
- XMP-xmp
- ModifyDate: 2008:10:07 12:39:41+04:00
- Просмотров: 419
- Рейтинг: голосов еще нет
- Отзывов: 0
Получить код для блога
| Вставка фотографии в текущем разрешении |
Вставка миниатюры |
HTML (для вставки в блог):
BBCode (для вставки в форум):
Ссылка на фото:
Ссылка на миниатюру:
- Послать ссылку другу
| Комментарии к фотографии |