- Раздел: Архитектура
- Дата съёмки: 18.01.2009 20:04
- Дата загрузки фото: 18.01.2009 21:51
- Оригинальная фотография: 1500 x 1000 (929 Кб)
- Технические характеристики:
- Фотоаппарат: Canon EOS 1000D
- Выдержка: 1/500
- Гиперфокальное расстояние: 6,41 m
- Диафрагма: 6,3
- Светочувствительность: 200
- Фокусное расстояние: 17,0 mm (35 mm equivalent: 71,3 mm)
- Экспокоррекция: +1/3
- Полный EXIF
- Adobe
- ColorTransform: YCbCr
- Composite
- Aperture: 6,3
- CircleOfConfusion: 0,007 mm
- FOV: 28,0 deg
- FocalLength35efl: 17,0 mm (35 mm equivalent: 71,3 mm)
- HyperfocalDistance: 6,41 m
- ScaleFactor35efl: 4,2
- ShutterSpeed: 1/500
- ExifIFD
- ApertureValue: 6,3
- ColorSpace: sRGB
- CreateDate: 2009:01:08 14:45:50
- CustomRendered: Normal
- DateTimeOriginal: 2009:01:08 14:45:50
- ExifImageHeight: 1000
- ExifImageWidth: 1500
- ExposureCompensation: +1/3
- ExposureMode: Auto
- ExposureProgram: Aperture-priority AE
- ExposureTime: 1/500
- FNumber: 6,3
- Flash: Off
- FocalLength: 17,0 mm
- ISO: 200
- MaxApertureValue: 4,0
- MeteringMode: Multi-segment
- SceneCaptureType: Standard
- ShutterSpeedValue: 1/500
- WhiteBalance: Auto
- ICC-header
- ICC-meas
- ICC-view
- IFD0
- Make: Canon
- Model: Canon EOS 1000D
- ModifyDate: 2009:01:18 20:04:22
- Orientation: Horizontal (normal)
- IFD1
- IPTC
- XMP-aux
- Firmware: 1.0.3
- FlashCompensation: 0
- ImageNumber: 0
- Lens: EF17-40mm f/4L USM
- LensInfo: 17/1 40/1 0/0 0/0
- SerialNumber: 430114869
- XMP-crs
- AlreadyApplied: True
- BlueHue: 0
- BlueSaturation: 0
- Brightness: +43
- CameraProfile: ACR 4.6
- ChromaticAberrationB: 0
- ChromaticAberrationR: 0
- Clarity: 0
- ColorNoiseReduction: 25
- Contrast: +48
- ConvertToGrayscale: False
- Defringe: 0
- Exposure: 0.00
- FillLight: 0
- GreenHue: 0
- GreenSaturation: 0
- HasCrop: False
- HasSettings: True
- HighlightRecovery: 5
- HueAdjustmentAqua: 0
- HueAdjustmentBlue: 0
- HueAdjustmentGreen: 0
- HueAdjustmentMagenta: 0
- HueAdjustmentOrange: 0
- HueAdjustmentPurple: 0
- HueAdjustmentRed: 0
- HueAdjustmentYellow: 0
- LuminanceAdjustmentAqua: 0
- LuminanceAdjustmentBlue: 0
- LuminanceAdjustmentGreen: 0
- LuminanceAdjustmentMagenta: 0
- LuminanceAdjustmentOrange: 0
- LuminanceAdjustmentPurple: 0
- LuminanceAdjustmentRed: 0
- LuminanceAdjustmentYellow: 0
- LuminanceSmoothing: 0
- ParametricDarks: 0
- ParametricHighlightSplit: 75
- ParametricHighlights: 0
- ParametricLights: 0
- ParametricMidtoneSplit: 50
- ParametricShadowSplit: 25
- ParametricShadows: 0
- PostCropVignetteAmount: 0
- RawFileName: IMG_0794.CR2
- RedHue: 0
- RedSaturation: 0
- Saturation: 0
- SaturationAdjustmentAqua: 0
- SaturationAdjustmentBlue: 0
- SaturationAdjustmentGreen: 0
- SaturationAdjustmentMagenta: 0
- SaturationAdjustmentOrange: 0
- SaturationAdjustmentPurple: 0
- SaturationAdjustmentRed: 0
- SaturationAdjustmentYellow: 0
- ShadowTint: 0
- Shadows: 10
- SharpenDetail: 25
- SharpenEdgeMasking: 0
- SharpenRadius: +1.0
- Sharpness: 25
- SplitToningBalance: 0
- SplitToningHighlightHue: 0
- SplitToningHighlightSaturation: 0
- SplitToningShadowHue: 0
- SplitToningShadowSaturation: 0
- Temperature: 5300
- Tint: +6
- ToneCurve: 0, 0, 32, 22, 64, 56, 128, 128, 192, 196, 255, 255
- ToneCurveName: Medium Contrast
- Version: 4.6
- Vibrance: 0
- VignetteAmount: 0
- WhiteBalance: As Shot
- XMP-dc
- XMP-exif
- DateTimeDigitized: 2009:01:08 14:45:50.19+02:00
- DateTimeOriginal: 2009:01:08 14:45:50.19+02:00
- FlashFired: False
- FlashFunction: False
- FlashMode: Off
- FlashRedEyeMode: False
- FlashReturn: No return detection
- XMP-tiff
- ImageHeight: 2592
- ImageWidth: 3888
- XMP-xmp
- CreateDate: 2009:01:18 20:04:22+02:00
- ModifyDate: 2009:01:18 20:04:22+02:00
- XMP-xmpMM
- DerivedFrom:
- Просмотров: 249
- Рейтинг: голосов еще нет
- Отзывов: 0