| » Участники » esmirnoff » macro » IMGP3457-2.jpg |
Уважаемые друзья и участники проекта iXBT.photo! К сожалению, 1 марта 2026 года проект iXBT.photo прекратит свою работу и будет закрыт. Мы высоко ценим ваше участие и тот вклад, который вы внесли в развитие нашего сообщества. Пожалуйста, не забудьте сохранить ваши фотографии до этой даты.
С уважением, команда iXBT.com
| IMGP3457-2.jpg |
IMGP3457-2.jpg
- Раздел: Макро
- Дата съёмки: 06.02.2009 14:02
- Дата загрузки фото: 10.02.2009 12:44
- Оригинальная фотография: 2338 x 1552 (619 Кб)
- Технические характеристики:
- Фотоаппарат: Pentax K200D
- Выдержка: 0,7
- Светочувствительность: 100
- Фокусное расстояние: 50,0 mm (35 mm equivalent: 75,0 mm)
- Полный EXIF
- Adobe
- ColorTransform: YCbCr
- Composite
- CircleOfConfusion: 0,020 mm
- FOV: 26,0 deg
- FocalLength35efl: 50,0 mm (35 mm equivalent: 75,0 mm)
- ScaleFactor35efl: 1,5
- ShutterSpeed: 0,7
- ExifIFD
- CFAPattern: [Red,Green][Green,Blue]
- ColorSpace: sRGB
- Contrast: Normal
- CreateDate: 2009:02:06 13:37:30
- CustomRendered: Normal
- DateTimeOriginal: 2009:02:06 13:37:30
- ExifImageHeight: 1552
- ExifImageWidth: 2338
- ExposureCompensation: 0
- ExposureMode: Manual
- ExposureProgram: Manual
- ExposureTime: 0,7
- Flash: Off
- FocalLength: 50,0 mm
- FocalLengthIn35mmFormat: 75 mm
- ISO: 100
- MeteringMode: Center-weighted average
- Saturation: Normal
- SceneCaptureType: Standard
- SensingMethod: One-chip color area
- Sharpness: Normal
- ShutterSpeedValue: 0,7
- SubjectDistanceRange: Unknown
- WhiteBalance: Manual
- ICC-header
- ICC-meas
- ICC-view
- IFD0
- Make: PENTAX
- Model: PENTAX K200D
- ModifyDate: 2009:02:06 14:02:47
- Orientation: Horizontal (normal)
- TimeZoneOffset: 3 -3
- IFD1
- IPTC
- XMP-aux
- XMP-crs
- AlreadyApplied: True
- BlueHue: 0
- BlueSaturation: 0
- Brightness: +68
- CameraProfile: Embedded
- ChromaticAberrationB: 0
- ChromaticAberrationR: 0
- ColorNoiseReduction: 25
- Contrast: +33
- ConvertToGrayscale: False
- CropAngle: 0
- CropBottom: 0.858796
- CropLeft: 0.271104
- CropRight: 0.875051
- CropTop: 0.260031
- Exposure: +1.00
- FillLight: 13
- GreenHue: 0
- GreenSaturation: 0
- HasCrop: True
- HasSettings: True
- HighlightRecovery: 11
- HueAdjustmentAqua: 0
- HueAdjustmentBlue: 0
- HueAdjustmentGreen: 0
- HueAdjustmentMagenta: 0
- HueAdjustmentOrange: 0
- HueAdjustmentPurple: 0
- HueAdjustmentRed: 0
- HueAdjustmentYellow: 0
- LuminanceAdjustmentAqua: 0
- LuminanceAdjustmentBlue: 0
- LuminanceAdjustmentGreen: 0
- LuminanceAdjustmentMagenta: 0
- LuminanceAdjustmentOrange: 0
- LuminanceAdjustmentPurple: 0
- LuminanceAdjustmentRed: 0
- LuminanceAdjustmentYellow: 0
- LuminanceSmoothing: 0
- ParametricDarks: 0
- ParametricHighlightSplit: 75
- ParametricHighlights: 0
- ParametricLights: 0
- ParametricMidtoneSplit: 50
- ParametricShadowSplit: 25
- ParametricShadows: 0
- RawFileName: IMGP3457.DNG
- RedHue: 0
- RedSaturation: 0
- Saturation: -18
- SaturationAdjustmentAqua: 0
- SaturationAdjustmentBlue: 0
- SaturationAdjustmentGreen: 0
- SaturationAdjustmentMagenta: 0
- SaturationAdjustmentOrange: 0
- SaturationAdjustmentPurple: 0
- SaturationAdjustmentRed: 0
- SaturationAdjustmentYellow: 0
- ShadowTint: 0
- Shadows: 16
- Sharpness: 25
- SplitToningBalance: 0
- SplitToningHighlightHue: 0
- SplitToningHighlightSaturation: 0
- SplitToningShadowHue: 0
- SplitToningShadowSaturation: 0
- Temperature: 4650
- Tint: +20
- ToneCurve: 0, 0, 32, 22, 64, 56, 128, 128, 192, 196, 255, 255
- ToneCurveName: Medium Contrast
- Version: 3.7
- Vibrance: 0
- VignetteAmount: 0
- WhiteBalance: Custom
- XMP-crss
- SavedSettingsName: Import
- SavedSettingsParametersBlueHue: 0
- SavedSettingsParametersBlueSaturation: 0
- SavedSettingsParametersBrightness: +50
- SavedSettingsParametersCameraProfile: ACR 4.4
- SavedSettingsParametersChromaticAberrationB: 0
- SavedSettingsParametersChromaticAberrationR: 0
- SavedSettingsParametersClarity: 0
- SavedSettingsParametersColorNoiseReduction: 25
- SavedSettingsParametersContrast: +25
- SavedSettingsParametersConvertToGrayscale: False
- SavedSettingsParametersDefringe: 0
- SavedSettingsParametersExposure: 0.00
- SavedSettingsParametersFillLight: 0
- SavedSettingsParametersGreenHue: 0
- SavedSettingsParametersGreenSaturation: 0
- SavedSettingsParametersHighlightRecovery: 0
- SavedSettingsParametersHueAdjustmentAqua: 0
- SavedSettingsParametersHueAdjustmentBlue: 0
- SavedSettingsParametersHueAdjustmentGreen: 0
- SavedSettingsParametersHueAdjustmentMagenta: 0
- SavedSettingsParametersHueAdjustmentOrange: 0
- SavedSettingsParametersHueAdjustmentPurple: 0
- SavedSettingsParametersHueAdjustmentRed: 0
- SavedSettingsParametersHueAdjustmentYellow: 0
- SavedSettingsParametersLuminanceAdjustmentAqua: 0
- SavedSettingsParametersLuminanceAdjustmentBlue: 0
- SavedSettingsParametersLuminanceAdjustmentGreen: 0
- SavedSettingsParametersLuminanceAdjustmentMagenta: 0
- SavedSettingsParametersLuminanceAdjustmentOrange: 0
- SavedSettingsParametersLuminanceAdjustmentPurple: 0
- SavedSettingsParametersLuminanceAdjustmentRed: 0
- SavedSettingsParametersLuminanceAdjustmentYellow: 0
- SavedSettingsParametersLuminanceSmoothing: 0
- SavedSettingsParametersParametricDarks: 0
- SavedSettingsParametersParametricHighlightSplit: 75
- SavedSettingsParametersParametricHighlights: 0
- SavedSettingsParametersParametricLights: 0
- SavedSettingsParametersParametricMidtoneSplit: 50
- SavedSettingsParametersParametricShadowSplit: 25
- SavedSettingsParametersParametricShadows: 0
- SavedSettingsParametersPostCropVignetteAmount: 0
- SavedSettingsParametersRedHue: 0
- SavedSettingsParametersRedSaturation: 0
- SavedSettingsParametersSaturation: 0
- SavedSettingsParametersSaturationAdjustmentAqua: 0
- SavedSettingsParametersSaturationAdjustmentBlue: 0
- SavedSettingsParametersSaturationAdjustmentGreen: 0
- SavedSettingsParametersSaturationAdjustmentMagenta: 0
- SavedSettingsParametersSaturationAdjustmentOrange: 0
- SavedSettingsParametersSaturationAdjustmentPurple: 0
- SavedSettingsParametersSaturationAdjustmentRed: 0
- SavedSettingsParametersSaturationAdjustmentYellow: 0
- SavedSettingsParametersShadowTint: 0
- SavedSettingsParametersShadows: 5
- SavedSettingsParametersSharpenDetail: 25
- SavedSettingsParametersSharpenEdgeMasking: 0
- SavedSettingsParametersSharpenRadius: +1.0
- SavedSettingsParametersSharpness: 25
- SavedSettingsParametersSplitToningBalance: 0
- SavedSettingsParametersSplitToningHighlightHue: 0
- SavedSettingsParametersSplitToningHighlightSaturation: 0
- SavedSettingsParametersSplitToningShadowHue: 0
- SavedSettingsParametersSplitToningShadowSaturation: 0
- SavedSettingsParametersToneCurve: 0, 0, 32, 22, 64, 56, 128, 128, 192, 196, 255, 255
- SavedSettingsParametersToneCurveName: Medium Contrast
- SavedSettingsParametersVersion: 4.5
- SavedSettingsParametersVibrance: 0
- SavedSettingsParametersVignetteAmount: 0
- SavedSettingsParametersWhiteBalance: As Shot
- SavedSettingsType: Snapshot
- XMP-dc
- XMP-exif
- DateTimeDigitized: 2009:02:06 13:37:30+03:00
- DateTimeOriginal: 2009:02:06 13:37:30+03:00
- FlashFired: False
- FlashFunction: False
- FlashMode: Off
- FlashRedEyeMode: False
- FlashReturn: No return detection
- XMP-tiff
- XMP-xmp
- CreateDate: 2009:02:06 14:02:47+03:00
- ModifyDate: 2009:02:06 14:02:47+03:00
- Rating: 0
- XMP-xmpMM
- Просмотров: 516
- Рейтинг: голосов еще нет
- Отзывов: 1
Получить код для блога
| Вставка фотографии в текущем разрешении |
Вставка миниатюры |
HTML (для вставки в блог):
BBCode (для вставки в форум):
Ссылка на фото:
Ссылка на миниатюру:
- Послать ссылку другу
| Комментарии к фотографии |