Уважаемые друзья и участники проекта iXBT.photo! К сожалению, 1 марта 2026 года проект iXBT.photo прекратит свою работу и будет закрыт. Мы высоко ценим ваше участие и тот вклад, который вы внесли в развитие нашего сообщества. Пожалуйста, не забудьте сохранить ваши фотографии до этой даты.
С уважением, команда iXBT.com
| IMG_0731.jpg |
IMG_0731.jpg
- Раздел: Другое, разное
- Дата съёмки: 06.03.2009 18:14
- Дата загрузки фото: 08.03.2009 15:35
- Оригинальная фотография: 800 x 545 (173 Кб)
- Технические характеристики:
- Фотоаппарат: Canon EOS 400D DIGITAL
- Выдержка: 1/4
- Гиперфокальное расстояние: 13,42 m
- Диафрагма: 5,6
- Светочувствительность: 100
- Фокусное расстояние: 17,0 mm (35 mm equivalent: 132,8 mm)
- Полный EXIF
- Adobe
- ColorTransform: YCbCr
- Composite
- Aperture: 5,6
- CircleOfConfusion: 0,004 mm
- FOV: 15,0 deg
- FocalLength35efl: 17,0 mm (35 mm equivalent: 132,8 mm)
- HyperfocalDistance: 13,42 m
- ScaleFactor35efl: 7,8
- ShutterSpeed: 1/4
- ExifIFD
- ApertureValue: 5,6
- ColorSpace: sRGB
- CreateDate: 2009:03:06 18:14:36
- CustomRendered: Normal
- DateTimeOriginal: 2009:03:06 18:14:36
- ExifImageHeight: 545
- ExifImageWidth: 800
- ExposureCompensation: 0
- ExposureMode: Auto
- ExposureProgram: Aperture-priority AE
- ExposureTime: 1/4
- FNumber: 5,6
- Flash: Off
- FocalLength: 17,0 mm
- ISO: 100
- MaxApertureValue: 2,8
- MeteringMode: Average
- SceneCaptureType: Standard
- ShutterSpeedValue: 1/4
- WhiteBalance: Auto
- ICC-header
- ICC-meas
- ICC-view
- IFD0
- Artist: unknown
- Make: Canon
- Model: Canon EOS 400D DIGITAL
- ModifyDate: 2009:03:06 21:57:14
- Orientation: Horizontal (normal)
- IFD1
- IPTC
- By-line: unknown
- XMP-aux
- Firmware: 1.1.0
- FlashCompensation: 1,33333333333333
- ImageNumber: 176
- Lens: 17.0-50.0 mm
- LensInfo: 17/1 50/1 0/0 0/0
- OwnerName: unknown
- SerialNumber: 1480860895
- XMP-crs
- AlreadyApplied: True
- BlueHue: 0
- BlueSaturation: 0
- Brightness: +43
- CameraProfile: ACR 3.6
- ChromaticAberrationB: 0
- ChromaticAberrationR: 0
- Clarity: 0
- ColorNoiseReduction: 25
- Contrast: +29
- ConvertToGrayscale: False
- Defringe: 0
- Exposure: 0.00
- FillLight: 24
- GreenHue: 0
- GreenSaturation: 0
- HasCrop: False
- HasSettings: True
- HighlightRecovery: 21
- HueAdjustmentAqua: 0
- HueAdjustmentBlue: 0
- HueAdjustmentGreen: 0
- HueAdjustmentMagenta: 0
- HueAdjustmentOrange: 0
- HueAdjustmentPurple: 0
- HueAdjustmentRed: 0
- HueAdjustmentYellow: 0
- LuminanceAdjustmentAqua: 0
- LuminanceAdjustmentBlue: 0
- LuminanceAdjustmentGreen: 0
- LuminanceAdjustmentMagenta: 0
- LuminanceAdjustmentOrange: 0
- LuminanceAdjustmentPurple: 0
- LuminanceAdjustmentRed: 0
- LuminanceAdjustmentYellow: 0
- LuminanceSmoothing: 0
- ParametricDarks: 0
- ParametricHighlightSplit: 75
- ParametricHighlights: 0
- ParametricLights: 0
- ParametricMidtoneSplit: 50
- ParametricShadowSplit: 25
- ParametricShadows: 0
- RedHue: 0
- RedSaturation: 0
- Saturation: 0
- SaturationAdjustmentAqua: 0
- SaturationAdjustmentBlue: 0
- SaturationAdjustmentGreen: 0
- SaturationAdjustmentMagenta: 0
- SaturationAdjustmentOrange: 0
- SaturationAdjustmentPurple: 0
- SaturationAdjustmentRed: 0
- SaturationAdjustmentYellow: 0
- ShadowTint: 0
- Shadows: 5
- SharpenDetail: 25
- SharpenEdgeMasking: 0
- SharpenRadius: +1.0
- Sharpness: 25
- SplitToningBalance: 0
- SplitToningHighlightHue: 0
- SplitToningHighlightSaturation: 0
- SplitToningShadowHue: 0
- SplitToningShadowSaturation: 0
- Temperature: 7000
- Tint: +10
- ToneCurve: 0, 0, 32, 22, 64, 56, 128, 128, 192, 196, 255, 255
- ToneCurveName: Medium Contrast
- Version: 1.0
- Vibrance: 0
- VignetteAmount: 0
- WhiteBalance: As Shot
- XMP-dc
- Creator: unknown
- Format: image/jpeg
- XMP-exif
- DateTimeDigitized: 2009:03:06 18:14:36+03:00
- DateTimeOriginal: 2009:03:06 18:14:36+03:00
- FlashFired: False
- FlashFunction: False
- FlashMode: Off
- FlashRedEyeMode: False
- FlashReturn: No return detection
- XMP-tiff
- ImageHeight: 2592
- ImageWidth: 3888
- XMP-xmp
- CreateDate: 2009:03:06 18:14:36+03:00
- ModifyDate: 2009:03:06 21:57:14+03:00
- XMP-xmpMM
- Просмотров: 353
- Рейтинг: голосов еще нет
- Отзывов: отключены
Получить код для блога
| Вставка фотографии в текущем разрешении |
Вставка миниатюры |
HTML (для вставки в блог):
BBCode (для вставки в форум):
Ссылка на фото:
Ссылка на миниатюру:
- Послать ссылку другу
| Комментарии к фотографии |