- Раздел: Архитектура
- Дата съёмки: 27.07.2008 16:18
- Дата загрузки фото: 08.03.2009 21:42
- Оригинальная фотография: 1500 x 1000 (531 Кб)
- Технические характеристики:
- Фотоаппарат: FujiFilm FinePix S5Pro
- Выдержка: 1/200
- Гиперфокальное расстояние: 11,55 m
- Диафрагма: 5,6
- Светочувствительность: 100
- Фокусное расстояние: 36,0 mm (35 mm equivalent: 54,0 mm)
- Экспокоррекция: +0,33
- Полный EXIF
- Adobe
- ColorTransform: YCbCr
- Composite
- Aperture: 5,6
- CircleOfConfusion: 0,020 mm
- FOV: 36,0 deg
- FocalLength35efl: 36,0 mm (35 mm equivalent: 54,0 mm)
- HyperfocalDistance: 11,55 m
- ScaleFactor35efl: 1,5
- ShutterSpeed: 1/200
- ExifIFD
- ApertureValue: 5,6
- BrightnessValue: 8
- ColorSpace: sRGB
- Contrast: Normal
- CreateDate: 2008:07:27 16:18:37
- CustomRendered: Normal
- DateTimeOriginal: 2008:07:27 16:18:37
- ExifImageHeight: 1000
- ExifImageWidth: 1500
- ExposureCompensation: +0,33
- ExposureMode: Auto
- ExposureProgram: Aperture-priority AE
- ExposureTime: 1/200
- FNumber: 5,6
- Flash: Off
- FocalLength: 36,0 mm
- FocalLengthIn35mmFormat: 54 mm
- ISO: 100
- LightSource: Unknown
- MaxApertureValue: 2,8
- MeteringMode: Multi-segment
- Saturation: Normal
- SceneCaptureType: Standard
- SceneType: Directly photographed
- SensingMethod: One-chip color area
- Sharpness: Normal
- ShutterSpeedValue: 1/200
- SubjectDistanceRange: Unknown
- UserComment: (C)ANDREY I.KHODAK AIH3@PROGTECH.RU
- WhiteBalance: Auto
- ICC-header
- ICC-meas
- ICC-view
- IFD0
- Make: FUJIFILM
- Model: FinePix S5Pro
- ModifyDate: 2009:03:07 21:33:12
- Orientation: Horizontal (normal)
- IFD1
- IPTC
- XMP-aux
- Lens: 17.0-50.0 mm f/2.8
- LensInfo: 1700/100 5000/100 280/100 280/100
- XMP-crs
- AlreadyApplied: True
- BlueHue: 0
- BlueSaturation: +9
- Brightness: +64
- ChromaticAberrationB: +25
- ChromaticAberrationR: -39
- Clarity: 0
- ColorNoiseReduction: 0
- Contrast: +90
- ConvertToGrayscale: False
- CropAngle: 0.674037
- CropBottom: 1
- CropHeight: 3
- CropLeft: 0.010691
- CropRight: 0.989309
- CropTop: 0
- CropUnit: 3
- CropWidth: 2
- Defringe: 2
- Exposure: 0.00
- FillLight: 16
- GreenHue: +12
- GreenSaturation: +12
- HasCrop: True
- HasSettings: True
- HighlightRecovery: 0
- HueAdjustmentAqua: 0
- HueAdjustmentBlue: -2
- HueAdjustmentGreen: +7
- HueAdjustmentMagenta: 0
- HueAdjustmentOrange: 0
- HueAdjustmentPurple: 0
- HueAdjustmentRed: 0
- HueAdjustmentYellow: 0
- LuminanceAdjustmentAqua: 0
- LuminanceAdjustmentBlue: -12
- LuminanceAdjustmentGreen: -7
- LuminanceAdjustmentMagenta: 0
- LuminanceAdjustmentOrange: 0
- LuminanceAdjustmentPurple: 0
- LuminanceAdjustmentRed: 0
- LuminanceAdjustmentYellow: 0
- LuminanceSmoothing: 0
- ParametricDarks: 0
- ParametricHighlightSplit: 75
- ParametricHighlights: 0
- ParametricLights: 0
- ParametricMidtoneSplit: 50
- ParametricShadowSplit: 25
- ParametricShadows: 0
- PostCropVignetteAmount: 0
- RawFileName: _DSF3275.RAF
- RedHue: 0
- RedSaturation: +11
- Saturation: 0
- SaturationAdjustmentAqua: +2
- SaturationAdjustmentBlue: +5
- SaturationAdjustmentGreen: -7
- SaturationAdjustmentMagenta: 0
- SaturationAdjustmentOrange: 0
- SaturationAdjustmentPurple: 0
- SaturationAdjustmentRed: 0
- SaturationAdjustmentYellow: 0
- ShadowTint: 0
- Shadows: 4
- SharpenDetail: 25
- SharpenEdgeMasking: 0
- SharpenRadius: +0.7
- Sharpness: 25
- SplitToningBalance: 0
- SplitToningHighlightHue: 0
- SplitToningHighlightSaturation: 0
- SplitToningShadowHue: 57
- SplitToningShadowSaturation: 3
- Temperature: 5150
- Tint: +2
- ToneCurve: 0, 0, 32, 22, 64, 56, 128, 128, 192, 196, 255, 255
- ToneCurveName: Medium Contrast
- Version: 5.3
- Vibrance: +7
- VignetteAmount: 0
- WhiteBalance: Custom
- XMP-dc
- XMP-exif
- DateTimeDigitized: 2008:07:27 16:18:37+04:00
- DateTimeOriginal: 2008:07:27 16:18:37+04:00
- FlashFired: False
- FlashFunction: False
- FlashMode: Off
- FlashRedEyeMode: False
- FlashReturn: No return detection
- XMP-tiff
- XMP-xmp
- CreateDate: 2008:07:27 16:18:37+04:00
- CreatorTool: Digital Camera FinePix S5Pro Ver1.09
- ModifyDate: 2009:03:07 21:33:12+03:00
- Rating: 0
- XMP-xmpMM
- Просмотров: 396
- Рейтинг: голосов еще нет
- Отзывов: 0