Уважаемые друзья и участники проекта iXBT.photo! К сожалению, 1 марта 2026 года проект iXBT.photo прекратит свою работу и будет закрыт. Мы высоко ценим ваше участие и тот вклад, который вы внесли в развитие нашего сообщества. Пожалуйста, не забудьте сохранить ваши фотографии до этой даты.
С уважением, команда iXBT.com
| Весна на Финском заливе |
Весна на Финском заливе
- Раздел: Природа
- Дата съёмки: 15.03.2009 23:15
- Дата загрузки фото: 15.03.2009 23:26
- Оригинальная фотография: 1024 x 768 (383 Кб)
- Технические характеристики:
- Фотоаппарат: Olympus E-520
- Выдержка: 1/40
- Диафрагма: 11,0
- Светочувствительность: 100
- Фокусное расстояние: 25,0 mm
- Полный EXIF
- Adobe
- ColorTransform: YCbCr
- Composite
- Aperture: 11,0
- FocalLength35efl: 25,0 mm
- ShutterSpeed: 1/40
- ExifIFD
- ApertureValue: 11,0
- CFAPattern: [Red,Green][Green,Blue]
- ColorSpace: Uncalibrated
- Contrast: Normal
- CreateDate: 2009:03:15 18:36:39
- CustomRendered: Normal
- DateTimeOriginal: 2009:03:15 18:36:39
- DigitalZoomRatio: 1
- ExifImageHeight: 768
- ExifImageWidth: 1024
- ExposureCompensation: 0
- ExposureMode: Auto
- ExposureProgram: Aperture-priority AE
- ExposureTime: 1/40
- FNumber: 11,0
- Flash: On, Did not fire
- FocalLength: 25,0 mm
- GainControl: None
- ISO: 100
- LightSource: Flash
- MaxApertureValue: 2,8
- MeteringMode: Multi-segment
- Saturation: High
- SceneCaptureType: Standard
- Sharpness: Hard
- ShutterSpeedValue: 1/40
- WhiteBalance: Manual
- ICC-header
- IFD0
- ImageDescription: OLYMPUS DIGITAL CAMERA
- Make: OLYMPUS IMAGING CORP.
- Model: E-520
- ModifyDate: 2009:03:15 23:15:21
- Orientation: Horizontal (normal)
- IFD1
- IPTC
- Caption-Abstract: OLYMPUS DIGITAL CAMERA
- XMP-aux
- FlashCompensation: 0
- Lens: 14.0-54.0 mm f/2.8-3.5
- LensInfo: 14/1 54/1 28/10 35/10
- LensSerialNumber: 050217979
- SerialNumber: G28512953
- XMP-crs
- AlreadyApplied: True
- BlueHue: 0
- BlueSaturation: 0
- Brightness: +50
- CameraProfile: ACR 4.5
- ChromaticAberrationB: 0
- ChromaticAberrationR: 0
- Clarity: 0
- ColorNoiseReduction: 45
- Contrast: +53
- ConvertToGrayscale: False
- Defringe: 0
- Exposure: 0.00
- FillLight: 0
- GreenHue: 0
- GreenSaturation: 0
- HasCrop: False
- HasSettings: True
- HighlightRecovery: 0
- HueAdjustmentAqua: 0
- HueAdjustmentBlue: 0
- HueAdjustmentGreen: 0
- HueAdjustmentMagenta: 0
- HueAdjustmentOrange: 0
- HueAdjustmentPurple: 0
- HueAdjustmentRed: 0
- HueAdjustmentYellow: 0
- LuminanceAdjustmentAqua: 0
- LuminanceAdjustmentBlue: 0
- LuminanceAdjustmentGreen: 0
- LuminanceAdjustmentMagenta: 0
- LuminanceAdjustmentOrange: 0
- LuminanceAdjustmentPurple: 0
- LuminanceAdjustmentRed: 0
- LuminanceAdjustmentYellow: 0
- LuminanceSmoothing: 23
- ParametricDarks: -12
- ParametricHighlightSplit: 75
- ParametricHighlights: +84
- ParametricLights: +75
- ParametricMidtoneSplit: 50
- ParametricShadowSplit: 25
- ParametricShadows: +30
- PostCropVignetteAmount: 0
- RawFileName: _3150021.ORF
- RedHue: 0
- RedSaturation: 0
- Saturation: +12
- SaturationAdjustmentAqua: 0
- SaturationAdjustmentBlue: 0
- SaturationAdjustmentGreen: 0
- SaturationAdjustmentMagenta: 0
- SaturationAdjustmentOrange: 0
- SaturationAdjustmentPurple: 0
- SaturationAdjustmentRed: 0
- SaturationAdjustmentYellow: 0
- ShadowTint: 0
- Shadows: 5
- SharpenDetail: 25
- SharpenEdgeMasking: 0
- SharpenRadius: +1.0
- Sharpness: 51
- SplitToningBalance: 0
- SplitToningHighlightHue: 0
- SplitToningHighlightSaturation: 0
- SplitToningShadowHue: 0
- SplitToningShadowSaturation: 0
- Temperature: 6600
- Tint: +29
- ToneCurve: 0, 0, 32, 22, 64, 56, 128, 128, 192, 196, 255, 255
- ToneCurveName: Medium Contrast
- Version: 4.6
- Vibrance: 0
- VignetteAmount: 0
- WhiteBalance: Custom
- XMP-dc
- Description: OLYMPUS DIGITAL CAMERA
- Format: image/jpeg
- XMP-exif
- ColorSpace: Unknown (-1)
- DateTimeDigitized: 2009:03:15 18:36:39+03:00
- DateTimeOriginal: 2009:03:15 18:36:39+03:00
- FlashFired: False
- FlashFunction: False
- FlashMode: On
- FlashRedEyeMode: False
- FlashReturn: No return detection
- XMP-tiff
- BitsPerSample: 8, 8, 8
- ImageHeight: 2736
- ImageWidth: 3648
- PhotometricInterpretation: RGB
- PlanarConfiguration: Chunky
- SamplesPerPixel: 3
- XMP-xmp
- CreateDate: 2009:03:15 23:15:21+03:00
- ModifyDate: 2009:03:15 23:15:21+03:00
- Rating: 0
- XMP-xmpMM
Получить код для блога
| Вставка фотографии в текущем разрешении |
Вставка миниатюры |
HTML (для вставки в блог):
BBCode (для вставки в форум):
Ссылка на фото:
Ссылка на миниатюру:
- Послать ссылку другу
| Комментарии к фотографии |