Уважаемые друзья и участники проекта iXBT.photo! К сожалению, 1 марта 2026 года проект iXBT.photo прекратит свою работу и будет закрыт. Мы высоко ценим ваше участие и тот вклад, который вы внесли в развитие нашего сообщества. Пожалуйста, не забудьте сохранить ваши фотографии до этой даты.
С уважением, команда iXBT.com
| На работе |
На работе
- Раздел: Город
- Дата съёмки: 18.03.2009 19:16
- Дата загрузки фото: 24.03.2009 00:12
- Оригинальная фотография: 561 x 730 (359 Кб)
- Технические характеристики:
- Фотоаппарат: Canon EOS 5D Mark II
- Выдержка: 1/200
- Гиперфокальное расстояние: 66,47 m
- Диафрагма: 9,0
- Светочувствительность: 50
- Фокусное расстояние: 50,0 mm (35 mm equivalent: 359,5 mm)
- Полный EXIF
- Adobe
- ColorTransform: YCbCr
- Composite
- Aperture: 9,0
- CircleOfConfusion: 0,004 mm
- FOV: 5,0 deg
- FocalLength35efl: 50,0 mm (35 mm equivalent: 359,5 mm)
- HyperfocalDistance: 66,47 m
- ScaleFactor35efl: 7,2
- ShutterSpeed: 1/200
- ExifIFD
- ApertureValue: 9,0
- CreateDate: 2009:03:18 19:16:14
- CustomRendered: Normal
- DateTimeOriginal: 2009:03:18 19:16:14
- ExposureCompensation: 0
- ExposureMode: Manual
- ExposureProgram: Manual
- ExposureTime: 1/200
- FNumber: 9,0
- Flash: Off
- FocalLength: 50,0 mm
- ISO: 50
- MaxApertureValue: 1,2
- MeteringMode: Multi-segment
- SceneCaptureType: Standard
- ShutterSpeedValue: 1/200
- WhiteBalance: Manual
- ICC-header
- ICC-meas
- ICC-view
- IFD0
- Make: Canon
- Model: Canon EOS 5D Mark II
- ModifyDate: 2009:03:23 03:25:48
- IFD1
- XMP-aux
- Firmware: 1.0.7
- FlashCompensation: 0
- ImageNumber: 0
- Lens: EF50mm f/1.2L USM
- LensInfo: 50/1 50/1 0/0 0/0
- SerialNumber: 330229110
- XMP-crs
- AlreadyApplied: True
- BlueHue: -100
- BlueSaturation: +2
- Brightness: +66
- ChromaticAberrationB: 0
- ChromaticAberrationR: 0
- Clarity: 0
- ColorNoiseReduction: 25
- Contrast: +100
- ConvertToGrayscale: False
- CropAngle: 0
- CropBottom: 1
- CropHeight: 561
- CropLeft: 0
- CropRight: 0.867788
- CropTop: 0
- CropUnit: 0
- CropWidth: 730
- Defringe: 2
- Exposure: 0.00
- FillLight: 63
- GreenHue: +100
- GreenSaturation: +12
- HasCrop: True
- HasSettings: True
- HighlightRecovery: 100
- HueAdjustmentAqua: +100
- HueAdjustmentBlue: 0
- HueAdjustmentGreen: 0
- HueAdjustmentMagenta: 0
- HueAdjustmentOrange: 0
- HueAdjustmentPurple: 0
- HueAdjustmentRed: +19
- HueAdjustmentYellow: 0
- LuminanceAdjustmentAqua: +38
- LuminanceAdjustmentBlue: +100
- LuminanceAdjustmentGreen: +10
- LuminanceAdjustmentMagenta: 0
- LuminanceAdjustmentOrange: +14
- LuminanceAdjustmentPurple: 0
- LuminanceAdjustmentRed: 0
- LuminanceAdjustmentYellow: +7
- LuminanceSmoothing: 15
- ParametricDarks: 0
- ParametricHighlightSplit: 75
- ParametricHighlights: 0
- ParametricLights: +39
- ParametricMidtoneSplit: 50
- ParametricShadowSplit: 25
- ParametricShadows: 0
- PostCropVignetteAmount: 0
- RedHue: +100
- RedSaturation: -12
- Saturation: +100
- SaturationAdjustmentAqua: -100
- SaturationAdjustmentBlue: -62
- SaturationAdjustmentGreen: -50
- SaturationAdjustmentMagenta: -100
- SaturationAdjustmentOrange: -43
- SaturationAdjustmentPurple: -100
- SaturationAdjustmentRed: -100
- SaturationAdjustmentYellow: -76
- ShadowTint: -76
- Shadows: 15
- SharpenDetail: 25
- SharpenEdgeMasking: 0
- SharpenRadius: +1.0
- Sharpness: 15
- SplitToningBalance: 0
- SplitToningHighlightHue: 51
- SplitToningHighlightSaturation: 29
- SplitToningShadowHue: 43
- SplitToningShadowSaturation: 5
- Temperature: 4900
- Tint: 0
- ToneCurve: 0, 0, 32, 22, 64, 56, 128, 128, 192, 196, 255, 255
- ToneCurveName: Medium Contrast
- Version: 5.3
- Vibrance: -29
- VignetteAmount: -14
- VignetteMidpoint: 64
- WhiteBalance: Custom
- XMP-exif
- DateTimeDigitized: 2009:03:18 19:16:14.72+03:00
- DateTimeOriginal: 2009:03:18 19:16:14.72+03:00
- ExifImageHeight: 730
- ExifImageWidth: 561
- FlashFired: False
- FlashFunction: False
- FlashMode: Off
- FlashRedEyeMode: False
- FlashReturn: No return detection
- XMP-tiff
- ImageHeight: 730
- ImageWidth: 561
- XMP-xmp
- CreateDate: 2009:03:18 19:16:14.72+03:00
- ModifyDate: 2009:03:23 03:25:48+03:00
Получить код для блога
| Вставка фотографии в текущем разрешении |
Вставка миниатюры |
HTML (для вставки в блог):
BBCode (для вставки в форум):
Ссылка на фото:
Ссылка на миниатюру:
- Послать ссылку другу
| Комментарии к фотографии |