Уважаемые друзья и участники проекта iXBT.photo! К сожалению, 1 марта 2026 года проект iXBT.photo прекратит свою работу и будет закрыт. Мы высоко ценим ваше участие и тот вклад, который вы внесли в развитие нашего сообщества. Пожалуйста, не забудьте сохранить ваши фотографии до этой даты.
С уважением, команда iXBT.com
| Орлан с "охраной" |
Орлан с "охраной"
- Раздел: Другое, разное
- Дата съёмки: 03.03.2009 12:12
- Дата загрузки фото: 07.04.2009 09:25
- Оригинальная фотография: 800 x 533 (124 Кб)
- Технические характеристики:
- Фотоаппарат: Canon EOS 5D
- Выдержка: 1/1000
- Гиперфокальное расстояние: 61,67 m
- Диафрагма: 1,8
- Светочувствительность: 250
- Фокусное расстояние: 50,0 mm (35 mm equivalent: 66,7 mm)
- Полный EXIF
- Composite
- Aperture: 1,8
- CircleOfConfusion: 0,023 mm
- FOV: 30,0 deg
- FocalLength35efl: 50,0 mm (35 mm equivalent: 66,7 mm)
- HyperfocalDistance: 61,67 m
- ScaleFactor35efl: 1,3
- ShutterSpeed: 1/1000
- ExifIFD
- ApertureValue: 1,8
- CreateDate: 2009:03:03 12:12:38
- CustomRendered: Normal
- DateTimeOriginal: 2009:03:03 12:12:38
- ExposureCompensation: 0
- ExposureMode: Auto
- ExposureProgram: Aperture-priority AE
- ExposureTime: 1/1000
- FNumber: 1,8
- Flash: Off
- FocalLength: 50,0 mm
- ISO: 250
- MaxApertureValue: 1,8
- MeteringMode: Spot
- SceneCaptureType: Standard
- ShutterSpeedValue: 1/1000
- WhiteBalance: Auto
- ICC-header
- ICC-meas
- ICC-view
- IFD0
- Artist: Kupriyanov Konstantin
- Make: Canon
- Model: Canon EOS 5D
- ModifyDate: 2009:04:07 16:05:33
- IFD1
- IPTC
- By-line: Kupriyanov Konstantin
- XMP-aux
- Firmware: 1.1.1
- FlashCompensation: 0
- ImageNumber: 19
- Lens: 50.0 mm
- LensInfo: 50/1 50/1 0/0 0/0
- OwnerName: Kupriyanov Konstantin
- SerialNumber: 1130701854
- XMP-crs
- AlreadyApplied: True
- BlueHue: 0
- BlueSaturation: 0
- Brightness: +58
- CameraProfile: ACR 4.4
- ChromaticAberrationB: 0
- ChromaticAberrationR: 0
- Clarity: +10
- ColorNoiseReduction: 25
- Contrast: +27
- ConvertToGrayscale: False
- CropAngle: 0
- CropBottom: 0.975113
- CropHeight: 2187
- CropLeft: 0.025641
- CropRight: 0.776772
- CropTop: 0.223982
- CropUnit: 0
- CropWidth: 3281
- Defringe: 0
- Exposure: +0.26
- FillLight: 0
- GreenHue: 0
- GreenSaturation: 0
- HasCrop: True
- HasSettings: True
- HighlightRecovery: 3
- HueAdjustmentAqua: 0
- HueAdjustmentBlue: 0
- HueAdjustmentGreen: 0
- HueAdjustmentMagenta: 0
- HueAdjustmentOrange: 0
- HueAdjustmentPurple: 0
- HueAdjustmentRed: 0
- HueAdjustmentYellow: 0
- LuminanceAdjustmentAqua: 0
- LuminanceAdjustmentBlue: 0
- LuminanceAdjustmentGreen: 0
- LuminanceAdjustmentMagenta: 0
- LuminanceAdjustmentOrange: 0
- LuminanceAdjustmentPurple: 0
- LuminanceAdjustmentRed: 0
- LuminanceAdjustmentYellow: 0
- LuminanceSmoothing: 0
- ParametricDarks: 0
- ParametricHighlightSplit: 75
- ParametricHighlights: 0
- ParametricLights: 0
- ParametricMidtoneSplit: 50
- ParametricShadowSplit: 25
- ParametricShadows: 0
- PostCropVignetteAmount: 0
- RedHue: 0
- RedSaturation: 0
- Saturation: +10
- SaturationAdjustmentAqua: 0
- SaturationAdjustmentBlue: 0
- SaturationAdjustmentGreen: 0
- SaturationAdjustmentMagenta: 0
- SaturationAdjustmentOrange: 0
- SaturationAdjustmentPurple: 0
- SaturationAdjustmentRed: 0
- SaturationAdjustmentYellow: 0
- ShadowTint: 0
- Shadows: 19
- SharpenDetail: 25
- SharpenEdgeMasking: 0
- SharpenRadius: +1.3
- Sharpness: 90
- SplitToningBalance: 0
- SplitToningHighlightHue: 0
- SplitToningHighlightSaturation: 0
- SplitToningShadowHue: 0
- SplitToningShadowSaturation: 0
- Temperature: 6050
- Tint: +5
- ToneCurve: 0, 0, 32, 22, 64, 56, 128, 128, 192, 196, 255, 255
- ToneCurveName: Medium Contrast
- Version: 5.3
- Vibrance: +45
- VignetteAmount: 0
- WhiteBalance: As Shot
- XMP-dc
- Creator: Kupriyanov Konstantin
- XMP-exif
- DateTimeDigitized: 2009:03:03 12:12:38+10:00
- DateTimeOriginal: 2009:03:03 12:12:38+10:00
- ExifImageHeight: 2187
- ExifImageWidth: 3281
- FlashFired: False
- FlashFunction: False
- FlashMode: Off
- FlashRedEyeMode: False
- FlashReturn: No return detection
- XMP-tiff
- ImageHeight: 2187
- ImageWidth: 3281
- XMP-xmp
- CreateDate: 2009:03:03 12:12:38+10:00
- ModifyDate: 2009:04:07 16:05:33+11:00
Получить код для блога
| Вставка фотографии в текущем разрешении |
Вставка миниатюры |
HTML (для вставки в блог):
BBCode (для вставки в форум):
Ссылка на фото:
Ссылка на миниатюру:
- Послать ссылку другу
| Комментарии к фотографии |