Уважаемые друзья и участники проекта iXBT.photo! К сожалению, 1 марта 2026 года проект iXBT.photo прекратит свою работу и будет закрыт. Мы высоко ценим ваше участие и тот вклад, который вы внесли в развитие нашего сообщества. Пожалуйста, не забудьте сохранить ваши фотографии до этой даты.
С уважением, команда iXBT.com
| Горячо |
Горячо
- Раздел: Город
- Дата съёмки: 05.05.2009 01:04
- Дата загрузки фото: 05.05.2009 22:22
- Оригинальная фотография: 1000 x 673 (479 Кб)
- Технические характеристики:
- Фотоаппарат: Sony DSLR-A700
- Выдержка: 1/6400
- Гиперфокальное расстояние: 15,60 m
- Диафрагма: 8,0
- Светочувствительность: 160
- Фокусное расстояние: 50,0 mm (35 mm equivalent: 75,0 mm)
- Полный EXIF
- Adobe
- ColorTransform: YCbCr
- Composite
- Aperture: 8,0
- CircleOfConfusion: 0,020 mm
- FOV: 26,0 deg
- FocalLength35efl: 50,0 mm (35 mm equivalent: 75,0 mm)
- HyperfocalDistance: 15,60 m
- ScaleFactor35efl: 1,5
- ShutterSpeed: 1/6400
- ExifIFD
- ApertureValue: 8,0
- BrightnessValue: 13
- ColorSpace: sRGB
- Contrast: High
- CreateDate: 2009:05:03 19:57:46
- CustomRendered: Normal
- DateTimeOriginal: 2009:05:03 19:57:46
- DigitalZoomRatio: 0
- ExifImageHeight: 673
- ExifImageWidth: 1000
- ExposureCompensation: 0
- ExposureMode: Auto
- ExposureProgram: Aperture-priority AE
- ExposureTime: 1/6400
- FNumber: 8,0
- Flash: Off
- FocalLength: 50,0 mm
- FocalLengthIn35mmFormat: 75 mm
- ISO: 160
- LightSource: Flash
- MaxApertureValue: 2,8
- MeteringMode: Center-weighted average
- Saturation: High
- SceneCaptureType: Standard
- SceneType: Directly photographed
- Sharpness: Soft
- ShutterSpeedValue: 1/6400
- WhiteBalance: Manual
- ICC-header
- ICC-meas
- ICC-view
- IFD0
- ImageDescription: SONY DSC
- Make: SONY
- Model: DSLR-A700
- ModifyDate: 2009:05:05 01:04:14
- Orientation: Horizontal (normal)
- IFD1
- IPTC
- Caption-Abstract: SONY DSC
- XMP-crs
- AlreadyApplied: True
- BlueHue: 0
- BlueSaturation: 0
- Brightness: +100
- CameraProfile: ACR 4.4
- ChromaticAberrationB: 0
- ChromaticAberrationR: 0
- Clarity: -100
- ColorNoiseReduction: 25
- Contrast: +100
- ConvertToGrayscale: True
- CropAngle: 1.50871
- CropBottom: 0.991635
- CropHeight: 2377
- CropLeft: 0.113177
- CropRight: 0.925206
- CropTop: 0.12486
- CropUnit: 0
- CropWidth: 3533
- Defringe: 1
- Exposure: +0.35
- FillLight: 87
- GrayMixerAqua: -20
- GrayMixerBlue: +5
- GrayMixerGreen: -23
- GrayMixerMagenta: +6
- GrayMixerOrange: -13
- GrayMixerPurple: +13
- GrayMixerRed: -4
- GrayMixerYellow: -17
- GreenHue: 0
- GreenSaturation: 0
- HasCrop: True
- HasSettings: True
- HighlightRecovery: 23
- LuminanceSmoothing: 0
- ParametricDarks: 0
- ParametricHighlightSplit: 75
- ParametricHighlights: 0
- ParametricLights: 0
- ParametricMidtoneSplit: 50
- ParametricShadowSplit: 25
- ParametricShadows: 0
- PostCropVignetteAmount: 0
- RedHue: 0
- RedSaturation: 0
- ShadowTint: 0
- Shadows: 75
- SharpenDetail: 25
- SharpenEdgeMasking: 0
- SharpenRadius: +1.0
- Sharpness: 25
- SplitToningBalance: +13
- SplitToningHighlightHue: 55
- SplitToningHighlightSaturation: 100
- SplitToningShadowHue: 16
- SplitToningShadowSaturation: 59
- Temperature: 6239
- Tint: +1
- ToneCurve: 0, 0, 32, 22, 64, 56, 128, 128, 192, 196, 255, 255
- ToneCurveName: Medium Contrast
- Version: 5.3
- VignetteAmount: 0
- WhiteBalance: Custom
- XMP-dc
- Description: SONY DSC
- Format: image/jpeg
- XMP-exif
- DateTimeDigitized: 2009:05:03 19:57:46+04:00
- DateTimeOriginal: 2009:05:03 19:57:46+04:00
- FlashFired: False
- FlashFunction: False
- FlashMode: Off
- FlashRedEyeMode: False
- FlashReturn: No return detection
- XMP-tiff
- ImageHeight: 2377
- ImageWidth: 3533
- XMP-xmp
- CreateDate: 2009:05:05 01:04:14+04:00
- ModifyDate: 2009:05:05 01:04:14+04:00
- XMP-xmpMM
- DerivedFrom:
- Просмотров: 522
- Рейтинг: голосов еще нет
- Отзывов: 0
Получить код для блога
| Вставка фотографии в текущем разрешении |
Вставка миниатюры |
HTML (для вставки в блог):
BBCode (для вставки в форум):
Ссылка на фото:
Ссылка на миниатюру:
- Послать ссылку другу
| Комментарии к фотографии |