- Раздел: Тесты фототехники
- Дата съёмки: 13.06.2009 18:47
- Дата загрузки фото: 24.06.2009 22:27
- Оригинальная фотография: 1333 x 2000 (1,2 Мб)
- Технические характеристики:
- Фотоаппарат: Canon EOS 400D DIGITAL
- Выдержка: 1/500
- Гиперфокальное расстояние: 226,66 m
- Диафрагма: 1,4
- Светочувствительность: 100
- Фокусное расстояние: 55,0 mm (35 mm equivalent: 173,4 mm)
- Экспокоррекция: +2/3
- Полный EXIF
- Adobe
- ColorTransform: YCbCr
- Composite
- Aperture: 1,4
- CircleOfConfusion: 0,010 mm
- FOV: 11,0 deg
- FocalLength35efl: 55,0 mm (35 mm equivalent: 173,4 mm)
- HyperfocalDistance: 226,66 m
- ScaleFactor35efl: 3,2
- ShutterSpeed: 1/500
- ExifIFD
- ApertureValue: 1,4
- CreateDate: 2009:06:13 18:47:53
- CustomRendered: Normal
- DateTimeOriginal: 2009:06:13 18:47:53
- ExposureCompensation: +2/3
- ExposureMode: Auto
- ExposureProgram: Aperture-priority AE
- ExposureTime: 1/500
- FNumber: 1,4
- Flash: Off
- FocalLength: 55,0 mm
- ISO: 100
- MaxApertureValue: 1,4
- MeteringMode: Partial
- SceneCaptureType: Standard
- ShutterSpeedValue: 1/500
- WhiteBalance: Manual
- ICC-header
- ICC-meas
- ICC-view
- IFD0
- Artist: Konstantin Kuznetsov
- Copyright: klkuznetsov@gmail.com
- Make: Canon
- Model: Canon EOS 400D DIGITAL
- ModifyDate: 2009:06:24 22:26:53
- IFD1
- IPTC
- By-line: Konstantin Kuznetsov
- City: Moscow
- CopyrightNotice: klkuznetsov@gmail.com
- Country-PrimaryLocationName: Russia
- Credit: klkuznetsov@gmail.com
- Source: klkuznetsov@gmail.com
- XMP-aux
- Firmware: 1.1.1
- FlashCompensation: 0,666666666666667
- ImageNumber: 64
- Lens: 55.0 mm
- LensInfo: 55/1 55/1 0/0 0/0
- OwnerName: Kuznetsov Konstantin
- SerialNumber: 560126260
- XMP-crs
- AlreadyApplied: True
- BlueHue: 0
- BlueSaturation: 0
- Brightness: +75
- ChromaticAberrationB: 0
- ChromaticAberrationR: 0
- Clarity: 0
- ColorNoiseReduction: 25
- Contrast: +85
- ConvertToGrayscale: False
- Defringe: 0
- Exposure: 0.00
- FillLight: 0
- GreenHue: 0
- GreenSaturation: 0
- HasCrop: False
- HasSettings: True
- HighlightRecovery: 11
- HueAdjustmentAqua: 0
- HueAdjustmentBlue: 0
- HueAdjustmentGreen: 0
- HueAdjustmentMagenta: 0
- HueAdjustmentOrange: 0
- HueAdjustmentPurple: 0
- HueAdjustmentRed: 0
- HueAdjustmentYellow: 0
- LuminanceAdjustmentAqua: 0
- LuminanceAdjustmentBlue: 0
- LuminanceAdjustmentGreen: 0
- LuminanceAdjustmentMagenta: 0
- LuminanceAdjustmentOrange: 0
- LuminanceAdjustmentPurple: 0
- LuminanceAdjustmentRed: 0
- LuminanceAdjustmentYellow: 0
- LuminanceSmoothing: 0
- ParametricDarks: 0
- ParametricHighlightSplit: 75
- ParametricHighlights: 0
- ParametricLights: 0
- ParametricMidtoneSplit: 50
- ParametricShadowSplit: 25
- ParametricShadows: 0
- PostCropVignetteAmount: 0
- RedHue: 0
- RedSaturation: 0
- Saturation: 0
- SaturationAdjustmentAqua: 0
- SaturationAdjustmentBlue: 0
- SaturationAdjustmentGreen: 0
- SaturationAdjustmentMagenta: 0
- SaturationAdjustmentOrange: 0
- SaturationAdjustmentPurple: 0
- SaturationAdjustmentRed: 0
- SaturationAdjustmentYellow: 0
- ShadowTint: 0
- Shadows: 4
- SharpenDetail: 25
- SharpenEdgeMasking: 0
- SharpenRadius: +1.0
- Sharpness: 25
- SplitToningBalance: 0
- SplitToningHighlightHue: 0
- SplitToningHighlightSaturation: 0
- SplitToningShadowHue: 0
- SplitToningShadowSaturation: 0
- Temperature: 5150
- Tint: +8
- ToneCurve: 0, 0, 32, 22, 64, 56, 128, 128, 192, 196, 255, 255
- ToneCurveName: Medium Contrast
- Version: 5.3
- Vibrance: 0
- VignetteAmount: 0
- WhiteBalance: As Shot
- XMP-dc
- Creator: Konstantin Kuznetsov
- Rights: klkuznetsov@gmail.com
- XMP-exif
- DateTimeDigitized: 2009:06:13 18:47:53+04:00
- DateTimeOriginal: 2009:06:13 18:47:53+04:00
- ExifImageHeight: 2000
- ExifImageWidth: 1333
- FlashFired: False
- FlashFunction: False
- FlashMode: Off
- FlashRedEyeMode: False
- FlashReturn: No return detection
- XMP-iptcCore
- CountryCode: 07
- CreatorContactInfoCiAdrCity: Moscow
- CreatorContactInfoCiAdrCtry: Russia
- CreatorContactInfoCiEmailWork: klkuznetsov@gmail.com
- XMP-tiff
- ImageHeight: 2000
- ImageWidth: 1333
- XMP-xmp
- CreateDate: 2009:06:13 18:47:53+04:00
- ModifyDate: 2009:06:24 22:26:53+04:00
- XMP-xmpRights
- Просмотров: 506
- Рейтинг: голосов еще нет
- Отзывов: 0