| » Участники » maklai » живность » IMG_9443.jpg |
Уважаемые друзья и участники проекта iXBT.photo! К сожалению, 1 марта 2026 года проект iXBT.photo прекратит свою работу и будет закрыт. Мы высоко ценим ваше участие и тот вклад, который вы внесли в развитие нашего сообщества. Пожалуйста, не забудьте сохранить ваши фотографии до этой даты.
С уважением, команда iXBT.com
| IMG_9443.jpg |
IMG_9443.jpg
- Раздел: Животные
- Дата съёмки: 24.07.2009 10:46
- Дата загрузки фото: 24.07.2009 10:48
- Оригинальная фотография: 650 x 407 (206 Кб)
- Технические характеристики:
- Фотоаппарат: Canon EOS 450D
- Выдержка: 1/200
- Гиперфокальное расстояние: 388,84 m
- Диафрагма: 2,8
- Светочувствительность: 800
- Фокусное расстояние: 55,0 mm (35 mm equivalent: 594,8 mm)
- Полный EXIF
- Adobe
- ColorTransform: YCbCr
- Composite
- Aperture: 2,8
- CircleOfConfusion: 0,003 mm
- FOV: 3,0 deg
- FocalLength35efl: 55,0 mm (35 mm equivalent: 594,8 mm)
- HyperfocalDistance: 388,84 m
- ScaleFactor35efl: 10,8
- ShutterSpeed: 1/200
- ExifIFD
- ApertureValue: 2,8
- ColorSpace: sRGB
- CreateDate: 2009:07:24 10:01:53
- CustomRendered: Normal
- DateTimeOriginal: 2009:07:24 10:01:53
- ExifImageHeight: 407
- ExifImageWidth: 650
- ExposureCompensation: 0
- ExposureMode: Auto
- ExposureProgram: Aperture-priority AE
- ExposureTime: 1/200
- FNumber: 2,8
- Flash: Off
- FocalLength: 55,0 mm
- ISO: 800
- MaxApertureValue: 2,8
- MeteringMode: Spot
- SceneCaptureType: Standard
- ShutterSpeedValue: 1/200
- WhiteBalance: Auto
- ICC-header
- ICC-meas
- ICC-view
- IFD0
- BitsPerSample: 16 16 16
- ImageHeight: 2310
- ImageWidth: 3688
- Make: Canon
- Model: Canon EOS 450D
- ModifyDate: 2009:07:24 10:46:03
- Orientation: Horizontal (normal)
- PhotometricInterpretation: RGB
- PlanarConfiguration: Chunky
- SamplesPerPixel: 3
- IFD1
- IPTC
- XMP-aux
- Firmware: 1.1.0
- FlashCompensation: 0
- ImageNumber: 0
- Lens: EF-S17-55mm f/2.8 IS USM
- LensInfo: 17/1 55/1 0/0 0/0
- SerialNumber: 540103175
- XMP-crs
- AlreadyApplied: True
- BlueHue: 0
- BlueSaturation: 0
- Brightness: +35
- CameraProfile: Camera Faithful beta 2
- ChromaticAberrationB: 0
- ChromaticAberrationR: 0
- Clarity: +88
- ColorNoiseReduction: 25
- Contrast: +35
- ConvertToGrayscale: False
- CropAngle: 0
- CropBottom: 0.8112
- CropHeight: 2310
- CropLeft: 0
- CropRight: 0.863394
- CropTop: 0
- CropUnit: 0
- CropWidth: 3688
- Defringe: 0
- Exposure: +0.76
- FillLight: 34
- GreenHue: +5
- GreenSaturation: 0
- HasCrop: True
- HasSettings: True
- HighlightRecovery: 47
- HueAdjustmentAqua: 0
- HueAdjustmentBlue: 0
- HueAdjustmentGreen: 0
- HueAdjustmentMagenta: 0
- HueAdjustmentOrange: +3
- HueAdjustmentPurple: 0
- HueAdjustmentRed: 0
- HueAdjustmentYellow: -48
- LuminanceAdjustmentAqua: 0
- LuminanceAdjustmentBlue: 0
- LuminanceAdjustmentGreen: 0
- LuminanceAdjustmentMagenta: 0
- LuminanceAdjustmentOrange: +29
- LuminanceAdjustmentPurple: 0
- LuminanceAdjustmentRed: +87
- LuminanceAdjustmentYellow: +32
- LuminanceSmoothing: 75
- ParametricDarks: -19
- ParametricHighlightSplit: 75
- ParametricHighlights: +1
- ParametricLights: +4
- ParametricMidtoneSplit: 50
- ParametricShadowSplit: 25
- ParametricShadows: -42
- PostCropVignetteAmount: -29
- PostCropVignetteFeather: 51
- PostCropVignetteMidpoint: 50
- PostCropVignetteRoundness: 0
- RedHue: -22
- RedSaturation: -18
- Saturation: -70
- SaturationAdjustmentAqua: 0
- SaturationAdjustmentBlue: 0
- SaturationAdjustmentGreen: 0
- SaturationAdjustmentMagenta: 0
- SaturationAdjustmentOrange: 0
- SaturationAdjustmentPurple: 0
- SaturationAdjustmentRed: +100
- SaturationAdjustmentYellow: 0
- ShadowTint: +17
- Shadows: 20
- SharpenDetail: 40
- SharpenEdgeMasking: 0
- SharpenRadius: +1.0
- Sharpness: 84
- SplitToningBalance: -44
- SplitToningHighlightHue: 60
- SplitToningHighlightSaturation: 32
- SplitToningShadowHue: 227
- SplitToningShadowSaturation: 0
- Temperature: 5924
- Tint: 0
- ToneCurve: 0, 0, 32, 22, 64, 56, 128, 128, 192, 196, 255, 255
- ToneCurveName: Medium Contrast
- Version: 5.3
- Vibrance: +30
- VignetteAmount: -8
- VignetteMidpoint: 19
- WhiteBalance: Custom
- XMP-dc
- XMP-exif
- DateTimeDigitized: 2009:07:24 10:01:53.69+04:00
- DateTimeOriginal: 2009:07:24 10:01:53.69+04:00
- FlashFired: False
- FlashFunction: False
- FlashMode: Off
- FlashRedEyeMode: False
- FlashReturn: No return detection
- XMP-tiff
- BitsPerSample: 16, 16, 16
- XMP-xmp
- CreateDate: 2009:07:24 10:46:03+04:00
- ModifyDate: 2009:07:24 10:46:03+04:00
- XMP-xmpMM
- DerivedFrom:
Получить код для блога
| Вставка фотографии в текущем разрешении |
Вставка миниатюры |
HTML (для вставки в блог):
BBCode (для вставки в форум):
Ссылка на фото:
Ссылка на миниатюру:
- Послать ссылку другу
| Комментарии к фотографии |