| » Участники » Alex_2V » Альбом #1 » PA128699AZPd.jpg |
Уважаемые друзья и участники проекта iXBT.photo! К сожалению, 1 марта 2026 года проект iXBT.photo прекратит свою работу и будет закрыт. Мы высоко ценим ваше участие и тот вклад, который вы внесли в развитие нашего сообщества. Пожалуйста, не забудьте сохранить ваши фотографии до этой даты.
С уважением, команда iXBT.com
| PA128699AZPd.jpg |
PA128699AZPd.jpg
- Раздел: Животные
- Дата съёмки: 12.10.2008 16:16
- Дата загрузки фото: 28.07.2009 16:20
- Оригинальная фотография: 800 x 600 (147 Кб)
- Технические характеристики:
- Фотоаппарат: Olympus E-510
- Выдержка: 1/500
- Диафрагма: 3,3
- Светочувствительность: 100
- Фокусное расстояние: 130,0 mm
- Экспокоррекция: +5
- Полный EXIF
- Composite
- Aperture: 3,3
- FocalLength35efl: 130,0 mm
- ShutterSpeed: 1/500
- ExifIFD
- ApertureValue: 3,3
- CFAPattern: [Red,Green][Green,Blue]
- ColorSpace: Uncalibrated
- Contrast: Low
- CreateDate: 2008:10:12 16:16:18
- CustomRendered: Normal
- DateTimeOriginal: 2008:10:12 16:16:18
- DigitalZoomRatio: 1
- ExifImageHeight: 600
- ExifImageWidth: 800
- ExposureCompensation: +5
- ExposureMode: Manual
- ExposureProgram: Shutter speed priority AE
- ExposureTime: 1/500
- FNumber: 3,3
- Flash: On, Did not fire
- FocalLength: 130,0 mm
- GainControl: None
- ISO: 100
- LightSource: Fine Weather
- MaxApertureValue: 2,8
- MeteringMode: Spot
- Saturation: High
- SceneCaptureType: Standard
- Sharpness: Soft
- ShutterSpeedValue: 1/500
- WhiteBalance: Manual
- ICC-header
- IFD0
- ImageDescription: OLYMPUS DIGITAL CAMERA
- ImageHeight: 600
- ImageWidth: 800
- Make: OLYMPUS IMAGING CORP.
- Model: E-510
- ModifyDate: 2009:07:28 21:49:40
- PhotometricInterpretation: RGB
- PlanarConfiguration: Chunky
- Software: Version 1.1
- IFD1
- Orientation: Horizontal (normal)
- IPTC
- Caption-Abstract: OLYMPUS DIGITAL CAMERA
- XMP-aux
- FlashCompensation: 0
- Lens: 50.0-200.0 mm f/2.8-3.5
- LensInfo: 50/1 200/1 28/10 35/10
- LensSerialNumber: 240013836
- SerialNumber: D62524555
- XMP-crs
- AlreadyApplied: True
- BlueHue: 0
- BlueSaturation: 0
- Brightness: +50
- CameraProfile: ACR 4.4
- ChromaticAberrationB: 0
- ChromaticAberrationR: 0
- Clarity: 0
- ColorNoiseReduction: 25
- Contrast: +25
- ConvertToGrayscale: False
- Defringe: 0
- Exposure: 0.00
- FillLight: 0
- GreenHue: 0
- GreenSaturation: 0
- HasCrop: False
- HasSettings: True
- HighlightRecovery: 0
- HueAdjustmentAqua: 0
- HueAdjustmentBlue: 0
- HueAdjustmentGreen: 0
- HueAdjustmentMagenta: 0
- HueAdjustmentOrange: 0
- HueAdjustmentPurple: 0
- HueAdjustmentRed: 0
- HueAdjustmentYellow: 0
- LuminanceAdjustmentAqua: 0
- LuminanceAdjustmentBlue: 0
- LuminanceAdjustmentGreen: 0
- LuminanceAdjustmentMagenta: 0
- LuminanceAdjustmentOrange: 0
- LuminanceAdjustmentPurple: 0
- LuminanceAdjustmentRed: 0
- LuminanceAdjustmentYellow: 0
- LuminanceSmoothing: 0
- ParametricDarks: +67
- ParametricHighlightSplit: 75
- ParametricHighlights: +8
- ParametricLights: +46
- ParametricMidtoneSplit: 50
- ParametricShadowSplit: 25
- ParametricShadows: +85
- PostCropVignetteAmount: 0
- RawFileName: PA128699.ORF
- RedHue: 0
- RedSaturation: 0
- Saturation: +40
- SaturationAdjustmentAqua: 0
- SaturationAdjustmentBlue: 0
- SaturationAdjustmentGreen: 0
- SaturationAdjustmentMagenta: 0
- SaturationAdjustmentOrange: 0
- SaturationAdjustmentPurple: 0
- SaturationAdjustmentRed: 0
- SaturationAdjustmentYellow: 0
- ShadowTint: 0
- Shadows: 5
- SharpenDetail: 25
- SharpenEdgeMasking: 0
- SharpenRadius: +1.0
- Sharpness: 25
- SplitToningBalance: 0
- SplitToningHighlightHue: 0
- SplitToningHighlightSaturation: 0
- SplitToningShadowHue: 0
- SplitToningShadowSaturation: 0
- Temperature: 5200
- Tint: +10
- ToneCurve: 0, 0, 32, 22, 64, 56, 128, 128, 192, 196, 255, 255
- ToneCurveName: Medium Contrast
- Version: 5.0
- Vibrance: 0
- VignetteAmount: 0
- WhiteBalance: As Shot
- XMP-dc
- Description: OLYMPUS DIGITAL CAMERA
- XMP-exif
- DateTimeDigitized: 2008:10:12 16:16:18+10:30
- DateTimeOriginal: 2008:10:12 16:16:18+10:30
- ExifImageHeight: 2736
- ExifImageWidth: 3648
- FlashFired: False
- FlashFunction: False
- FlashMode: On
- FlashRedEyeMode: False
- FlashReturn: No return detection
- XMP-tiff
- ImageHeight: 2736
- ImageWidth: 3648
- XMP-xmp
- CreateDate: 2008:10:12 16:16:18+10:30
- CreatorTool: Version 1.1
- ModifyDate: 2009:07:28 21:42:49+09:30
- Просмотров: 190
- Рейтинг: голосов еще нет
- Отзывов: 0
Получить код для блога
| Вставка фотографии в текущем разрешении |
Вставка миниатюры |
HTML (для вставки в блог):
BBCode (для вставки в форум):
Ссылка на фото:
Ссылка на миниатюру:
- Послать ссылку другу
| Комментарии к фотографии |