| » Участники » Laser143 » Peru » DSC01817.jpg |
Уважаемые друзья и участники проекта iXBT.photo! К сожалению, 1 марта 2026 года проект iXBT.photo прекратит свою работу и будет закрыт. Мы высоко ценим ваше участие и тот вклад, который вы внесли в развитие нашего сообщества. Пожалуйста, не забудьте сохранить ваши фотографии до этой даты.
С уважением, команда iXBT.com
| DSC01817.jpg |
DSC01817.jpg
- Раздел: Путешествия
- Дата съёмки: 16.08.2009 19:01
- Дата загрузки фото: 21.08.2009 01:53
- Оригинальная фотография: 613 x 800 (474 Кб)
- Технические характеристики:
- Фотоаппарат: Sony DSLR-A100
- Выдержка: 1/160
- Гиперфокальное расстояние: 201,69 m
- Диафрагма: 4,5
- Светочувствительность: 100
- Фокусное расстояние: 135,0 mm (35 mm equivalent: 202,0 mm)
- Экспокоррекция: +0,3
- Полный EXIF
- Adobe
- ColorTransform: YCbCr
- Composite
- Aperture: 4,5
- CircleOfConfusion: 0,020 mm
- FOV: 10,0 deg
- FocalLength35efl: 135,0 mm (35 mm equivalent: 202,0 mm)
- HyperfocalDistance: 201,69 m
- ScaleFactor35efl: 1,5
- ShutterSpeed: 1/160
- ExifIFD
- ApertureValue: 4,5
- BrightnessValue: 7,12
- Contrast: Normal
- CreateDate: 2009:08:16 19:01:49
- CustomRendered: Normal
- DateTimeOriginal: 2009:08:16 19:01:49
- DigitalZoomRatio: 0
- ExposureCompensation: +0,3
- ExposureMode: Auto
- ExposureProgram: Aperture-priority AE
- ExposureTime: 1/160
- FNumber: 4,5
- Flash: Off
- FocalLength: 135,0 mm
- FocalLengthIn35mmFormat: 202 mm
- GainControl: None
- ISO: 100
- LightSource: Unknown
- MaxApertureValue: 2,8
- MeteringMode: Multi-segment
- Saturation: Normal
- SceneCaptureType: Standard
- SceneType: Directly photographed
- Sharpness: Normal
- ShutterSpeedValue: 1/160
- SubjectLocation: 1936 1296 329 393
- WhiteBalance: Manual
- ICC-header
- ICC-meas
- ICC-view
- IFD0
- ImageDescription: SONY DSC
- Make: SONY
- Model: DSLR-A100
- ModifyDate: 2009:08:21 00:32:10
- Software: DSLR-A100 v1.04
- IFD1
- IPTC
- Caption-Abstract: SONY DSC
- XMP-crs
- AlreadyApplied: True
- BlueHue: 0
- BlueSaturation: 0
- Brightness: +50
- ChromaticAberrationB: 0
- ChromaticAberrationR: 0
- Clarity: 0
- ColorNoiseReduction: 25
- Contrast: +25
- ConvertToGrayscale: False
- CropAngle: 0
- CropBottom: 0.851351
- CropHeight: 613
- CropLeft: 0
- CropRight: 0.743976
- CropTop: 0
- CropUnit: 0
- CropWidth: 800
- Defringe: 0
- Exposure: 0.00
- FillLight: 0
- GreenHue: 0
- GreenSaturation: 0
- HasCrop: True
- HasSettings: True
- HighlightRecovery: 86
- HueAdjustmentAqua: 0
- HueAdjustmentBlue: 0
- HueAdjustmentGreen: 0
- HueAdjustmentMagenta: 0
- HueAdjustmentOrange: 0
- HueAdjustmentPurple: 0
- HueAdjustmentRed: 0
- HueAdjustmentYellow: 0
- LuminanceAdjustmentAqua: 0
- LuminanceAdjustmentBlue: 0
- LuminanceAdjustmentGreen: 0
- LuminanceAdjustmentMagenta: 0
- LuminanceAdjustmentOrange: 0
- LuminanceAdjustmentPurple: 0
- LuminanceAdjustmentRed: 0
- LuminanceAdjustmentYellow: 0
- LuminanceSmoothing: 0
- ParametricDarks: 0
- ParametricHighlightSplit: 75
- ParametricHighlights: 0
- ParametricLights: 0
- ParametricMidtoneSplit: 50
- ParametricShadowSplit: 25
- ParametricShadows: 0
- PostCropVignetteAmount: 0
- RedHue: 0
- RedSaturation: 0
- Saturation: 0
- SaturationAdjustmentAqua: 0
- SaturationAdjustmentBlue: 0
- SaturationAdjustmentGreen: 0
- SaturationAdjustmentMagenta: 0
- SaturationAdjustmentOrange: 0
- SaturationAdjustmentPurple: 0
- SaturationAdjustmentRed: 0
- SaturationAdjustmentYellow: 0
- ShadowTint: 0
- Shadows: 0
- SharpenDetail: 25
- SharpenEdgeMasking: 0
- SharpenRadius: +1.0
- Sharpness: 25
- SplitToningBalance: 0
- SplitToningHighlightHue: 0
- SplitToningHighlightSaturation: 0
- SplitToningShadowHue: 0
- SplitToningShadowSaturation: 0
- Temperature: 4900
- Tint: +20
- ToneCurve: 0, 0, 32, 22, 64, 56, 128, 128, 192, 196, 255, 255
- ToneCurveName: Medium Contrast
- Version: 5.4
- Vibrance: 0
- VignetteAmount: 0
- WhiteBalance: As Shot
- XMP-dc
- XMP-exif
- DateTimeDigitized: 2009:08:16 19:01:49+03:00
- DateTimeOriginal: 2009:08:16 19:01:49+03:00
- ExifImageHeight: 800
- ExifImageWidth: 613
- FlashFired: False
- FlashFunction: False
- FlashMode: Off
- FlashRedEyeMode: False
- FlashReturn: No return detection
- SubjectArea: 1936, 1296, 329, 393
- XMP-tiff
- ImageHeight: 800
- ImageWidth: 613
- XMP-xmp
- CreateDate: 2009:08:16 19:01:49+03:00
- ModifyDate: 2009:08:21 00:32:10+03:00
- Просмотров: 285
- Рейтинг: голосов еще нет
- Отзывов: 0
Получить код для блога
| Вставка фотографии в текущем разрешении |
Вставка миниатюры |
HTML (для вставки в блог):
BBCode (для вставки в форум):
Ссылка на фото:
Ссылка на миниатюру:
- Послать ссылку другу
| Комментарии к фотографии |