Óâàæàåìûå äðóçüÿ è ó÷àñòíèêè ïðîåêòà iXBT.photo! Ê ñîæàëåíèþ, 1 ìàðòà 2026 ãîäà ïðîåêò iXBT.photo ïðåêðàòèò ñâîþ ðàáîòó è áóäåò çàêðûò. Ìû âûñîêî öåíèì âàøå ó÷àñòèå è òîò âêëàä, êîòîðûé âû âíåñëè â ðàçâèòèå íàøåãî ñîîáùåñòâà. Ïîæàëóéñòà, íå çàáóäüòå ñîõðàíèòü âàøè ôîòîãðàôèè äî ýòîé äàòû.
Ñ óâàæåíèåì, êîìàíäà iXBT.com
| IMG_1527.jpg |
IMG_1527.jpg
- Ðàçäåë: Àêòèâíûé îòäûõ, òóðèçì
- Äàòà ñú¸ìêè: 22.08.2009 15:45
- Äàòà çàãðóçêè ôîòî: 23.08.2009 18:43
- Îðèãèíàëüíàÿ ôîòîãðàôèÿ: 2848 x 4272 (9,4 Ìá)
- Òåõíè÷åñêèå õàðàêòåðèñòèêè:
- Ôîòîàïïàðàò: Canon EOS 450D
- Âûäåðæêà: 1/100
- Ãèïåðôîêàëüíîå ðàññòîÿíèå: 2,76 m
- Äèàôðàãìà: 6,3
- Ñâåòî÷óâñòâèòåëüíîñòü: 100
- Ôîêóñíîå ðàññòîÿíèå: 18,0 mm (35 mm equivalent: 29,1 mm)
- Ïîëíûé EXIF
- Adobe
- ColorTransform: YCbCr
- Composite
- Aperture: 6,3
- CircleOfConfusion: 0,019 mm
- FOV: 63,0 deg
- FocalLength35efl: 18,0 mm (35 mm equivalent: 29,1 mm)
- HyperfocalDistance: 2,76 m
- ScaleFactor35efl: 1,6
- ShutterSpeed: 1/100
- ExifIFD
- ApertureValue: 6,3
- CreateDate: 2009:08:22 15:45:16
- CustomRendered: Normal
- DateTimeOriginal: 2009:08:22 15:45:16
- ExposureCompensation: 0
- ExposureMode: Auto
- ExposureProgram: Landscape
- ExposureTime: 1/100
- FNumber: 6,3
- Flash: Off
- FocalLength: 18,0 mm
- ISO: 100
- MeteringMode: Multi-segment
- SceneCaptureType: Standard
- ShutterSpeedValue: 1/100
- WhiteBalance: Auto
- ICC-header
- ICC-meas
- ICC-view
- IFD0
- Artist: ''
- Make: Canon
- Model: Canon EOS 450D
- ModifyDate: 2009:08:07 22:23:26
- IPTC
- By-line: ’‘
- XMP-aux
- FlashCompensation: 891,5
- ImageNumber: 0
- OwnerName: ’‘
- SerialNumber: 1580341513
- XMP-crs
- AlreadyApplied: True
- BlueHue: 0
- BlueSaturation: 0
- Brightness: 0
- CameraProfile: Embedded
- ChromaticAberrationB: 0
- ChromaticAberrationR: 0
- Clarity: +100
- ColorNoiseReduction: 0
- Contrast: 0
- ConvertToGrayscale: False
- Defringe: 0
- Exposure: 0.00
- FillLight: 89
- GreenHue: 0
- GreenSaturation: 0
- HasCrop: False
- HasSettings: True
- HighlightRecovery: 100
- HueAdjustmentAqua: 0
- HueAdjustmentBlue: 0
- HueAdjustmentGreen: 0
- HueAdjustmentMagenta: 0
- HueAdjustmentOrange: 0
- HueAdjustmentPurple: 0
- HueAdjustmentRed: 0
- HueAdjustmentYellow: 0
- IncrementalTemperature: 0
- IncrementalTint: 0
- LuminanceAdjustmentAqua: 0
- LuminanceAdjustmentBlue: 0
- LuminanceAdjustmentGreen: 0
- LuminanceAdjustmentMagenta: 0
- LuminanceAdjustmentOrange: 0
- LuminanceAdjustmentPurple: 0
- LuminanceAdjustmentRed: 0
- LuminanceAdjustmentYellow: 0
- LuminanceSmoothing: 0
- ParametricDarks: -16
- ParametricHighlightSplit: 75
- ParametricHighlights: 0
- ParametricLights: 0
- ParametricMidtoneSplit: 50
- ParametricShadowSplit: 25
- ParametricShadows: 0
- PostCropVignetteAmount: 0
- RedHue: 0
- RedSaturation: 0
- Saturation: -38
- SaturationAdjustmentAqua: 0
- SaturationAdjustmentBlue: 0
- SaturationAdjustmentGreen: 0
- SaturationAdjustmentMagenta: 0
- SaturationAdjustmentOrange: 0
- SaturationAdjustmentPurple: 0
- SaturationAdjustmentRed: 0
- SaturationAdjustmentYellow: 0
- ShadowTint: 0
- Shadows: 47
- SharpenDetail: 25
- SharpenEdgeMasking: 0
- SharpenRadius: +1.0
- Sharpness: 0
- SplitToningBalance: 0
- SplitToningHighlightHue: 0
- SplitToningHighlightSaturation: 0
- SplitToningShadowHue: 0
- SplitToningShadowSaturation: 0
- ToneCurve: 0, 0, 255, 255
- ToneCurveName: Linear
- Version: 4.6
- Vibrance: +33
- VignetteAmount: 0
- WhiteBalance: As Shot
- XMP-dc
- XMP-exif
- DateTimeDigitized: 2009:08:22 15:45:16.03+04:00
- DateTimeOriginal: 2009:08:22 15:45:16.03+04:00
- ExifImageHeight: 4272
- ExifImageWidth: 2848
- FlashFired: False
- FlashFunction: False
- FlashMode: Off
- FlashRedEyeMode: False
- FlashReturn: No return detection
- XMP-tiff
- ImageHeight: 4272
- ImageWidth: 2848
- XMP-xmp
- CreateDate: 2009:08:22 15:45:16.03+04:00
- ModifyDate: 2009:08:07 22:23:26+04:00
- Ïðîñìîòðîâ: 317
- Ðåéòèíã: ãîëîñîâ åùå íåò
- Îòçûâîâ: 0
Ïîëó÷èòü êîä äëÿ áëîãà
| Âñòàâêà ôîòîãðàôèè â òåêóùåì ðàçðåøåíèè |
Âñòàâêà ìèíèàòþðû |
HTML (äëÿ âñòàâêè â áëîã):
BBCode (äëÿ âñòàâêè â ôîðóì):
Ññûëêà íà ôîòî:
Ññûëêà íà ìèíèàòþðó:
- Ïîñëàòü ññûëêó äðóãó
| Êîììåíòàðèè ê ôîòîãðàôèè |