| » Участники » otes » Моя техника » Моя техника 2009 |
Уважаемые друзья и участники проекта iXBT.photo! К сожалению, 1 марта 2026 года проект iXBT.photo прекратит свою работу и будет закрыт. Мы высоко ценим ваше участие и тот вклад, который вы внесли в развитие нашего сообщества. Пожалуйста, не забудьте сохранить ваши фотографии до этой даты.
С уважением, команда iXBT.com
| Моя техника 2009 |
Моя техника 2009
Canon EOS 500D + Canon BG-E5 + Canon 17-55 f/2.8 IS USM + EF-S 55-250mm IS + 430EX II
- Раздел: Компьютеры, железо
- Дата съёмки: 28.04.2009 09:45
- Дата загрузки фото: 07.09.2009 01:18
- Оригинальная фотография: 3522 x 2642 (5,4 Мб)
- Технические характеристики:
- Фотоаппарат: Samsung
- Выдержка: 1/45
- Гиперфокальное расстояние: 3,24 m
- Диафрагма: 2,8
- Светочувствительность: 100
- Фокусное расстояние: 7,8 mm (35 mm equivalent: 35,0 mm)
- Полный EXIF
- Adobe
- ColorTransform: YCbCr
- Composite
- Aperture: 2,8
- CircleOfConfusion: 0,007 mm
- FOV: 54,0 deg
- FocalLength35efl: 7,8 mm (35 mm equivalent: 35,0 mm)
- HyperfocalDistance: 3,24 m
- ScaleFactor35efl: 4,5
- ShutterSpeed: 1/45
- ExifIFD
- ApertureValue: 2,8
- Contrast: Normal
- CreateDate: 2009:04:28 09:45:22
- DateTimeOriginal: 2009:04:28 09:45:22
- DigitalZoomRatio: 0
- ExposureCompensation: 0
- ExposureIndex: 1
- ExposureMode: Auto
- ExposureProgram: Program AE
- ExposureTime: 1/45
- FNumber: 2,8
- Flash: Auto, Fired, Red-eye reduction
- FocalLength: 7,8 mm
- FocalLengthIn35mmFormat: 35 mm
- ISO: 100
- LightSource: Unknown
- MaxApertureValue: 2,9
- MeteringMode: Multi-segment
- Saturation: Unknown (65535)
- SceneCaptureType: Standard
- SceneType: Directly photographed
- SensingMethod: One-chip color area
- Sharpness: Normal
- ShutterSpeedValue: 1/45
- WhiteBalance: Auto
- ICC-header
- ICC-meas
- ICC-view
- IFD0
- Copyright: COPYRIGHT, 2007
- ImageDescription:
- Make: Samsung Techwin
- Model:
- ModifyDate: 2009:09:07 01:18:19
- Software: 703241
- IFD1
- IPTC
- Caption-Abstract:
- CopyrightNotice: COPYRIGHT, 2007
- XMP-crs
- AlreadyApplied: True
- BlueHue: -100
- BlueSaturation: -13
- Brightness: +65
- CameraProfile: ACR 3.3
- ChromaticAberrationB: 0
- ChromaticAberrationR: -100
- Clarity: 0
- ColorNoiseReduction: 100
- Contrast: +38
- ConvertToGrayscale: False
- CropAngle: 1.55173
- CropBottom: 1
- CropHeight: 2642
- CropLeft: 0.027234
- CropRight: 0.972766
- CropTop: 0
- CropUnit: 0
- CropWidth: 3522
- Defringe: 0
- Exposure: -0.05
- FillLight: 0
- GreenHue: +6
- GreenSaturation: 0
- HasCrop: True
- HasSettings: True
- HighlightRecovery: 100
- HueAdjustmentAqua: 0
- HueAdjustmentBlue: 0
- HueAdjustmentGreen: 0
- HueAdjustmentMagenta: 0
- HueAdjustmentOrange: 0
- HueAdjustmentPurple: 0
- HueAdjustmentRed: 0
- HueAdjustmentYellow: 0
- IncrementalTemperature: +46
- IncrementalTint: -65
- LuminanceAdjustmentAqua: 0
- LuminanceAdjustmentBlue: 0
- LuminanceAdjustmentGreen: 0
- LuminanceAdjustmentMagenta: 0
- LuminanceAdjustmentOrange: 0
- LuminanceAdjustmentPurple: 0
- LuminanceAdjustmentRed: 0
- LuminanceAdjustmentYellow: 0
- LuminanceSmoothing: 100
- PaintBasedCorrectionsCorrectionActive: true
- PaintBasedCorrectionsCorrectionAmount: 1.000000
- PaintBasedCorrectionsCorrectionMasksCenterWeight: 0.000000
- PaintBasedCorrectionsCorrectionMasksFlow: 1.000000
- PaintBasedCorrectionsCorrectionMasksMaskValue: 1.000000
- PaintBasedCorrectionsCorrectionMasksRadius: 0.193828
- PaintBasedCorrectionsCorrectionMasksWhat: Mask/Paint
- PaintBasedCorrectionsLocalBrightness: 1.000000
- PaintBasedCorrectionsLocalClarity: 0.000000
- PaintBasedCorrectionsLocalContrast: 0.000000
- PaintBasedCorrectionsLocalExposure: 0.000000
- PaintBasedCorrectionsLocalSaturation: 0.000000
- PaintBasedCorrectionsLocalSharpness: 0.000000
- PaintBasedCorrectionsLocalToningHue: 50.000000
- PaintBasedCorrectionsLocalToningSaturation: 0.130000
- PaintBasedCorrectionsWhat: Correction
- ParametricDarks: -41
- ParametricHighlightSplit: 75
- ParametricHighlights: -13
- ParametricLights: -100
- ParametricMidtoneSplit: 50
- ParametricShadowSplit: 25
- ParametricShadows: -100
- PostCropVignetteAmount: +100
- PostCropVignetteFeather: 0
- PostCropVignetteMidpoint: 0
- PostCropVignetteRoundness: -100
- RedHue: -74
- RedSaturation: -6
- Saturation: -100
- SaturationAdjustmentAqua: 0
- SaturationAdjustmentBlue: 0
- SaturationAdjustmentGreen: 0
- SaturationAdjustmentMagenta: -6
- SaturationAdjustmentOrange: 0
- SaturationAdjustmentPurple: -6
- SaturationAdjustmentRed: 0
- SaturationAdjustmentYellow: 0
- ShadowTint: +100
- Shadows: 45
- SharpenDetail: 100
- SharpenEdgeMasking: 0
- SharpenRadius: +0.5
- Sharpness: 150
- SplitToningBalance: 0
- SplitToningHighlightHue: 59
- SplitToningHighlightSaturation: 26
- SplitToningShadowHue: 0
- SplitToningShadowSaturation: 0
- ToneCurve: 0, 0, 32, 22, 64, 56, 136, 128, 192, 196, 255, 255
- ToneCurveName: Custom
- Version: 5.4
- Vibrance: 0
- VignetteAmount: -100
- VignetteMidpoint: 50
- WhiteBalance: Custom
- XMP-dc
- Description:
- Rights: COPYRIGHT, 2007
- XMP-exif
- DateTimeDigitized: 2009:04:28 09:45:22+04:00
- DateTimeOriginal: 2009:04:28 09:45:22+04:00
- ExifImageHeight: 2642
- ExifImageWidth: 3522
- FlashFired: True
- FlashFunction: False
- FlashMode: Auto
- FlashRedEyeMode: True
- FlashReturn: No return detection
- XMP-tiff
- ImageHeight: 2642
- ImageWidth: 3522
- XMP-xmp
- CreateDate: 2009:04:28 09:45:22+04:00
- ModifyDate: 2009:09:07 01:18:19+04:00
- Просмотров: 1018
- Рейтинг: голосов еще нет
- Отзывов: 0
Получить код для блога
| Вставка фотографии в текущем разрешении |
Вставка миниатюры |
HTML (для вставки в блог):
BBCode (для вставки в форум):
Ссылка на фото:
Ссылка на миниатюру:
- Послать ссылку другу
| Комментарии к фотографии |