Уважаемые друзья и участники проекта iXBT.photo! К сожалению, 5 марта 2026 года проект iXBT.photo прекратит свою работу и будет закрыт. Мы высоко ценим ваше участие и тот вклад, который вы внесли в развитие нашего сообщества. Пожалуйста, не забудьте сохранить ваши фотографии до этой даты.
С уважением, команда iXBT.com
| DSC02243.jpg |
DSC02243.jpg
- Раздел: Путешествия
- Дата съёмки: 27.09.2009 10:31
- Дата загрузки фото: 27.09.2009 23:34
- Оригинальная фотография: 1800 x 1205 (1,2 Мб)
- Технические характеристики:
- Фотоаппарат: Sony DSLR-A100
- Выдержка: 1/200
- Гиперфокальное расстояние: 35,94 m
- Диафрагма: 5,0
- Светочувствительность: 100
- Фокусное расстояние: 60,0 mm (35 mm equivalent: 90,0 mm)
- Полный EXIF
- Adobe
- ColorTransform: YCbCr
- Composite
- Aperture: 5,0
- CircleOfConfusion: 0,020 mm
- FOV: 22,0 deg
- FocalLength35efl: 60,0 mm (35 mm equivalent: 90,0 mm)
- HyperfocalDistance: 35,94 m
- ScaleFactor35efl: 1,5
- ShutterSpeed: 1/200
- ExifIFD
- ApertureValue: 5,0
- BrightnessValue: 7,25
- Contrast: High
- CreateDate: 2009:09:27 10:31:54
- CustomRendered: Normal
- DateTimeOriginal: 2009:09:27 10:31:54
- DigitalZoomRatio: 0
- ExposureCompensation: 0
- ExposureMode: Auto
- ExposureProgram: Aperture-priority AE
- ExposureTime: 1/200
- FNumber: 5,0
- Flash: Off
- FocalLength: 60,0 mm
- FocalLengthIn35mmFormat: 90 mm
- GainControl: None
- ISO: 100
- LightSource: Unknown
- MaxApertureValue: 5,0
- MeteringMode: Multi-segment
- Saturation: High
- SceneCaptureType: Standard
- SceneType: Directly photographed
- Sharpness: Hard
- ShutterSpeedValue: 1/200
- SubjectLocation: 1936 1296 3872 2592
- WhiteBalance: Auto
- ICC-header
- ICC-meas
- ICC-view
- IFD0
- ImageDescription: SONY DSC
- Make: SONY
- Model: DSLR-A100
- ModifyDate: 2009:09:27 20:24:51
- Software: DSLR-A100 v1.04
- IFD1
- IPTC
- Caption-Abstract: SONY DSC
- XMP-crs
- AlreadyApplied: True
- BlueHue: 0
- BlueSaturation: 0
- Brightness: 0
- ChromaticAberrationB: 0
- ChromaticAberrationR: 0
- Clarity: +7
- ColorNoiseReduction: 25
- Contrast: 0
- ConvertToGrayscale: False
- CropAngle: -4.355
- CropBottom: 0.887901
- CropHeight: 1205
- CropLeft: 0.028842
- CropRight: 0.945381
- CropTop: 0.115031
- CropUnit: 0
- CropWidth: 1800
- Defringe: 0
- Exposure: +2.14
- FillLight: 0
- GreenHue: 0
- GreenSaturation: 0
- HasCrop: True
- HasSettings: True
- HighlightRecovery: 25
- HueAdjustmentAqua: 0
- HueAdjustmentBlue: 0
- HueAdjustmentGreen: 0
- HueAdjustmentMagenta: 0
- HueAdjustmentOrange: 0
- HueAdjustmentPurple: 0
- HueAdjustmentRed: 0
- HueAdjustmentYellow: 0
- LuminanceAdjustmentAqua: 0
- LuminanceAdjustmentBlue: 0
- LuminanceAdjustmentGreen: 0
- LuminanceAdjustmentMagenta: 0
- LuminanceAdjustmentOrange: 0
- LuminanceAdjustmentPurple: 0
- LuminanceAdjustmentRed: 0
- LuminanceAdjustmentYellow: 0
- LuminanceSmoothing: 0
- ParametricDarks: -83
- ParametricHighlightSplit: 75
- ParametricHighlights: +60
- ParametricLights: +10
- ParametricMidtoneSplit: 50
- ParametricShadowSplit: 25
- ParametricShadows: -60
- PostCropVignetteAmount: 0
- RedHue: 0
- RedSaturation: 0
- Saturation: 0
- SaturationAdjustmentAqua: +50
- SaturationAdjustmentBlue: +58
- SaturationAdjustmentGreen: +10
- SaturationAdjustmentMagenta: 0
- SaturationAdjustmentOrange: +13
- SaturationAdjustmentPurple: +23
- SaturationAdjustmentRed: 0
- SaturationAdjustmentYellow: +23
- ShadowTint: 0
- Shadows: 14
- SharpenDetail: 25
- SharpenEdgeMasking: 0
- SharpenRadius: +1.0
- Sharpness: 25
- SplitToningBalance: 0
- SplitToningHighlightHue: 0
- SplitToningHighlightSaturation: 0
- SplitToningShadowHue: 0
- SplitToningShadowSaturation: 0
- Temperature: 4950
- Tint: +13
- ToneCurve: 0, 0, 255, 255
- ToneCurveName: Linear
- Version: 5.4
- Vibrance: 0
- VignetteAmount: 0
- WhiteBalance: As Shot
- XMP-dc
- XMP-exif
- DateTimeDigitized: 2009:09:27 10:31:54+02:00
- DateTimeOriginal: 2009:09:27 10:31:54+02:00
- ExifImageHeight: 1205
- ExifImageWidth: 1800
- FlashFired: False
- FlashFunction: False
- FlashMode: Off
- FlashRedEyeMode: False
- FlashReturn: No return detection
- SubjectArea: 1936, 1296, 3872, 2592
- XMP-tiff
- ImageHeight: 1205
- ImageWidth: 1800
- XMP-xmp
- CreateDate: 2009:09:27 10:31:54+02:00
- ModifyDate: 2009:09:27 20:24:51+02:00
- Просмотров: 284
- Рейтинг: голосов еще нет
- Отзывов: отключены
Получить код для блога
| Вставка фотографии в текущем разрешении |
Вставка миниатюры |
HTML (для вставки в блог):
BBCode (для вставки в форум):
Ссылка на фото:
Ссылка на миниатюру:
- Послать ссылку другу
| Комментарии к фотографии |