| » Участники » Harumpel » Berlin » Water Ballet |
Уважаемые друзья и участники проекта iXBT.photo! К сожалению, 5 марта 2026 года проект iXBT.photo прекратит свою работу и будет закрыт. Мы высоко ценим ваше участие и тот вклад, который вы внесли в развитие нашего сообщества. Пожалуйста, не забудьте сохранить ваши фотографии до этой даты.
С уважением, команда iXBT.com
| Water Ballet |
Water Ballet
- Раздел: Город
- Дата съёмки: 30.09.2009 16:34
- Дата загрузки фото: 01.10.2009 01:15
- Оригинальная фотография: 1760 x 2640 (4,6 Мб)
- Технические характеристики:
- Фотоаппарат: Sigma DP1
- Выдержка: 1/30
- Гиперфокальное расстояние: 3,87 m
- Диафрагма: 4,0
- Светочувствительность: 50
- Фокусное расстояние: 16,6 mm (35 mm equivalent: 28,0 mm)
- Экспокоррекция: +0,3
- Полный EXIF
- Adobe
- ColorTransform: YCbCr
- Composite
- Aperture: 4,0
- CircleOfConfusion: 0,018 mm
- FOV: 65,0 deg
- FocalLength35efl: 16,6 mm (35 mm equivalent: 28,0 mm)
- HyperfocalDistance: 3,87 m
- ScaleFactor35efl: 1,7
- ShutterSpeed: 1/30
- ExifIFD
- ApertureValue: 4,0
- DateTimeOriginal: 2009:09:30 16:34:32
- ExposureCompensation: +0,3
- ExposureProgram: Program AE
- ExposureTime: 1/30
- FNumber: 4,0
- FocalLength: 16,6 mm
- FocalLengthIn35mmFormat: 28 mm
- ISO: 50
- MeteringMode: Multi-segment
- ShutterSpeedValue: 1/30
- ICC-header
- ICC-meas
- ICC-view
- IFD0
- Make: SIGMA
- Model: SIGMA DP1
- ModifyDate: 2009:09:30 22:39:13
- Software: 2.00
- IFD1
- XMP-aux
- Firmware: 2.00
- Lens: 16.6 mm
- LensID:
- LensInfo: 166/10 166/10 0/0 0/0
- SerialNumber: 1027043
- XMP-crs
- AlreadyApplied: True
- BlueHue: 0
- BlueSaturation: 0
- Brightness: 0
- CameraProfile: Embedded
- ChromaticAberrationB: 0
- ChromaticAberrationR: 0
- Clarity: +18
- ColorNoiseReduction: 0
- Contrast: 0
- ConvertToGrayscale: False
- Defringe: 0
- Exposure: +1.15
- FillLight: 0
- GreenHue: 0
- GreenSaturation: 0
- HasCrop: False
- HasSettings: True
- HighlightRecovery: 25
- HueAdjustmentAqua: 0
- HueAdjustmentBlue: 0
- HueAdjustmentGreen: 0
- HueAdjustmentMagenta: 0
- HueAdjustmentOrange: 0
- HueAdjustmentPurple: 0
- HueAdjustmentRed: 0
- HueAdjustmentYellow: 0
- LuminanceAdjustmentAqua: 0
- LuminanceAdjustmentBlue: 0
- LuminanceAdjustmentGreen: 0
- LuminanceAdjustmentMagenta: 0
- LuminanceAdjustmentOrange: 0
- LuminanceAdjustmentPurple: 0
- LuminanceAdjustmentRed: 0
- LuminanceAdjustmentYellow: 0
- LuminanceSmoothing: 0
- ParametricDarks: -20
- ParametricHighlightSplit: 75
- ParametricHighlights: +60
- ParametricLights: +10
- ParametricMidtoneSplit: 50
- ParametricShadowSplit: 25
- ParametricShadows: -60
- PostCropVignetteAmount: 0
- RedHue: 0
- RedSaturation: 0
- Saturation: 0
- SaturationAdjustmentAqua: +50
- SaturationAdjustmentBlue: +58
- SaturationAdjustmentGreen: +10
- SaturationAdjustmentMagenta: 0
- SaturationAdjustmentOrange: +13
- SaturationAdjustmentPurple: +23
- SaturationAdjustmentRed: 0
- SaturationAdjustmentYellow: +23
- ShadowTint: 0
- Shadows: 14
- SharpenDetail: 25
- SharpenEdgeMasking: 0
- SharpenRadius: +1.0
- Sharpness: 25
- SplitToningBalance: 0
- SplitToningHighlightHue: 0
- SplitToningHighlightSaturation: 0
- SplitToningShadowHue: 0
- SplitToningShadowSaturation: 0
- Temperature: 5204
- Tint: -4
- ToneCurve: 0, 0, 255, 255
- ToneCurveName: Linear
- Version: 5.4
- Vibrance: +61
- VignetteAmount: 0
- WhiteBalance: Custom
- XMP-exif
- DateTimeOriginal: 2009:09:30 16:34:32+02:00
- ExifImageHeight: 2640
- ExifImageWidth: 1760
- XMP-tiff
- ImageHeight: 2640
- ImageWidth: 1760
- XMP-xmp
- CreateDate: 2009:09:30 16:34:32+02:00
- ModifyDate: 2009:09:30 22:39:13+02:00
- Просмотров: 334
- Рейтинг: голосов еще нет
- Отзывов: 0
Получить код для блога
| Вставка фотографии в текущем разрешении |
Вставка миниатюры |
HTML (для вставки в блог):
BBCode (для вставки в форум):
Ссылка на фото:
Ссылка на миниатюру:
- Послать ссылку другу
| Комментарии к фотографии |