Уважаемые друзья и участники проекта iXBT.photo! К сожалению, 1 марта 2026 года проект iXBT.photo прекратит свою работу и будет закрыт. Мы высоко ценим ваше участие и тот вклад, который вы внесли в развитие нашего сообщества. Пожалуйста, не забудьте сохранить ваши фотографии до этой даты.
С уважением, команда iXBT.com
| IMG_7471.jpg |
IMG_7471.jpg
- Раздел: Другое, разное
- Дата съёмки: 21.11.2009 14:47
- Дата загрузки фото: 21.10.2009 18:46
- Оригинальная фотография: 701 x 700 (191 Кб)
- Технические характеристики:
- Фотоаппарат: Canon EOS 50D
- Выдержка: 1/400
- Гиперфокальное расстояние: 2089,55 m
- Диафрагма: 4,0
- Светочувствительность: 320
- Фокусное расстояние: 200,0 mm (35 mm equivalent: 1255,7 mm)
- Экспокоррекция: +2/3
- Полный EXIF
- Adobe
- ColorTransform: YCbCr
- Composite
- Aperture: 4,0
- CircleOfConfusion: 0,005 mm
- FOV: 1,0 deg
- FocalLength35efl: 200,0 mm (35 mm equivalent: 1255,7 mm)
- HyperfocalDistance: 2089,55 m
- ScaleFactor35efl: 6,3
- ShutterSpeed: 1/400
- ExifIFD
- ApertureValue: 4,0
- ColorSpace: sRGB
- CreateDate: 2009:09:19 11:35:13
- CustomRendered: Normal
- DateTimeOriginal: 2009:09:19 11:35:13
- ExifImageHeight: 700
- ExifImageWidth: 701
- ExposureCompensation: +2/3
- ExposureMode: Auto
- ExposureProgram: Aperture-priority AE
- ExposureTime: 1/400
- FNumber: 4,0
- Flash: Off
- FocalLength: 200,0 mm
- ISO: 320
- MaxApertureValue: 4,0
- MeteringMode: Multi-segment
- SceneCaptureType: Standard
- ShutterSpeedValue: 1/400
- WhiteBalance: Auto
- ICC-header
- ICC-meas
- ICC-view
- IFD0
- Artist: Photographer: Nikolai Yushevich
- Copyright: Copyright: partizanby.livejournal.com
- Make: Canon
- Model: Canon EOS 50D
- ModifyDate: 2009:11:21 14:47:53
- Orientation: Horizontal (normal)
- IFD1
- IPTC
- By-line: Photographer: Nikolai Yushevich
- CopyrightNotice: Copyright: partizanby.livejournal.com
- XMP-aux
- Firmware: 1.0.3
- FlashCompensation: 0
- ImageNumber: 0
- Lens: EF70-200mm f/4L USM
- LensInfo: 70/1 200/1 0/0 0/0
- OwnerName: PartizanBY
- SerialNumber: 530345516
- XMP-crs
- AlreadyApplied: True
- BlueHue: 0
- BlueSaturation: 0
- Brightness: +12
- ChromaticAberrationB: 0
- ChromaticAberrationR: 0
- Clarity: +27
- ColorNoiseReduction: 25
- Contrast: +32
- ConvertToGrayscale: False
- CropAngle: 0
- CropBottom: 1
- CropHeight: 2178
- CropLeft: 0.068694
- CropRight: 0.73536
- CropTop: 0
- CropUnit: 0
- CropWidth: 2178
- Defringe: 0
- Exposure: +0.77
- FillLight: 0
- GreenHue: 0
- GreenSaturation: 0
- HasCrop: True
- HasSettings: True
- HighlightRecovery: 17
- HueAdjustmentAqua: 0
- HueAdjustmentBlue: 0
- HueAdjustmentGreen: +8
- HueAdjustmentMagenta: 0
- HueAdjustmentOrange: 0
- HueAdjustmentPurple: 0
- HueAdjustmentRed: 0
- HueAdjustmentYellow: 0
- LuminanceAdjustmentAqua: 0
- LuminanceAdjustmentBlue: 0
- LuminanceAdjustmentGreen: 0
- LuminanceAdjustmentMagenta: 0
- LuminanceAdjustmentOrange: 0
- LuminanceAdjustmentPurple: 0
- LuminanceAdjustmentRed: 0
- LuminanceAdjustmentYellow: 0
- LuminanceSmoothing: 0
- ParametricDarks: -15
- ParametricHighlightSplit: 75
- ParametricHighlights: -15
- ParametricLights: +15
- ParametricMidtoneSplit: 50
- ParametricShadowSplit: 25
- ParametricShadows: -5
- PostCropVignetteAmount: -6
- PostCropVignetteFeather: 100
- PostCropVignetteMidpoint: 50
- PostCropVignetteRoundness: +81
- RedHue: 0
- RedSaturation: 0
- Saturation: +5
- SaturationAdjustmentAqua: 0
- SaturationAdjustmentBlue: 0
- SaturationAdjustmentGreen: +10
- SaturationAdjustmentMagenta: 0
- SaturationAdjustmentOrange: 0
- SaturationAdjustmentPurple: 0
- SaturationAdjustmentRed: -3
- SaturationAdjustmentYellow: 0
- ShadowTint: 0
- Shadows: 5
- SharpenDetail: 25
- SharpenEdgeMasking: 0
- SharpenRadius: +1.0
- Sharpness: 100
- SplitToningBalance: 0
- SplitToningHighlightHue: 0
- SplitToningHighlightSaturation: 0
- SplitToningShadowHue: 0
- SplitToningShadowSaturation: 0
- Temperature: 4600
- Tint: +19
- ToneCurve: 0, 0, 32, 22, 64, 56, 128, 128, 192, 196, 255, 255
- ToneCurveName: Medium Contrast
- Version: 5.3
- Vibrance: -2
- VignetteAmount: -17
- VignetteMidpoint: 42
- WhiteBalance: As Shot
- XMP-dc
- Creator: Photographer: Nikolai Yushevich
- Format: image/jpeg
- Rights: Copyright: partizanby.livejournal.com
- XMP-exif
- DateTimeDigitized: 2009:09:19 11:35:13.25+04:00
- DateTimeOriginal: 2009:09:19 11:35:13.25+04:00
- FlashFired: False
- FlashFunction: False
- FlashMode: Off
- FlashRedEyeMode: False
- FlashReturn: No return detection
- XMP-tiff
- ImageHeight: 2178
- ImageWidth: 2178
- XMP-xmp
- CreateDate: 2009:11:21 14:47:53+02:00
- ModifyDate: 2009:11:21 14:47:53+02:00
- XMP-xmpMM
- DerivedFrom:
- Просмотров: 189
- Рейтинг: голосов еще нет
- Отзывов: отключены
Получить код для блога
| Вставка фотографии в текущем разрешении |
Вставка миниатюры |
HTML (для вставки в блог):
BBCode (для вставки в форум):
Ссылка на фото:
Ссылка на миниатюру:
- Послать ссылку другу
| Комментарии к фотографии |