Уважаемые друзья и участники проекта iXBT.photo! К сожалению, 1 марта 2026 года проект iXBT.photo прекратит свою работу и будет закрыт. Мы высоко ценим ваше участие и тот вклад, который вы внесли в развитие нашего сообщества. Пожалуйста, не забудьте сохранить ваши фотографии до этой даты.
С уважением, команда iXBT.com
| IMG_4802.jpg |
IMG_4802.jpg
- Раздел: Репортаж
- Дата съёмки: 11.09.2008 17:53
- Дата загрузки фото: 26.10.2009 16:35
- Оригинальная фотография: 1000 x 675 (197 Кб)
- Технические характеристики:
- Фотоаппарат: Canon EOS 40D
- Выдержка: 1/100
- Гиперфокальное расстояние: 6,59 m
- Диафрагма: 2,8
- Светочувствительность: 400
- Фокусное расстояние: 18,0 mm (35 mm equivalent: 30,8 mm)
- Полный EXIF
- Composite
- Aperture: 2,8
- CircleOfConfusion: 0,018 mm
- FOV: 60,0 deg
- FocalLength35efl: 18,0 mm (35 mm equivalent: 30,8 mm)
- HyperfocalDistance: 6,59 m
- ScaleFactor35efl: 1,7
- ShutterSpeed: 1/100
- ExifIFD
- ApertureValue: 2,8
- CreateDate: 2008:09:11 16:53:25
- CustomRendered: Normal
- DateTimeOriginal: 2008:09:11 16:53:25
- ExifImageHeight: 675
- ExifImageWidth: 1000
- ExposureCompensation: 0
- ExposureMode: Manual
- ExposureProgram: Manual
- ExposureTime: 1/100
- FNumber: 2,8
- Flash: Off
- FocalLength: 18,0 mm
- ISO: 400
- MaxApertureValue: 2,8
- MeteringMode: Multi-segment
- SceneCaptureType: Standard
- ShutterSpeedValue: 1/100
- WhiteBalance: Auto
- ICC-header
- ICC-meas
- ICC-view
- IFD0
- Artist: Roman E Demakov
- Make: Canon
- Model: Canon EOS 40D
- ModifyDate: 2009:10:26 17:33:40
- Orientation: Horizontal (normal)
- Software: ACD Systems Digital Imaging
- IFD1
- IPTC
- XMP-aux
- Firmware: 1.0.8
- FlashCompensation: 0
- ImageNumber: 0
- Lens: 18-50mm
- LensInfo: 18/1 50/1 0/0 0/0
- OwnerName: Roman E Demakov
- SerialNumber: 830523091
- XMP-crs
- AlreadyApplied: True
- BlueHue: +11
- BlueSaturation: -70
- Brightness: +56
- ChromaticAberrationB: 0
- ChromaticAberrationR: 0
- Clarity: 0
- ColorNoiseReduction: 25
- Contrast: +32
- ConvertToGrayscale: False
- CropAngle: 0
- CropBottom: 0.954107
- CropHeight: 2473
- CropLeft: 0
- CropRight: 0.942029
- CropTop: 0
- CropUnit: 0
- CropWidth: 3663
- Defringe: 0
- Exposure: 0.00
- FillLight: 0
- GreenHue: +11
- GreenSaturation: +25
- HasCrop: True
- HasSettings: True
- HighlightRecovery: 31
- HueAdjustmentAqua: 0
- HueAdjustmentBlue: 0
- HueAdjustmentGreen: 0
- HueAdjustmentMagenta: 0
- HueAdjustmentOrange: 0
- HueAdjustmentPurple: 0
- HueAdjustmentRed: 0
- HueAdjustmentYellow: 0
- LuminanceAdjustmentAqua: 0
- LuminanceAdjustmentBlue: 0
- LuminanceAdjustmentGreen: 0
- LuminanceAdjustmentMagenta: 0
- LuminanceAdjustmentOrange: 0
- LuminanceAdjustmentPurple: 0
- LuminanceAdjustmentRed: 0
- LuminanceAdjustmentYellow: 0
- LuminanceSmoothing: 0
- ParametricDarks: -3
- ParametricHighlightSplit: 75
- ParametricHighlights: 0
- ParametricLights: 0
- ParametricMidtoneSplit: 50
- ParametricShadowSplit: 25
- ParametricShadows: -14
- PostCropVignetteAmount: 0
- RedHue: +96
- RedSaturation: +3
- Saturation: -71
- SaturationAdjustmentAqua: 0
- SaturationAdjustmentBlue: 0
- SaturationAdjustmentGreen: 0
- SaturationAdjustmentMagenta: 0
- SaturationAdjustmentOrange: 0
- SaturationAdjustmentPurple: 0
- SaturationAdjustmentRed: 0
- SaturationAdjustmentYellow: 0
- ShadowTint: +8
- Shadows: 0
- SharpenDetail: 25
- SharpenEdgeMasking: 0
- SharpenRadius: +1.0
- Sharpness: 25
- SplitToningBalance: 0
- SplitToningHighlightHue: 0
- SplitToningHighlightSaturation: 0
- SplitToningShadowHue: 0
- SplitToningShadowSaturation: 0
- Temperature: 12500
- Tint: +35
- ToneCurve: 0, 0, 255, 255
- ToneCurveName: Linear
- Version: 5.5
- Vibrance: 0
- VignetteAmount: -61
- VignetteMidpoint: 34
- WhiteBalance: Custom
- XMP-dc
- XMP-exif
- DateTimeDigitized: 2008:09:11 16:53:25.0+4:00
- DateTimeOriginal: 2008:09:11 16:53:25.0+4:00
- ExifImageHeight: 2473
- ExifImageWidth: 3663
- FlashFired: False
- FlashFunction: False
- FlashMode: Off
- FlashRedEyeMode: False
- FlashReturn: No return detection
- XMP-tiff
- ImageHeight: 2473
- ImageWidth: 3663
- XMP-xmp
- CreateDate: 2008:09:11 17:53:25.00+05:00
- ModifyDate: 2009:10:26 16:46:02.0+4:00
- Просмотров: 180
- Рейтинг: голосов еще нет
- Отзывов: отключены
Получить код для блога
| Вставка фотографии в текущем разрешении |
Вставка миниатюры |
HTML (для вставки в блог):
BBCode (для вставки в форум):
Ссылка на фото:
Ссылка на миниатюру:
- Послать ссылку другу
| Комментарии к фотографии |