| » Участники » sergyalta » Альбом #5 » Армянская церковь в Ялте |
Уважаемые друзья и участники проекта iXBT.photo! К сожалению, 1 марта 2026 года проект iXBT.photo прекратит свою работу и будет закрыт. Мы высоко ценим ваше участие и тот вклад, который вы внесли в развитие нашего сообщества. Пожалуйста, не забудьте сохранить ваши фотографии до этой даты.
С уважением, команда iXBT.com
| Армянская церковь в Ялте |
Армянская церковь в Ялте
- Раздел: Архитектура
- Дата съёмки: 13.10.2009 11:11
- Дата загрузки фото: 01.11.2009 11:15
- Оригинальная фотография: 3168 x 4752 (12,2 Мб)
- Технические характеристики:
- Фотоаппарат: Canon EOS 500D
- Выдержка: 1/400
- Гиперфокальное расстояние: 232,97 m
- Диафрагма: 11,0
- Светочувствительность: 200
- Фокусное расстояние: 220,0 mm (35 mm equivalent: 350,0 mm)
- Полный EXIF
- Adobe
- ColorTransform: YCbCr
- Composite
- Aperture: 11,0
- CircleOfConfusion: 0,019 mm
- FOV: 5,0 deg
- FocalLength35efl: 220,0 mm (35 mm equivalent: 350,0 mm)
- HyperfocalDistance: 232,97 m
- ScaleFactor35efl: 1,6
- ShutterSpeed: 1/400
- ExifIFD
- ApertureValue: 11,0
- CreateDate: 2009:10:13 11:11:59
- CustomRendered: Normal
- DateTimeOriginal: 2009:10:13 11:11:59
- ExposureCompensation: 0
- ExposureMode: Auto
- ExposureTime: 1/400
- FNumber: 11,0
- Flash: Off
- FocalLength: 220,0 mm
- ISO: 200
- MaxApertureValue: 5,7
- SceneCaptureType: Standard
- ShutterSpeedValue: 1/400
- WhiteBalance: Auto
- ICC-header
- ICC-meas
- ICC-view
- IFD0
- Make: Canon
- Model: Canon EOS 500D
- ModifyDate: 2009:10:13 23:30:52
- Software: Digital Photo Professional
- IFD1
- XMP-aux
- Firmware: 1.0.9
- FlashCompensation: 0
- ImageNumber: 0
- Lens: EF-S55-250mm f/4-5.6 IS
- LensInfo: 55/1 250/1 0/0 0/0
- SerialNumber: 430120674
- XMP-crs
- AlreadyApplied: True
- BlueHue: 0
- BlueSaturation: 0
- Brightness: +19
- CameraProfile: Embedded
- ChromaticAberrationB: 0
- ChromaticAberrationR: 0
- Clarity: 0
- ColorNoiseReduction: 0
- Contrast: -19
- ConvertToGrayscale: False
- Defringe: 0
- Exposure: 0.00
- FillLight: 0
- GreenHue: 0
- GreenSaturation: 0
- HasCrop: False
- HasSettings: True
- HighlightRecovery: 0
- HueAdjustmentAqua: 0
- HueAdjustmentBlue: 0
- HueAdjustmentGreen: 0
- HueAdjustmentMagenta: 0
- HueAdjustmentOrange: +3
- HueAdjustmentPurple: 0
- HueAdjustmentRed: +100
- HueAdjustmentYellow: 0
- IncrementalTemperature: 0
- IncrementalTint: 0
- LuminanceAdjustmentAqua: 0
- LuminanceAdjustmentBlue: 0
- LuminanceAdjustmentGreen: 0
- LuminanceAdjustmentMagenta: 0
- LuminanceAdjustmentOrange: 0
- LuminanceAdjustmentPurple: 0
- LuminanceAdjustmentRed: -100
- LuminanceAdjustmentYellow: 0
- LuminanceSmoothing: 33
- ParametricDarks: -7
- ParametricHighlightSplit: 75
- ParametricHighlights: -100
- ParametricLights: +33
- ParametricMidtoneSplit: 50
- ParametricShadowSplit: 25
- ParametricShadows: +7
- PostCropVignetteAmount: 0
- RedHue: 0
- RedSaturation: 0
- Saturation: 0
- SaturationAdjustmentAqua: 0
- SaturationAdjustmentBlue: 0
- SaturationAdjustmentGreen: 0
- SaturationAdjustmentMagenta: 0
- SaturationAdjustmentOrange: 0
- SaturationAdjustmentPurple: 0
- SaturationAdjustmentRed: -100
- SaturationAdjustmentYellow: 0
- ShadowTint: 0
- Shadows: 6
- SharpenDetail: 42
- SharpenEdgeMasking: 38
- SharpenRadius: +2.6
- Sharpness: 43
- SplitToningBalance: 0
- SplitToningHighlightHue: 0
- SplitToningHighlightSaturation: 0
- SplitToningShadowHue: 0
- SplitToningShadowSaturation: 0
- ToneCurve: 0, 0, 255, 255
- ToneCurveName: Linear
- Version: 5.5
- Vibrance: 0
- VignetteAmount: 0
- WhiteBalance: As Shot
- XMP-exif
- DateTimeDigitized: 2009:10:13 11:11:59+03:00
- DateTimeOriginal: 2009:10:13 11:11:59+03:00
- ExifImageHeight: 4752
- ExifImageWidth: 3168
- FlashFired: False
- FlashFunction: False
- FlashMode: Off
- FlashRedEyeMode: False
- FlashReturn: No return detection
- XMP-tiff
- ImageHeight: 4752
- ImageWidth: 3168
- XMP-xmp
- CreateDate: 2009:10:13 11:11:59+03:00
- ModifyDate: 2009:10:13 23:30:52+03:00
Получить код для блога
| Вставка фотографии в текущем разрешении |
Вставка миниатюры |
HTML (для вставки в блог):
BBCode (для вставки в форум):
Ссылка на фото:
Ссылка на миниатюру:
- Послать ссылку другу
| Комментарии к фотографии |