Уважаемые друзья и участники проекта iXBT.photo! К сожалению, 1 марта 2026 года проект iXBT.photo прекратит свою работу и будет закрыт. Мы высоко ценим ваше участие и тот вклад, который вы внесли в развитие нашего сообщества. Пожалуйста, не забудьте сохранить ваши фотографии до этой даты.
С уважением, команда iXBT.com
| shore / |
shore /
- Раздел: Другое, разное
- Дата съёмки: 17.10.2009 19:17
- Дата загрузки фото: 12.11.2009 13:47
- Оригинальная фотография: 2367 x 1606 (1,4 Мб)
- Технические характеристики:
- Фотоаппарат: Nikon D40
- Выдержка: 30,0
- Гиперфокальное расстояние: 5,15 m
- Диафрагма: 14,0
- Светочувствительность: 200
- Фокусное расстояние: 38,0 mm (35 mm equivalent: 57,0 mm)
- Полный EXIF
- Adobe
- ColorTransform: YCbCr
- Composite
- Aperture: 14,0
- CircleOfConfusion: 0,020 mm
- FOV: 35,0 deg
- FocalLength35efl: 38,0 mm (35 mm equivalent: 57,0 mm)
- HyperfocalDistance: 5,15 m
- LightValue: 1,7
- ScaleFactor35efl: 1,5
- ShutterSpeed: 30,0
- ExifIFD
- ApertureValue: 14,0
- CFAPattern: [Blue,Green][Green,Red]
- Contrast: Normal
- CreateDate: 2009:10:17 19:17:59
- CustomRendered: Custom
- DateTimeOriginal: 2009:10:17 19:17:59
- DigitalZoomRatio: 1
- ExposureCompensation: 0
- ExposureMode: Manual
- ExposureProgram: Manual
- ExposureTime: 30,0
- FNumber: 14,0
- Flash: No Flash
- FocalLength: 38,0 mm
- FocalLengthIn35mmFormat: 57 mm
- GainControl: None
- ISO: 200
- LightSource: Unknown
- MaxApertureValue: 4,8
- MeteringMode: Multi-segment
- Saturation: High
- SceneCaptureType: Standard
- SceneType: Directly photographed
- SensingMethod: One-chip color area
- Sharpness: Hard
- ShutterSpeedValue: 30,0
- SubjectDistanceRange: Unknown
- WhiteBalance: Auto
- ICC-header
- ICC-meas
- ICC-view
- IFD0
- Make: NIKON CORPORATION
- Model: NIKON D40
- ModifyDate: 2009:10:18 14:54:21
- Software: Ver.1.11
- IFD1
- XMP-aux
- ImageNumber: 4210
- Lens: 18.0-55.0 mm f/3.5-5.6
- LensInfo: 180/10 550/10 35/10 56/10
- SerialNumber: 2359933
- XMP-crs
- AlreadyApplied: True
- BlueHue: 0
- BlueSaturation: 0
- Brightness: +60
- ChromaticAberrationB: 0
- ChromaticAberrationR: 0
- Clarity: 0
- ColorNoiseReduction: 25
- Contrast: +37
- ConvertToGrayscale: False
- CropAngle: 4.38245
- CropBottom: 0.890778
- CropHeight: 1606
- CropLeft: 0.138225
- CropRight: 0.882171
- CropTop: 0
- CropUnit: 0
- CropWidth: 2367
- Defringe: 0
- Exposure: 0.00
- FillLight: 5
- GreenHue: 0
- GreenSaturation: 0
- HasCrop: True
- HasSettings: True
- HighlightRecovery: 0
- HueAdjustmentAqua: 0
- HueAdjustmentBlue: 0
- HueAdjustmentGreen: 0
- HueAdjustmentMagenta: 0
- HueAdjustmentOrange: +2
- HueAdjustmentPurple: 0
- HueAdjustmentRed: 0
- HueAdjustmentYellow: 0
- LuminanceAdjustmentAqua: 0
- LuminanceAdjustmentBlue: -18
- LuminanceAdjustmentGreen: 0
- LuminanceAdjustmentMagenta: 0
- LuminanceAdjustmentOrange: 0
- LuminanceAdjustmentPurple: 0
- LuminanceAdjustmentRed: 0
- LuminanceAdjustmentYellow: 0
- LuminanceSmoothing: 62
- ParametricDarks: 0
- ParametricHighlightSplit: 75
- ParametricHighlights: -5
- ParametricLights: -5
- ParametricMidtoneSplit: 50
- ParametricShadowSplit: 25
- ParametricShadows: 0
- PostCropVignetteAmount: 0
- RedHue: 0
- RedSaturation: 0
- Saturation: +5
- SaturationAdjustmentAqua: +26
- SaturationAdjustmentBlue: +21
- SaturationAdjustmentGreen: +38
- SaturationAdjustmentMagenta: 0
- SaturationAdjustmentOrange: +9
- SaturationAdjustmentPurple: 0
- SaturationAdjustmentRed: +24
- SaturationAdjustmentYellow: +6
- ShadowTint: 0
- Shadows: 9
- SharpenDetail: 25
- SharpenEdgeMasking: 0
- SharpenRadius: +1.0
- Sharpness: 80
- SplitToningBalance: 0
- SplitToningHighlightHue: 0
- SplitToningHighlightSaturation: 0
- SplitToningShadowHue: 0
- SplitToningShadowSaturation: 0
- Temperature: 4350
- Tint: +13
- ToneCurve: 0, 0, 32, 22, 64, 56, 128, 128, 192, 196, 255, 255
- ToneCurveName: Medium Contrast
- Version: 5.4
- Vibrance: 0
- VignetteAmount: 0
- WhiteBalance: Custom
- XMP-exif
- DateTimeDigitized: 2009:10:17 19:17:59.50+03:00
- DateTimeOriginal: 2009:10:17 19:17:59.50+03:00
- ExifImageHeight: 1606
- ExifImageWidth: 2367
- FlashFired: False
- FlashFunction: False
- FlashMode: Unknown
- FlashRedEyeMode: False
- FlashReturn: No return detection
- XMP-tiff
- ImageHeight: 1606
- ImageWidth: 2367
- XMP-xmp
- CreateDate: 2009:10:17 19:17:59.50+03:00
- ModifyDate: 2009:10:18 14:54:21+03:00
Получить код для блога
| Вставка фотографии в текущем разрешении |
Вставка миниатюры |
HTML (для вставки в блог):
BBCode (для вставки в форум):
Ссылка на фото:
Ссылка на миниатюру:
- Послать ссылку другу
| Комментарии к фотографии |