Уважаемые друзья и участники проекта iXBT.photo! К сожалению, 1 марта 2026 года проект iXBT.photo прекратит свою работу и будет закрыт. Мы высоко ценим ваше участие и тот вклад, который вы внесли в развитие нашего сообщества. Пожалуйста, не забудьте сохранить ваши фотографии до этой даты.
С уважением, команда iXBT.com
| закат лес |
закат лес
- Раздел: Другое, разное
- Дата съёмки: 10.10.2009 17:24
- Дата загрузки фото: 12.11.2009 17:30
- Оригинальная фотография: 3008 x 2000 (4,1 Мб)
- Технические характеристики:
- Фотоаппарат: Nikon D40
- Выдержка: 1/400
- Гиперфокальное расстояние: 4,75 m
- Диафрагма: 10,0
- Светочувствительность: 200
- Фокусное расстояние: 31,0 mm (35 mm equivalent: 46,0 mm)
- Полный EXIF
- Adobe
- ColorTransform: YCbCr
- Composite
- Aperture: 10,0
- CircleOfConfusion: 0,020 mm
- FOV: 42,0 deg
- FocalLength35efl: 31,0 mm (35 mm equivalent: 46,0 mm)
- HyperfocalDistance: 4,75 m
- ScaleFactor35efl: 1,5
- ShutterSpeed: 1/400
- ExifIFD
- ApertureValue: 10,0
- CFAPattern: [Blue,Green][Green,Red]
- Contrast: Low
- CreateDate: 2009:10:10 17:24:06
- CustomRendered: Normal
- DateTimeOriginal: 2009:10:10 17:24:06
- DigitalZoomRatio: 1
- ExposureCompensation: 0
- ExposureMode: Auto
- ExposureProgram: Not Defined
- ExposureTime: 1/400
- FNumber: 10,0
- Flash: Off
- FocalLength: 31,0 mm
- FocalLengthIn35mmFormat: 46 mm
- GainControl: None
- ISO: 200
- LightSource: Unknown
- MaxApertureValue: 4,3
- MeteringMode: Multi-segment
- Saturation: Normal
- SceneCaptureType: Standard
- SceneType: Directly photographed
- SensingMethod: One-chip color area
- Sharpness: Normal
- ShutterSpeedValue: 1/400
- SubjectDistanceRange: Unknown
- WhiteBalance: Auto
- ICC-header
- ICC-meas
- ICC-view
- IFD0
- Make: NIKON CORPORATION
- Model: NIKON D40
- ModifyDate: 2009:10:23 04:16:23
- Software: Nikon Transfer 1.0 W
- IFD1
- XMP-aux
- ImageNumber: 3699
- Lens: 18.0-55.0 mm f/3.5-5.6
- LensInfo: 18/1 55/1 35/10 56/10
- SerialNumber: 2359933
- XMP-crs
- AlreadyApplied: True
- BlueHue: 0
- BlueSaturation: 0
- Brightness: +41
- ChromaticAberrationB: 0
- ChromaticAberrationR: -2
- Clarity: +10
- ColorNoiseReduction: 25
- Contrast: +83
- ConvertToGrayscale: False
- Defringe: 0
- Exposure: +0.20
- FillLight: 47
- GreenHue: 0
- GreenSaturation: 0
- HasCrop: False
- HasSettings: True
- HighlightRecovery: 0
- HueAdjustmentAqua: +28
- HueAdjustmentBlue: +6
- HueAdjustmentGreen: 0
- HueAdjustmentMagenta: 0
- HueAdjustmentOrange: 0
- HueAdjustmentPurple: 0
- HueAdjustmentRed: 0
- HueAdjustmentYellow: 0
- LuminanceAdjustmentAqua: -28
- LuminanceAdjustmentBlue: -11
- LuminanceAdjustmentGreen: -5
- LuminanceAdjustmentMagenta: 0
- LuminanceAdjustmentOrange: +52
- LuminanceAdjustmentPurple: 0
- LuminanceAdjustmentRed: 0
- LuminanceAdjustmentYellow: -30
- LuminanceSmoothing: 96
- ParametricDarks: 0
- ParametricHighlightSplit: 75
- ParametricHighlights: 0
- ParametricLights: -63
- ParametricMidtoneSplit: 50
- ParametricShadowSplit: 25
- ParametricShadows: 0
- PostCropVignetteAmount: -36
- PostCropVignetteFeather: 78
- PostCropVignetteMidpoint: 14
- PostCropVignetteRoundness: -39
- RedHue: 0
- RedSaturation: +2
- Saturation: +20
- SaturationAdjustmentAqua: +26
- SaturationAdjustmentBlue: +46
- SaturationAdjustmentGreen: +32
- SaturationAdjustmentMagenta: 0
- SaturationAdjustmentOrange: +13
- SaturationAdjustmentPurple: 0
- SaturationAdjustmentRed: +4
- SaturationAdjustmentYellow: +9
- ShadowTint: 0
- Shadows: 7
- SharpenDetail: 25
- SharpenEdgeMasking: 0
- SharpenRadius: +1.0
- Sharpness: 25
- SplitToningBalance: 0
- SplitToningHighlightHue: 0
- SplitToningHighlightSaturation: 0
- SplitToningShadowHue: 0
- SplitToningShadowSaturation: 0
- Temperature: 4742
- Tint: +9
- ToneCurve: 0, 0, 255, 255
- ToneCurveName: Linear
- Version: 5.4
- Vibrance: +20
- VignetteAmount: -73
- VignetteMidpoint: 62
- WhiteBalance: Custom
- XMP-exif
- DateTimeDigitized: 2009:10:10 17:24:06.60+03:00
- DateTimeOriginal: 2009:10:10 17:24:06.60+03:00
- ExifImageHeight: 2000
- ExifImageWidth: 3008
- ExposureProgram: Unknown (0)
- FlashFired: False
- FlashFunction: False
- FlashMode: Off
- FlashRedEyeMode: False
- FlashReturn: No return detection
- XMP-microsoft
- XMP-tiff
- ImageHeight: 2000
- ImageWidth: 3008
- XMP-xmp
- CreateDate: 2009:10:10 17:24:06.60+03:00
- ModifyDate: 2009:10:23 04:16:23+03:00
Получить код для блога
| Вставка фотографии в текущем разрешении |
Вставка миниатюры |
HTML (для вставки в блог):
BBCode (для вставки в форум):
Ссылка на фото:
Ссылка на миниатюру:
- Послать ссылку другу
| Комментарии к фотографии |