| » Участники » SBZ » Города » Иволгинский дацан, Бурятия |
Уважаемые друзья и участники проекта iXBT.photo! К сожалению, 1 марта 2026 года проект iXBT.photo прекратит свою работу и будет закрыт. Мы высоко ценим ваше участие и тот вклад, который вы внесли в развитие нашего сообщества. Пожалуйста, не забудьте сохранить ваши фотографии до этой даты.
С уважением, команда iXBT.com
| Иволгинский дацан, Бурятия |
Иволгинский дацан, Бурятия
дворец Хамбо ламы Итигэлова
- Раздел: Путешествия
- Дата съёмки: 25.11.2009 13:05
- Дата загрузки фото: 29.11.2009 20:13
- Оригинальная фотография: 1000 x 669 (618 Кб)
- Технические характеристики:
- Фотоаппарат: Pentax K200D
- Выдержка: 1/2000
- Гиперфокальное расстояние: 3,25 m
- Диафрагма: 8,0
- Светочувствительность: 200
- Фокусное расстояние: 23,0 mm (35 mm equivalent: 34,0 mm)
- Экспокоррекция: -1,3
- Полный EXIF
- Adobe
- ColorTransform: YCbCr
- Composite
- Aperture: 8,0
- CircleOfConfusion: 0,020 mm
- FOV: 55,0 deg
- FocalLength35efl: 23,0 mm (35 mm equivalent: 34,0 mm)
- HyperfocalDistance: 3,25 m
- ScaleFactor35efl: 1,5
- ShutterSpeed: 1/2000
- ExifIFD
- ApertureValue: 8,0
- CFAPattern: [Red,Green][Green,Blue]
- Contrast: Normal
- CreateDate: 2009:11:25 13:05:31
- CustomRendered: Normal
- DateTimeOriginal: 2009:11:25 13:05:31
- ExposureCompensation: -1,3
- ExposureMode: Manual
- ExposureProgram: Aperture-priority AE
- ExposureTime: 1/2000
- FNumber: 8,0
- Flash: Off
- FocalLength: 23,0 mm
- FocalLengthIn35mmFormat: 34 mm
- ISO: 200
- MeteringMode: Multi-segment
- Saturation: Normal
- SceneCaptureType: Standard
- SensingMethod: One-chip color area
- Sharpness: Normal
- ShutterSpeedValue: 1/2000
- SubjectDistanceRange: Distant
- WhiteBalance: Auto
- ICC-header
- ICC-meas
- ICC-view
- IFD0
- Make: PENTAX Corporation
- Model: PENTAX K200D
- ModifyDate: 2009:11:29 23:57:31
- Software: K200D Ver 1.00
- IFD1
- IPTC
- Keywords: Ivolginsky Datsan, Ulan-Ude, city, monument
- XMP-aux
- Lens: smc PENTAX-DA 17-70mm F4 AL [IF] SDM
- LensID: 8 232
- LensInfo: 170/10 700/10 40/10 40/10
- XMP-crs
- AlreadyApplied: True
- BlueHue: 0
- BlueSaturation: 0
- Brightness: +50
- CameraProfile: Camera Standard
- ChromaticAberrationB: 0
- ChromaticAberrationR: 0
- Clarity: 0
- ColorNoiseReduction: 25
- Contrast: +25
- ConvertToGrayscale: False
- CropAngle: 0.709505
- CropBottom: 1
- CropHeight: 669
- CropLeft: 0.013151
- CropRight: 0.986849
- CropTop: 0
- CropUnit: 0
- CropWidth: 1000
- Defringe: 0
- Exposure: +0.95
- FillLight: 14
- GreenHue: 0
- GreenSaturation: 0
- HasCrop: True
- HasSettings: True
- HighlightRecovery: 0
- HueAdjustmentAqua: 0
- HueAdjustmentBlue: 0
- HueAdjustmentGreen: 0
- HueAdjustmentMagenta: 0
- HueAdjustmentOrange: 0
- HueAdjustmentPurple: 0
- HueAdjustmentRed: 0
- HueAdjustmentYellow: 0
- LuminanceAdjustmentAqua: 0
- LuminanceAdjustmentBlue: 0
- LuminanceAdjustmentGreen: 0
- LuminanceAdjustmentMagenta: 0
- LuminanceAdjustmentOrange: 0
- LuminanceAdjustmentPurple: 0
- LuminanceAdjustmentRed: 0
- LuminanceAdjustmentYellow: 0
- LuminanceSmoothing: 0
- ParametricDarks: 0
- ParametricHighlightSplit: 75
- ParametricHighlights: 0
- ParametricLights: 0
- ParametricMidtoneSplit: 50
- ParametricShadowSplit: 25
- ParametricShadows: 0
- PostCropVignetteAmount: 0
- RedHue: 0
- RedSaturation: 0
- Saturation: 0
- SaturationAdjustmentAqua: 0
- SaturationAdjustmentBlue: 0
- SaturationAdjustmentGreen: 0
- SaturationAdjustmentMagenta: 0
- SaturationAdjustmentOrange: 0
- SaturationAdjustmentPurple: 0
- SaturationAdjustmentRed: 0
- SaturationAdjustmentYellow: 0
- ShadowTint: 0
- Shadows: 5
- SharpenDetail: 25
- SharpenEdgeMasking: 0
- SharpenRadius: +1.0
- Sharpness: 25
- SplitToningBalance: 0
- SplitToningHighlightHue: 0
- SplitToningHighlightSaturation: 0
- SplitToningShadowHue: 0
- SplitToningShadowSaturation: 0
- Temperature: 5000
- Tint: -9
- ToneCurve: 0, 0, 32, 22, 64, 56, 128, 128, 192, 196, 255, 255
- ToneCurveName: Medium Contrast
- Version: 5.5
- Vibrance: 0
- VignetteAmount: 0
- WhiteBalance: As Shot
- XMP-dc
- Subject: Ivolginsky Datsan, Ulan-Ude, city, monument
- XMP-exif
- DateTimeDigitized: 2009:11:25 13:05:31+07:00
- DateTimeOriginal: 2009:11:25 13:05:31+07:00
- ExifImageHeight: 669
- ExifImageWidth: 1000
- FlashFired: False
- FlashFunction: False
- FlashMode: Off
- FlashRedEyeMode: False
- FlashReturn: No return detection
- XMP-lr
- HierarchicalSubject: Ivolginsky Datsan, Ulan-Ude, city, monument
- XMP-tiff
- ImageHeight: 669
- ImageWidth: 1000
- XMP-xmp
- CreateDate: 2009:11:25 13:05:31+07:00
- Label: Purple
- ModifyDate: 2009:11:29 23:57:31+07:00
Получить код для блога
| Вставка фотографии в текущем разрешении |
Вставка миниатюры |
HTML (для вставки в блог):
BBCode (для вставки в форум):
Ссылка на фото:
Ссылка на миниатюру:
- Послать ссылку другу
| Комментарии к фотографии |