Уважаемые друзья и участники проекта iXBT.photo! К сожалению, 1 марта 2026 года проект iXBT.photo прекратит свою работу и будет закрыт. Мы высоко ценим ваше участие и тот вклад, который вы внесли в развитие нашего сообщества. Пожалуйста, не забудьте сохранить ваши фотографии до этой даты.
С уважением, команда iXBT.com
| DSC03794.jpg |
DSC03794.jpg
- Раздел: Путешествия
- Дата съёмки: 03.07.2009 12:05
- Дата загрузки фото: 19.12.2009 13:23
- Оригинальная фотография: 2456 x 3669 (3,9 Мб)
- Технические характеристики:
- Фотоаппарат: Sony DSLR-A100
- Выдержка: 1/640
- Гиперфокальное расстояние: 8,53 m
- Диафрагма: 7,1
- Светочувствительность: 80
- Фокусное расстояние: 35,0 mm (35 mm equivalent: 52,0 mm)
- Полный EXIF
- Adobe
- ColorTransform: YCbCr
- Composite
- Aperture: 7,1
- CircleOfConfusion: 0,020 mm
- FOV: 38,0 deg
- FocalLength35efl: 35,0 mm (35 mm equivalent: 52,0 mm)
- HyperfocalDistance: 8,53 m
- ScaleFactor35efl: 1,5
- ShutterSpeed: 1/640
- ExifIFD
- ApertureValue: 7,1
- BrightnessValue: 10,37
- ColorSpace: sRGB
- Contrast: Normal
- CreateDate: 2008:01:29 22:00:23
- CustomRendered: Normal
- DateTimeOriginal: 2008:01:29 22:00:23
- DigitalZoomRatio: 0
- ExifImageHeight: 3669
- ExifImageWidth: 2456
- ExposureCompensation: 0
- ExposureMode: Auto
- ExposureProgram: Aperture-priority AE
- ExposureTime: 1/640
- FNumber: 7,1
- Flash: Off
- FocalLength: 35,0 mm
- FocalLengthIn35mmFormat: 52 mm
- GainControl: None
- ISO: 80
- LightSource: Unknown
- MaxApertureValue: 2,8
- MeteringMode: Multi-segment
- Saturation: Normal
- SceneCaptureType: Standard
- SceneType: Directly photographed
- Sharpness: Normal
- ShutterSpeedValue: 1/640
- SubjectLocation: 1936 1296 329 393
- WhiteBalance: Manual
- ICC-header
- ICC-meas
- ICC-view
- IFD0
- ImageDescription: Old ship at the Puerto Madero neighborhood, Buenos Aires, Argentina
- Make: SONY
- Model: DSLR-A100
- ModifyDate: 2009:07:03 12:05:38
- Orientation: Horizontal (normal)
- IFD1
- IPTC
- Caption-Abstract: Old ship at the Puerto Madero neighborhood, Buenos Aires, Argentina
- Keywords: aires, america, argentina, buenos, building, canal, cities, cityscape, cloud, commercial, cumulus, dock, exterior, famous, harbor, madero, marina, military, modern, moored, nautical, navy, old, plata, port, puerto, rio, river, sail, sailing, sea, ship, site, skyscraper, south, tower, urban, vessel, warship, water, yacht
- ObjectName: Old ship at the Puerto Madero neighborhood, Buenos Aires, Argen
- XMP-crs
- AlreadyApplied: True
- BlueHue: 0
- BlueSaturation: 0
- Brightness: +50
- CameraProfile: ACR 3.5
- ChromaticAberrationB: 0
- ChromaticAberrationR: 0
- Clarity: +100
- ColorNoiseReduction: 0
- Contrast: +25
- ConvertToGrayscale: False
- CropAngle: 2.15656
- CropBottom: 1
- CropHeight: 2456
- CropLeft: 0.053258
- CropRight: 0.976134
- CropTop: 0
- CropUnit: 0
- CropWidth: 3669
- Defringe: 2
- Exposure: +0.30
- FillLight: 10
- GreenHue: 0
- GreenSaturation: 0
- HasCrop: True
- HasSettings: True
- HighlightRecovery: 0
- HueAdjustmentAqua: 0
- HueAdjustmentBlue: 0
- HueAdjustmentGreen: 0
- HueAdjustmentMagenta: 0
- HueAdjustmentOrange: 0
- HueAdjustmentPurple: 0
- HueAdjustmentRed: 0
- HueAdjustmentYellow: 0
- LuminanceAdjustmentAqua: 0
- LuminanceAdjustmentBlue: 0
- LuminanceAdjustmentGreen: 0
- LuminanceAdjustmentMagenta: 0
- LuminanceAdjustmentOrange: 0
- LuminanceAdjustmentPurple: 0
- LuminanceAdjustmentRed: 0
- LuminanceAdjustmentYellow: 0
- LuminanceSmoothing: 0
- ParametricDarks: 0
- ParametricHighlightSplit: 75
- ParametricHighlights: 0
- ParametricLights: 0
- ParametricMidtoneSplit: 50
- ParametricShadowSplit: 25
- ParametricShadows: 0
- PostCropVignetteAmount: 0
- RedHue: 0
- RedSaturation: 0
- Saturation: 0
- SaturationAdjustmentAqua: 0
- SaturationAdjustmentBlue: 0
- SaturationAdjustmentGreen: 0
- SaturationAdjustmentMagenta: 0
- SaturationAdjustmentOrange: 0
- SaturationAdjustmentPurple: 0
- SaturationAdjustmentRed: 0
- SaturationAdjustmentYellow: 0
- ShadowTint: 0
- Shadows: 0
- SharpenDetail: 0
- SharpenEdgeMasking: 0
- SharpenRadius: +1.0
- Sharpness: 0
- SplitToningBalance: 0
- SplitToningHighlightHue: 0
- SplitToningHighlightSaturation: 0
- SplitToningShadowHue: 0
- SplitToningShadowSaturation: 0
- Temperature: 4900
- Tint: +20
- ToneCurve: 0, 0, 32, 22, 64, 56, 128, 128, 192, 196, 255, 255
- ToneCurveName: Medium Contrast
- Version: 5.3
- Vibrance: 0
- VignetteAmount: 0
- WhiteBalance: As Shot
- XMP-dc
- Description: Old ship at the Puerto Madero neighborhood, Buenos Aires, Argentina
- Format: image/jpeg
- Subject: aires, america, argentina, buenos, building, canal, cities, cityscape, cloud, commercial, cumulus, dock, exterior, famous, harbor, madero, marina, military, modern, moored, nautical, navy, old, plata, port, puerto, rio, river, sail, sailing, sea, ship, site, skyscraper, south, tower, urban, vessel, warship, water, yacht
- Title: Old ship at the Puerto Madero neighborhood, Buenos Aires, Argentina
- XMP-exif
- DateTimeDigitized: 2008:01:29 22:00:23+02:00
- DateTimeOriginal: 2008:01:29 22:00:23+02:00
- FlashFired: False
- FlashFunction: False
- FlashMode: Off
- FlashRedEyeMode: False
- FlashReturn: No return detection
- SubjectArea: 1936, 1296, 329, 393
- XMP-tiff
- ImageHeight: 3669
- ImageWidth: 2456
- XMP-xmp
- CreateDate: 2009:07:03 12:05:38+03:00
- ModifyDate: 2009:07:03 12:05:38+03:00
- XMP-xmpMM
- Просмотров: 282
- Рейтинг: голосов еще нет
- Отзывов: 0
Получить код для блога
| Вставка фотографии в текущем разрешении |
Вставка миниатюры |
HTML (для вставки в блог):
BBCode (для вставки в форум):
Ссылка на фото:
Ссылка на миниатюру:
- Послать ссылку другу
| Комментарии к фотографии |