| » Участники » alex1970 » разное » IMG_1435.JPG |
Уважаемые друзья и участники проекта iXBT.photo! К сожалению, 1 марта 2026 года проект iXBT.photo прекратит свою работу и будет закрыт. Мы высоко ценим ваше участие и тот вклад, который вы внесли в развитие нашего сообщества. Пожалуйста, не забудьте сохранить ваши фотографии до этой даты.
С уважением, команда iXBT.com
| IMG_1435.JPG |
IMG_1435.JPG
- Раздел: Другое, разное
- Дата съёмки: 24.01.2010 11:48
- Дата загрузки фото: 24.01.2010 14:44
- Оригинальная фотография: 3780 x 2386 (1,6 Мб)
- Технические характеристики:
- Фотоаппарат: Canon EOS 40D
- Выдержка: 1/250
- Гиперфокальное расстояние: 13,10 m
- Диафрагма: 9,5
- Светочувствительность: 200
- Фокусное расстояние: 47,0 mm (35 mm equivalent: 79,5 mm)
- Полный EXIF
- Adobe
- ColorTransform: YCbCr
- Composite
- Aperture: 9,5
- CircleOfConfusion: 0,018 mm
- FOV: 25,0 deg
- FocalLength35efl: 47,0 mm (35 mm equivalent: 79,5 mm)
- HyperfocalDistance: 13,10 m
- ScaleFactor35efl: 1,7
- ShutterSpeed: 1/250
- ExifIFD
- ApertureValue: 9,5
- CreateDate: 2010:01:24 11:48:29
- CustomRendered: Normal
- DateTimeOriginal: 2010:01:24 11:48:29
- ExposureCompensation: 0
- ExposureMode: Auto
- ExposureProgram: Program AE
- ExposureTime: 1/250
- FNumber: 9,5
- Flash: Off
- FocalLength: 47,0 mm
- ISO: 200
- MaxApertureValue: 4,0
- MeteringMode: Multi-segment
- SceneCaptureType: Standard
- ShutterSpeedValue: 1/250
- WhiteBalance: Auto
- ICC-header
- IFD0
- Make: Canon
- Model: Canon EOS 40D
- ModifyDate: 2010:01:24 13:34:55
- XMP-aux
- Firmware: 1.1.1
- FlashCompensation: 0
- ImageNumber: 0
- Lens: EF24-105mm f/4L IS USM
- LensInfo: 24/1 105/1 0/0 0/0
- SerialNumber: 1020513831
- XMP-crs
- AlreadyApplied: True
- BlueHue: 0
- BlueSaturation: 0
- Brightness: +51
- CameraProfile: ACR 4.4
- ChromaticAberrationB: 0
- ChromaticAberrationR: 0
- Clarity: 0
- ColorNoiseReduction: 25
- Contrast: +52
- ConvertToGrayscale: False
- CropAngle: 0
- CropBottom: 0.924007
- CropLeft: 0.010369
- CropRight: 0.982719
- CropTop: 0.003454
- Defringe: 0
- Exposure: 0.00
- FillLight: 10
- GreenHue: 0
- GreenSaturation: 0
- HasCrop: True
- HasSettings: True
- HighlightRecovery: 6
- HueAdjustmentAqua: 0
- HueAdjustmentBlue: 0
- HueAdjustmentGreen: 0
- HueAdjustmentMagenta: 0
- HueAdjustmentOrange: 0
- HueAdjustmentPurple: 0
- HueAdjustmentRed: 0
- HueAdjustmentYellow: 0
- LuminanceAdjustmentAqua: 0
- LuminanceAdjustmentBlue: 0
- LuminanceAdjustmentGreen: 0
- LuminanceAdjustmentMagenta: 0
- LuminanceAdjustmentOrange: 0
- LuminanceAdjustmentPurple: 0
- LuminanceAdjustmentRed: 0
- LuminanceAdjustmentYellow: 0
- LuminanceSmoothing: 0
- ParametricDarks: 0
- ParametricHighlightSplit: 75
- ParametricHighlights: 0
- ParametricLights: 0
- ParametricMidtoneSplit: 50
- ParametricShadowSplit: 25
- ParametricShadows: 0
- PostCropVignetteAmount: 0
- RawFileName: IMG_1435.CR2
- RedHue: 0
- RedSaturation: 0
- Saturation: 0
- SaturationAdjustmentAqua: 0
- SaturationAdjustmentBlue: 0
- SaturationAdjustmentGreen: 0
- SaturationAdjustmentMagenta: 0
- SaturationAdjustmentOrange: 0
- SaturationAdjustmentPurple: 0
- SaturationAdjustmentRed: 0
- SaturationAdjustmentYellow: 0
- ShadowTint: 0
- Shadows: 6
- SharpenDetail: 25
- SharpenEdgeMasking: 0
- SharpenRadius: +1.0
- Sharpness: 25
- SplitToningBalance: 0
- SplitToningHighlightHue: 0
- SplitToningHighlightSaturation: 0
- SplitToningShadowHue: 0
- SplitToningShadowSaturation: 0
- Temperature: 4650
- Tint: +5
- ToneCurve: 0, 0, 32, 22, 64, 56, 128, 128, 192, 196, 255, 255
- ToneCurveName: Medium Contrast
- Version: 5.0
- Vibrance: 0
- VignetteAmount: 0
- WhiteBalance: As Shot
- XMP-exif
- DateTimeDigitized: 2010:01:24 11:48:29.01+03:00
- DateTimeOriginal: 2010:01:24 11:48:29.01+03:00
- ExifImageHeight: 2386
- ExifImageWidth: 3780
- FlashFired: False
- FlashFunction: False
- FlashMode: Off
- FlashRedEyeMode: False
- FlashReturn: No return detection
- XMP-tiff
- ImageHeight: 2386
- ImageWidth: 3780
- XMP-xmp
- CreateDate: 2010:01:24 11:48:29.01+03:00
- ModifyDate: 2010:01:24 13:34:55+03:00
- Просмотров: 211
- Рейтинг: голосов еще нет
- Отзывов: отключены
Получить код для блога
| Вставка фотографии в текущем разрешении |
Вставка миниатюры |
HTML (для вставки в блог):
BBCode (для вставки в форум):
Ссылка на фото:
Ссылка на миниатюру:
- Послать ссылку другу
| Комментарии к фотографии |