| » Участники » pollitra » Бося » DSC_0785.jpg |
Уважаемые друзья и участники проекта iXBT.photo! К сожалению, 1 марта 2026 года проект iXBT.photo прекратит свою работу и будет закрыт. Мы высоко ценим ваше участие и тот вклад, который вы внесли в развитие нашего сообщества. Пожалуйста, не забудьте сохранить ваши фотографии до этой даты.
С уважением, команда iXBT.com
| DSC_0785.jpg |
DSC_0785.jpg
- Раздел: Животные
- Дата съёмки: 05.02.2010 12:57
- Дата загрузки фото: 07.02.2010 20:28
- Оригинальная фотография: 2837 x 4272 (1,5 Мб)
- Технические характеристики:
- Фотоаппарат: Nikon D90
- Выдержка: 1/125
- Гиперфокальное расстояние: 199,60 m
- Диафрагма: 1,8
- Светочувствительность: 500
- Фокусное расстояние: 85,0 mm (35 mm equivalent: 127,0 mm)
- Полный EXIF
- Adobe
- ColorTransform: YCbCr
- Composite
- Aperture: 1,8
- CircleOfConfusion: 0,020 mm
- FOV: 16,0 deg
- FocalLength35efl: 85,0 mm (35 mm equivalent: 127,0 mm)
- HyperfocalDistance: 199,60 m
- ScaleFactor35efl: 1,5
- ShutterSpeed: 1/125
- ExifIFD
- ApertureValue: 1,8
- CFAPattern: [Green,Blue][Red,Green]
- Contrast: Normal
- CreateDate: 2010:02:05 12:57:06
- CustomRendered: Normal
- DateTimeOriginal: 2010:02:05 12:57:06
- DigitalZoomRatio: 1
- ExposureCompensation: 0
- ExposureMode: Auto
- ExposureProgram: Shutter speed priority AE
- ExposureTime: 1/125
- FNumber: 1,8
- Flash: No Flash
- FocalLength: 85,0 mm
- FocalLengthIn35mmFormat: 127 mm
- GainControl: Low gain up
- ISO: 500
- LightSource: Unknown
- MaxApertureValue: 1,7
- MeteringMode: Center-weighted average
- Saturation: Normal
- SceneCaptureType: Standard
- SceneType: Directly photographed
- SensingMethod: One-chip color area
- Sharpness: Hard
- ShutterSpeedValue: 1/125
- SubjectDistance: 6,31 m
- SubjectDistanceRange: Unknown
- WhiteBalance: Auto
- ICC-header
- IFD0
- Make: NIKON CORPORATION
- Model: NIKON D90
- ModifyDate: 2010:02:05 11:35:36
- Software: Nikon Transfer 1.0 W
- IFD1
- XMP-aux
- ImageNumber: 804
- Lens: 85.0 mm f/1.8
- LensID: 21
- LensInfo: 85/1 85/1 18/10 18/10
- SerialNumber: 5653274
- XMP-crs
- AlreadyApplied: True
- BlueHue: 0
- BlueSaturation: 0
- Brightness: +50
- CameraProfile: Camera Portrait
- ChromaticAberrationB: 0
- ChromaticAberrationR: 0
- Clarity: +8
- ColorNoiseReduction: 25
- Contrast: +29
- ConvertToGrayscale: False
- CropAngle: 0.143239
- CropBottom: 1
- CropLeft: 0.002702
- CropRight: 0.997298
- CropTop: 0
- Defringe: 0
- Exposure: +0.05
- FillLight: 6
- GreenHue: 0
- GreenSaturation: 0
- HasCrop: True
- HasSettings: True
- HighlightRecovery: 4
- HueAdjustmentAqua: 0
- HueAdjustmentBlue: 0
- HueAdjustmentGreen: 0
- HueAdjustmentMagenta: 0
- HueAdjustmentOrange: 0
- HueAdjustmentPurple: 0
- HueAdjustmentRed: 0
- HueAdjustmentYellow: 0
- LuminanceAdjustmentAqua: 0
- LuminanceAdjustmentBlue: 0
- LuminanceAdjustmentGreen: 0
- LuminanceAdjustmentMagenta: 0
- LuminanceAdjustmentOrange: 0
- LuminanceAdjustmentPurple: 0
- LuminanceAdjustmentRed: 0
- LuminanceAdjustmentYellow: 0
- LuminanceSmoothing: 0
- ParametricDarks: 0
- ParametricHighlightSplit: 75
- ParametricHighlights: 0
- ParametricLights: 0
- ParametricMidtoneSplit: 50
- ParametricShadowSplit: 25
- ParametricShadows: 0
- PostCropVignetteAmount: 0
- RawFileName: DSC_0785.NEF
- RedHue: 0
- RedSaturation: 0
- Saturation: +3
- SaturationAdjustmentAqua: 0
- SaturationAdjustmentBlue: 0
- SaturationAdjustmentGreen: 0
- SaturationAdjustmentMagenta: 0
- SaturationAdjustmentOrange: 0
- SaturationAdjustmentPurple: 0
- SaturationAdjustmentRed: 0
- SaturationAdjustmentYellow: 0
- ShadowTint: 0
- Shadows: 6
- SharpenDetail: 33
- SharpenEdgeMasking: 59
- SharpenRadius: +0.7
- Sharpness: 0
- SplitToningBalance: 0
- SplitToningHighlightHue: 0
- SplitToningHighlightSaturation: 0
- SplitToningShadowHue: 0
- SplitToningShadowSaturation: 0
- Temperature: 4100
- Tint: -15
- ToneCurve: 0, 0, 32, 22, 64, 56, 128, 128, 192, 196, 255, 255
- ToneCurveName: Medium Contrast
- Version: 5.6
- Vibrance: 0
- VignetteAmount: 0
- WhiteBalance: As Shot
- XMP-exif
- DateTimeDigitized: 2010:02:05 12:57:06.00+03:00
- DateTimeOriginal: 2010:02:05 12:57:06.00+03:00
- ExifImageHeight: 4272
- ExifImageWidth: 2837
- FlashFired: False
- FlashFunction: False
- FlashMode: Unknown
- FlashRedEyeMode: False
- FlashReturn: No return detection
- XMP-microsoft
- XMP-tiff
- ImageHeight: 4272
- ImageWidth: 2837
- XMP-xmp
- CreateDate: 2010:02:05 12:57:06.00+03:00
- CreatorTool: Nikon Transfer 1.0 W
- ModifyDate: 2010:02:05 11:35:36Z
- Rating: 0
- Просмотров: 376
- Рейтинг: голосов еще нет
- Отзывов: 0
Получить код для блога
| Вставка фотографии в текущем разрешении |
Вставка миниатюры |
HTML (для вставки в блог):
BBCode (для вставки в форум):
Ссылка на фото:
Ссылка на миниатюру:
- Послать ссылку другу
| Комментарии к фотографии |