Уважаемые друзья и участники проекта iXBT.photo! К сожалению, 5 марта 2026 года проект iXBT.photo прекратит свою работу и будет закрыт. Мы высоко ценим ваше участие и тот вклад, который вы внесли в развитие нашего сообщества. Пожалуйста, не забудьте сохранить ваши фотографии до этой даты.
С уважением, команда iXBT.com
| IMG_8764.jpg |
IMG_8764.jpg
- Раздел: Активный отдых, туризм
- Дата съёмки: 29.01.2007 15:56
- Дата загрузки фото: 02.02.2007 12:45
- Оригинальная фотография: 900 x 621 (157 Кб)
- Технические характеристики:
- Фотоаппарат: Canon EOS 5D
- Выдержка: 1/8
- Гиперфокальное расстояние: 148,74 m
- Диафрагма: 2,8
- Светочувствительность: 400
- Фокусное расстояние: 51,0mm (35mm эквивалент: 245,4mm)
- Экспокоррекция: -1
- Полный EXIF
- ColorTransform: YCbCr
- Composite
- Aperture: 2,8
- CircleOfConfusion: 0,006 mm
- EV: 4,0
- FocalLength35efl: 51,0mm (35mm equivalent: 245,4mm)
- HyperfocalDistance: 148,74 m
- ScaleFactor35efl: 4,8
- ShutterSpeed: 1/8
- ExifIFD
- ApertureValue: 2,8
- ColorSpace: sRGB
- CreateDate: 2007:01:28 18:20:27
- CustomRendered: Normal
- DateTimeOriginal: 2007:01:28 18:20:27
- ExifImageLength: 621
- ExifImageWidth: 900
- ExposureCompensation: -1
- ExposureMode: Auto
- ExposureProgram: Aperture-priority AE
- ExposureTime: 1/8
- FNumber: 2,8
- Flash: Off
- FocalLength: 51,0mm
- ISO: 400
- MaxApertureValue: 2,8
- MeteringMode: Unknown (0)
- SceneCaptureType: Standard
- ShutterSpeedValue: 1/8
- WhiteBalance: Auto
- ICC-header
- ICC-meas
- ICC-view
- IFD0
- Artist: badnight
- Make: Canon
- Model: Canon EOS 5D
- ModifyDate: 2007:01:29 15:56:58
- Orientation: Horizontal (normal)
- IFD1
- IPTC
- By-line: badnight
- XMP-aux
- Firmware: 1.0.5
- FlashCompensation: 0
- ImageNumber: 69
- Lens: EF24-70mm f/2.8L USM
- LensInfo: 24
- OwnerName: badnight
- SerialNumber: 1130701913
- XMP-crs
- AlreadyApplied: True
- AutoGrayscaleWeights: True
- BlueHue: 0
- BlueSaturation: 0
- Brightness: +18
- CameraProfile: ACR 3.3
- ChromaticAberrationB: 0
- ChromaticAberrationR: 0
- ColorNoiseReduction: 25
- Contrast: +84
- ConvertToGrayscale: False
- Exposure: +0.05
- FillLight: 63
- GreenHue: 0
- GreenSaturation: 0
- HasCrop: False
- HasSettings: True
- HighlightRecovery: 46
- HueAdjustmentAqua: 0
- HueAdjustmentBlue: 0
- HueAdjustmentGreen: 0
- HueAdjustmentMagenta: 0
- HueAdjustmentOrange: 0
- HueAdjustmentPurple: 0
- HueAdjustmentRed: 0
- HueAdjustmentYellow: 0
- LuminanceAdjustmentAqua: 0
- LuminanceAdjustmentBlue: 0
- LuminanceAdjustmentGreen: 0
- LuminanceAdjustmentMagenta: 0
- LuminanceAdjustmentOrange: 0
- LuminanceAdjustmentPurple: 0
- LuminanceAdjustmentRed: 0
- LuminanceAdjustmentYellow: 0
- LuminanceSmoothing: 0
- ParametricDarks: 0
- ParametricHighlightSplit: 75
- ParametricHighlights: 0
- ParametricLights: 0
- ParametricMidtoneSplit: 50
- ParametricShadowSplit: 25
- ParametricShadows: 0
- RawFileName: IMG_8764.CR2
- RedHue: 0
- RedSaturation: 0
- Saturation: +6
- SaturationAdjustmentAqua: 0
- SaturationAdjustmentBlue: 0
- SaturationAdjustmentGreen: 0
- SaturationAdjustmentMagenta: 0
- SaturationAdjustmentOrange: 0
- SaturationAdjustmentPurple: 0
- SaturationAdjustmentRed: 0
- SaturationAdjustmentYellow: 0
- ShadowTint: 0
- Shadows: 5
- Sharpness: 50
- SplitToningBalance: 0
- SplitToningHighlightHue: 0
- SplitToningHighlightSaturation: 0
- SplitToningShadowHue: 0
- SplitToningShadowSaturation: 0
- Temperature: 9100
- Tint: 0
- ToneCurve: 0, 0, 32, 22, 64, 56, 128, 128, 192, 196, 255, 255
- ToneCurveName: Medium Contrast
- Version: 4.0x168
- Vibrance: +17
- VignetteAmount: 0
- WhiteBalance: Custom
- XMP-dc
- Creator: badnight
- Format: image/jpeg
- XMP-exif
- DateTimeDigitized: 2007:01:28 18:20:27+03:00
- DateTimeOriginal: 2007:01:28 18:20:27+03:00
- ExifImageHeight: 621
- FlashFired: False
- FlashFunction: False
- FlashMode: Off
- FlashRedEyeMode: False
- FlashReturn: No return detection
- XMP-tiff
- XMP-xmp
- CreateDate: 2007:01:29 15:56:58+03:00
- ModifyDate: 2007:01:29 15:56:58+03:00
- Rating: 0
- XMP-xmpMM
- Просмотров: 349
- Рейтинг: голосов еще нет
- Отзывов: 0
Получить код для блога
| Вставка фотографии в текущем разрешении |
Вставка миниатюры |
HTML (для вставки в блог):
BBCode (для вставки в форум):
Ссылка на фото:
Ссылка на миниатюру:
- Послать ссылку другу
| Комментарии к фотографии |