Уважаемые друзья и участники проекта iXBT.photo! К сожалению, 5 марта 2026 года проект iXBT.photo прекратит свою работу и будет закрыт. Мы высоко ценим ваше участие и тот вклад, который вы внесли в развитие нашего сообщества. Пожалуйста, не забудьте сохранить ваши фотографии до этой даты.
С уважением, команда iXBT.com
| IMG_8981.jpg |
IMG_8981.jpg
- Раздел: Другое, разное
- Дата съёмки: 04.02.2007 11:52
- Дата загрузки фото: 04.02.2007 16:47
- Оригинальная фотография: 997 x 700 (176 Кб)
- Технические характеристики:
- Фотоаппарат: Canon EOS 5D
- Выдержка: 1/200
- Гиперфокальное расстояние: 251,52 m
- Диафрагма: 2,8
- Светочувствительность: 100
- Фокусное расстояние: 70,0mm (35mm эквивалент: 302,3mm)
- Полный EXIF
- ColorTransform: YCbCr
- Composite
- Aperture: 2,8
- CircleOfConfusion: 0,007 mm
- EV: 10,6
- FocalLength35efl: 70,0mm (35mm equivalent: 302,3mm)
- HyperfocalDistance: 251,52 m
- ScaleFactor35efl: 4,3
- ShutterSpeed: 1/200
- ExifIFD
- ApertureValue: 2,8
- ColorSpace: sRGB
- CreateDate: 2007:02:03 18:14:55
- CustomRendered: Normal
- DateTimeOriginal: 2007:02:03 18:14:55
- ExifImageLength: 700
- ExifImageWidth: 997
- ExposureCompensation: 0
- ExposureMode: Auto
- ExposureProgram: Aperture-priority AE
- ExposureTime: 1/200
- FNumber: 2,8
- Flash: On
- FocalLength: 70,0mm
- ISO: 100
- MaxApertureValue: 2,8
- MeteringMode: Unknown (0)
- SceneCaptureType: Standard
- ShutterSpeedValue: 1/200
- WhiteBalance: Auto
- ICC-header
- ICC-meas
- ICC-view
- IFD0
- Artist: badnight
- Make: Canon
- Model: Canon EOS 5D
- ModifyDate: 2007:02:04 11:52:06
- Orientation: Horizontal (normal)
- IFD1
- IPTC
- By-line: badnight
- XMP-aux
- Firmware: 1.0.5
- FlashCompensation: 0,666666666666667
- ImageNumber: 12
- Lens: EF24-70mm f/2.8L USM
- LensInfo: 24
- OwnerName: badnight
- SerialNumber: 1130701913
- XMP-crs
- AlreadyApplied: True
- AutoGrayscaleWeights: True
- BlueHue: 0
- BlueSaturation: 0
- Brightness: +53
- CameraProfile: ACR 3.3
- ChromaticAberrationB: 0
- ChromaticAberrationR: 0
- ColorNoiseReduction: 25
- Contrast: +71
- ConvertToGrayscale: False
- CropAngle: 0
- CropBottom: 1
- CropLeft: 0
- CropRight: 0.865152
- CropTop: 0.088636
- Exposure: +0.35
- FillLight: 20
- GreenHue: 0
- GreenSaturation: 0
- HasCrop: True
- HasSettings: True
- HighlightRecovery: 5
- HueAdjustmentAqua: 0
- HueAdjustmentBlue: 0
- HueAdjustmentGreen: 0
- HueAdjustmentMagenta: 0
- HueAdjustmentOrange: 0
- HueAdjustmentPurple: 0
- HueAdjustmentRed: 0
- HueAdjustmentYellow: 0
- LuminanceAdjustmentAqua: 0
- LuminanceAdjustmentBlue: 0
- LuminanceAdjustmentGreen: 0
- LuminanceAdjustmentMagenta: 0
- LuminanceAdjustmentOrange: 0
- LuminanceAdjustmentPurple: 0
- LuminanceAdjustmentRed: 0
- LuminanceAdjustmentYellow: 0
- LuminanceSmoothing: 0
- ParametricDarks: 0
- ParametricHighlightSplit: 75
- ParametricHighlights: 0
- ParametricLights: 0
- ParametricMidtoneSplit: 50
- ParametricShadowSplit: 25
- ParametricShadows: 0
- RawFileName: IMG_8981.CR2
- RedHue: 0
- RedSaturation: -5
- Saturation: +5
- SaturationAdjustmentAqua: 0
- SaturationAdjustmentBlue: 0
- SaturationAdjustmentGreen: 0
- SaturationAdjustmentMagenta: 0
- SaturationAdjustmentOrange: 0
- SaturationAdjustmentPurple: 0
- SaturationAdjustmentRed: 0
- SaturationAdjustmentYellow: 0
- ShadowTint: 0
- Shadows: 3
- Sharpness: 50
- SplitToningBalance: 0
- SplitToningHighlightHue: 0
- SplitToningHighlightSaturation: 0
- SplitToningShadowHue: 0
- SplitToningShadowSaturation: 0
- Temperature: 4500
- Tint: +2
- ToneCurve: 0, 0, 32, 22, 64, 56, 128, 128, 192, 196, 255, 255
- ToneCurveName: Medium Contrast
- Version: 4.0x168
- Vibrance: +19
- VignetteAmount: 0
- WhiteBalance: Custom
- XMP-dc
- Creator: badnight
- Format: image/jpeg
- XMP-exif
- DateTimeDigitized: 2007:02:03 18:14:55+03:00
- DateTimeOriginal: 2007:02:03 18:14:55+03:00
- ExifImageHeight: 700
- FlashFired: True
- FlashFunction: False
- FlashMode: On
- FlashRedEyeMode: False
- FlashReturn: No return detection
- XMP-tiff
- XMP-xmp
- CreateDate: 2007:02:04 11:52:06+03:00
- ModifyDate: 2007:02:04 11:52:06+03:00
- Rating: 0
- XMP-xmpMM
- Просмотров: 353
- Рейтинг: голосов еще нет
- Отзывов: 0
Получить код для блога
| Вставка фотографии в текущем разрешении |
Вставка миниатюры |
HTML (для вставки в блог):
BBCode (для вставки в форум):
Ссылка на фото:
Ссылка на миниатюру:
- Послать ссылку другу
| Комментарии к фотографии |